{"text_format":"1","workbook":"xlsx","n_sheets":15,"sheets":["Inicio","Cuadro mando","Generacion","Potencia","Demanda","Red_de_transporte","AVISO LEGAL","generacion_bruta","Potencias","demandas","datos_genanual","datos_RdT","EVOLUCION_RdT","Año","datos_anual"],"not_rendered":{"charts":20,"images":6,"macros":1,"external_links":0,"defined_names":3,"comments":7,"pivot_tables":0},"unopened":[],"bounds":{"document_bytes":16777216,"sheet_cells":100000,"rows_first":2000,"rows_last":500,"rows_between":2000,"halvings":0,"cell_chars":16384,"cell_head_chars":4096},"cells_cut":0,"cells_raw":0,"read":"whole","date_system":"1900"}

{"sheet":"Inicio","index":0,"n_rows":3,"n_cols":15,"rows_kept":3,"cut":false,"hidden":false,"merged":[[3,2,3,7]]}
[null,null,null,null,null,null,null,null,null,null,null,null,null,null,6]
[null,null,null,"Indicadores Sistema Eléctrico CCAA",null,null,null,null,"www.ree.es"]
[null,null,null,null,null,null,null,null,"Fecha de actualización:",null,"2018-06-14"]

{"sheet":"Cuadro mando","index":1,"n_rows":45,"n_cols":9,"rows_kept":45,"cut":false,"hidden":false,"merged":[[2,0,2,9],[6,1,6,5],[25,7,25,12],[6,7,6,12],[25,0,25,6]]}
[]
[]
["Principales Indicadores Madrid 2017"]
[]
[]
[]
[null,"GENERACIÓN",null,null,null,null,null,"DEMANDA B.C."]
[]
[]
[]
[]
[]
[]
[]
[]
[]
[]
[]
[]
[]
[]
[]
[]
[]
[]
["POTENCIA INSTALADA",null,null,null,null,null,null,"RED DE TRANSPORTE1"]
[]
[]
[]
[]
[]
[]
[]
[]
[]
[]
[]
[]
[]
[]
[]
[]
[]
[]
[null,null,null,null,null,null,null,"  ","  (1) km líneas de la Red de Transporte"]

{"sheet":"Generacion","index":2,"n_rows":29,"n_cols":8,"rows_kept":29,"cut":false,"hidden":false,"merged":[[28,1,28,5],[27,7,27,12],[6,7,6,12],[1,1,1,6],[6,1,6,5],[2,0,2,9]]}
[]
[]
["Generación Madrid 2017"]
[]
[]
[]
[null,"BALANCE  (GWh)",null,null,null,null,null,"ESTRUCTURA DE LA GENERACIÓN"]
[null,"Balance",null,{"$f":"generacion_bruta!Q137","v":"Madrid"},"España","% del total"]
[null,"Hidráulica",null,{"$f":"generacion_bruta!Q139","v":135.68231056841577},{"$f":"generacion_bruta!V139","v":18363.781489036006},{"$f":"IF(OR(E9=0,D9=0),\"-\",D9*100/E9)","v":0.73885822835250003}]
[null,"Turbinación bombeo",null,{"$f":"generacion_bruta!Q140","v":0},{"$f":"generacion_bruta!V140","v":2248.9938579639997},{"$f":"IF(OR(E10=0,D10=0),\"-\",D10*100/E10)","v":"-"}]
[null,"Nuclear ",null,{"$f":"generacion_bruta!Q141","v":0},{"$f":"generacion_bruta!V141","v":55608.922000000006},"-"]
[null,"Carbón ",null,{"$f":"generacion_bruta!Q142","v":0},{"$f":"generacion_bruta!V142","v":45196.265999999996},"-"]
[null,"Fuel / gas ",null,{"$f":"generacion_bruta!Q143","v":0},{"$f":"generacion_bruta!V143","v":7011.067},"-"]
[null,"Ciclo combinado ",null,{"$f":"generacion_bruta!Q144","v":0},{"$f":"generacion_bruta!V144","v":37296.487000000001},"-"]
[null,"Hidroeólica",null,{"$f":"generacion_bruta!Q145","v":0},{"$f":"generacion_bruta!V145","v":20.398516000000001},"-"]
[null,"Eólica",null,{"$f":"generacion_bruta!Q146","v":0},{"$f":"generacion_bruta!V146","v":47897.009933999994},"-"]
[null,"Solar fotovoltaica",null,{"$f":"generacion_bruta!Q147","v":91.853569999999991},{"$f":"generacion_bruta!V147","v":8385.0367379999989},1.0954462439470354]
[null,"Solar térmica",null,{"$f":"generacion_bruta!Q148","v":0},{"$f":"generacion_bruta!V148","v":5347.9508860000005},"-"]
[null,"Otras renovables",null,{"$f":"generacion_bruta!Q149","v":150.12538700000002},{"$f":"generacion_bruta!V149","v":3614.1037890000002},4.1538759195827843]
[null,"Cogeneración",null,{"$f":"generacion_bruta!Q150","v":704.23902400000009},{"$f":"generacion_bruta!V150","v":28170.445331999996},2.4999215159727179]
[null,"Residuos no renovables",null,{"$f":"generacion_bruta!Q151","v":70.703084500000003},{"$f":"generacion_bruta!V151","v":2607.6679460000005},2.7113530543048672]
[null,"Residuos renovables",null,{"$f":"generacion_bruta!Q152","v":70.703084500000003},{"$f":"generacion_bruta!V152","v":877.00608700000009},8.0618693014841067]
[null,"Generación neta ",null,{"$f":"generacion_bruta!Q153","v":1223.3064605684158},{"$f":"generacion_bruta!V153","v":262645.13657500001},{"$f":"IF(OR(E23=0,D23=0),\"-\",D23*100/E23)","v":0.46576398730272806}]
[null,"Consumos en bombeo",null,{"$f":"generacion_bruta!Q154","v":0},{"$f":"generacion_bruta!V154","v":-3675.239},{"$f":"IF(OR(E24=0,D24=0),\"-\",D24*100/E24)","v":"-"}]
[null,"Saldo Intercambios",null,{"$f":"generacion_bruta!Q155","v":27544.339992875521},{"$f":"generacion_bruta!V155","v":9170.5802699999676},"-"]
[null,"Demanda B.C",null,{"$f":"generacion_bruta!Q156","v":28767.646453443936},{"$f":"generacion_bruta!V156","v":268140.47784499999},{"$f":"IF(OR(E26=0,D26=0),\"-\",D26*100/E26)","v":10.728572830422577}]
[]
[null,null,null,null,null,null,null,"GENERACIÓN RENOVABLE Y NO RENOVABLE"]
[null,"EVOLUCIÓN DE LA GENERACIÓN NETA"]

{"sheet":"Potencia","index":3,"n_rows":46,"n_cols":8,"rows_kept":46,"cut":false,"hidden":false,"merged":[[45,1,45,12],[1,1,1,6],[6,7,6,12],[27,7,27,12],[2,0,2,9],[27,1,27,6],[6,1,6,6]]}
[]
[]
["Potencia Madrid 2017"]
[]
[]
[]
[null,"BALANCE DE POTENCIA INSTALADA (MW)",null,null,null,null,null,"VARIACIONES DE LA POTENCIA INSTALADA"]
[]
[null,null,null,{"$f":"Potencias!Q102","v":"Madrid"},"España","% del total"]
[null,"Bombeo puro",null,{"$f":"Potencias!Q103","v":0},{"$f":"Potencias!V103","v":3328.8900000000003},{"$f":"IF(OR(E10=0,D10=0),\"-\",IF(D10*100/E10>200,\"-\",D10*100/E10))","v":"-"}]
[null,"Hidráulica",null,{"$f":"Potencias!Q104","v":108.51659999999998},{"$f":"Potencias!V104","v":17031.594629999996},{"$f":"IF(OR(E11=0,D11=0,),\"-\",IF(D11*100/E11>200,\"-\",D11*100/E11))","v":0.63714879526815049}]
[null,"Nuclear ",null,{"$f":"Potencias!Q105","v":0},{"$f":"Potencias!V105","v":7117.29},{"$f":"IF(OR(E12=0,D12=0),\"-\",IF(D12*100/E12>200,\"-\",D12*100/E12))","v":"-"}]
[null,"Carbón ",null,{"$f":"Potencias!Q106","v":0},{"$f":"Potencias!V106","v":10004.269999999999},"-"]
[null,"Fuel / gas ",null,{"$f":"Potencias!Q107","v":0},{"$f":"Potencias!V107","v":2490.06},"-"]
[null,"Ciclo combinado ",null,{"$f":"Potencias!Q108","v":0},{"$f":"Potencias!V108","v":26669.86},"-"]
[null,"Hidroeólica",null,{"$f":"Potencias!Q109","v":0},{"$f":"Potencias!V109","v":11.39},"-"]
[null,"Eólica",null,{"$f":"Potencias!Q110","v":0},{"$f":"Potencias!V110","v":23132.080249999995},"-"]
[null,"Solar fotovoltaica",null,{"$f":"Potencias!Q111","v":63.537581000000337},{"$f":"Potencias!V111","v":4686.6094680001333},1.3557259557006154]
[null,"Solar térmica",null,{"$f":"Potencias!Q112","v":0},{"$f":"Potencias!V112","v":2304.1129999999998},"-"]
[null,"Otras renovables",null,{"$f":"Potencias!Q113","v":42.584000000000003},{"$f":"Potencias!V113","v":858.15199999999993},4.9622910626555683]
[null,"Cogeneración",null,{"$f":"Potencias!Q114","v":212.05190000000002},{"$f":"Potencias!V114","v":5828.4740100000008},3.6382061520078732]
[null,"Residuos renovables",null,{"$f":"Potencias!Q115","v":16.149999999999999},{"$f":"Potencias!V115","v":161.52550000000002},9.9984213018996968]
[null,"Residuos no renovables",null,{"$f":"Potencias!Q116","v":16.149999999999999},{"$f":"Potencias!V116","v":497.3895},3.24695233815752]
[null,"Total 2017",null,{"$f":"Potencias!Q117","v":458.99008100000026},{"$f":"Potencias!V117","v":104121.69835800014},0.44082077822228877," "]
[null,"Total 2016",null,{"$f":"Potencias!Q97","v":459.0247820000003},{"$f":"Potencias!V97","v":104663.52400900015}]
[null,"Δ 2017/2016",null,{"$f":"IF(D25=\"-\",\"-\",(D24/D25-1))","v":-7.559722559824511E-5},{"$f":"IF(E25=\"-\",\"-\",(E24/E25-1))","v":-5.1768336307251861E-3}]
[]
[null,"EVOLUCIÓN DE LA POTENCIA INSTALADA (MW)",null,null,null,null,null,"ESTRUCTURA DE LA POTENCIA INSTALADA"]
[]
[]
[]
[]
[]
[]
[]
[" "]
[]
[]
[]
[]
[]
[]
[]
[]
[]
[null,"Fuente: Comisión Nacional de los Mercados y la Competencia (CNMC) hasta 2014 en: hidráulica (no UGH), eólica, solar, otras renovables y cogeneración y residuos"]

{"sheet":"Demanda","index":4,"n_rows":26,"n_cols":8,"rows_kept":26,"cut":false,"hidden":false,"merged":[[1,1,1,6],[6,7,6,12],[25,7,25,12],[2,0,2,9],[6,1,6,6],[25,1,25,6]]}
[]
[]
["Demanda Madrid 2017"]
[]
[]
[]
[null,"EVOLUCIÓN DE LA DEMANDA ",null,null,null,null,null,"VARIACIÓN DE LA DEMANDA"]
[]
[]
[]
[]
[]
[]
[]
[]
[]
[]
[]
[]
[]
[]
[]
[]
[]
[]
[null,"GENERACIÓN NETA C.A. vs. DEMANDA C.A.",null,null,null,null,null,"% DEMANDA C.A. vs. DEMANDA NACIONAL"]

{"sheet":"Red_de_transporte","index":5,"n_rows":26,"n_cols":8,"rows_kept":26,"cut":false,"hidden":false,"merged":[[1,1,1,6],[6,1,6,5],[6,7,6,12],[25,1,25,5],[25,7,25,12],[2,0,2,9]]}
[]
[]
["Red de transporte Madrid 2017"]
[]
[]
[]
[null,"RED DE TRANSPORTE",null,null,null,null,null,"VARIACIONES DE LA RdT"]
[]
[]
[]
[null,"AÑO 2017",null,{"$f":"datos_RdT!Q72","v":"Madrid"},"  España ","% del total "]
[null,"  km circuitos   400 kV ",null,{"$f":"datos_RdT!Q73","v":942.10002565760908},{"$f":"datos_RdT!V73","v":21728.16840000001},{"$f":"D12*100/E12","v":4.3358464842237172}]
[null,"  km circuitos   220 kV ",null,{"$f":"datos_RdT!Q74","v":1177.3799999999999},{"$f":"datos_RdT!V74","v":19616.378844237763},{"$f":"D13*100/E13","v":6.0020251920545}]
[null,"  km circuitos <220 kV ",null,{"$f":"datos_RdT!Q75","v":0},{"$f":"datos_RdT!V75","v":2585.6860000000001},0]
[null,"km circuitos",null,{"$f":"datos_RdT!Q76","v":2119.4800256576091},{"$f":"datos_RdT!V76","v":43930.233244237774},4.8246500624615205]
[null,"  Posiciones     400 kV ",null,{"$f":"datos_RdT!Q78","v":104},{"$f":"datos_RdT!V78","v":1484},{"$f":"D16*100/E16","v":7.0080862533692718}]
[null,"  Posiciones     220 kV ",null,{"$f":"datos_RdT!Q79","v":523},{"$f":"datos_RdT!V79","v":3291},{"$f":"D17*100/E17","v":15.891826192646612}]
[null,"  Posiciones   <220 kV ",null,{"$f":"datos_RdT!Q80","v":0},{"$f":"datos_RdT!V80","v":944},0]
[null,"Posiciones ",null,{"$f":"datos_RdT!Q81","v":627},{"$f":"datos_RdT!V81","v":5719},10.963455149501661]
[null,"Transformadores (MVA)",null,{"$f":"datos_RdT!Q83","v":11548.4},{"$f":"datos_RdT!V83","v":86654.474999999991},13.326951666373839]
[]
[null,"Incluye los activos de la red de transporte del resto de empresas."]
[]
[]
[]
[null,"EVOLUCIÓN DE LA RdT",null,null,null,null,null,"% km LÍNEAS C.A. vs. KILÓMETROS TOTALES"]

{"sheet":"AVISO LEGAL","index":6,"n_rows":0,"n_cols":0,"rows_kept":0,"cut":false,"hidden":false,"merged":[]}

{"sheet":"generacion_bruta","index":7,"n_rows":161,"n_cols":36,"rows_kept":161,"cut":false,"hidden":true,"merged":[]}
[null,2012,null,null,null,null,null,null,null,null,null,null,null,null,null,null,null,null,null,null,null,null,null,null,null,null,"Andalucía","Aragón","Asturias, Principado de","Cantabria","Castilla - La Mancha","Castilla y León","Cataluña","Comunitat Valenciana","Extremadura","Galicia"]
[null,"CCAA","Andalucía","Aragón","Asturias","Baleares","C. Valenciana","Canarias","Cantabria","Castilla-La Mancha","Castilla y León","Cataluña","Ceuta","Extremadura","Galicia","La Rioja","Madrid","Melilla","Murcia","Navarra","País Vasco","España","PENINSULAR","NO PENINSULAR",null,null,309.25779369600002,260.21164300000004,35.558962600000001,575.40194900000006,102.59608,710.77451016999999,287.26596689600001,822.86881900000003,7.1577256399999998,90.796293699999993]
[]
[null,"Hidráulica",708.12823024314901,2265.7872366774168,1215.6513411426697,0,392.04890251445227,1.7913010000000003,301.97110235436344,690.92367089549748,4859.2501749907715,3314.245442441148,0,1104.4829648371124,4668.2641749225922,123.69396693988554,65.607026996344942,0,108.18707425701834,470.97455648925609,333.21549259632434,{"$f":"SUM(C4:U4)","v":20624.222659298001},{"$f":"V4-F4-H4-M4-R4","v":20622.431358297999},{"$f":"F4+H4+M4+R4","v":1.7913010000000003}]
[null,"Turbinación bombeo",309.25779369600002,260.21164300000004,35.558962600000001,null,822.86881900000003,null,575.40194900000006,102.59608,710.77451016999999,287.26596689600001,null,7.1577256399999998,90.796293699999993,null,null,null,null,null,null,{"$f":"SUM(C5:U5)","v":3201.8897437020005},{"$f":"V5-F5-H5-M5-R5","v":3201.8897437020005},{"$f":"F5+H5+M5+R5","v":0}]
[null,"Nuclear ",0,0,0,0,9015.0619999999999,0,0,7948.4009999999998,3703.47,22950.870999999999,0,15049.183000000001,0,0,0,0,0,0,0,{"$f":"SUM(C6:U6)","v":58666.987000000008},{"$f":"V6-F6-H6-M6-R6","v":58666.987000000008},0]
[null,"Carbón ",10920.123,4836.6360000000004,10061.81,2682.5329999999999,0,0,0,1741.818,10341.323,0,0,0,12248.726000000001,0,0,0,0,0,980.45,53813.419000000002,51130.885999999999,2682.5329999999999]
[null,"Fuel / gas ",0,0,0,1284.5139999999999,0,5386.6469999999999,0,0,0,0,212.07499999999999,0,0,0,0,214.96100000000001,0,0,0,7098.1970000000001,0,7098.1970000000001]
[null,"Ciclo combinado ",9738.8850000000002,940.65099999999995,774.10299999999995,890.56,4774.3879999999999,2877.7710000000002,0,2553.9279999999999,0,8041.259,0,0,1291.607,1311.0820000000001,0,0,3097.9720000000002,832.76700000000005,4175.0240000000003,{"$f":"SUM(C9:U9)","v":41299.996999999996},{"$f":"V9-F9-H9-M9-R9","v":37531.665999999997},{"$f":"F9+H9+M9+R9","v":3768.3310000000001}]
[null,"Hidroeólica",0,0,0,0,0,0,0,0,0,0,0,0,0,0,0,0,0,0,0,{"$f":"SUM(C10:U10)","v":0},{"$f":"V10-F10-H10-M10-R10","v":0},{"$f":"F10+H10+M10+R10","v":0}]
[null,"Eólica",5736.3085949999995,4453.4094860000005,884.39691900000003,6.5046990000000005,2547.6952380000002,361.76732499999997,62.089361999999994,7948.2695899999999,11364.710531999999,2647.569039,0,0,8068.6186040000002,1005.869132,0,0,403.31686399999995,2677.9481930000002,339.864375,{"$f":"SUM(C11:U11)","v":48508.337953000002},{"$f":"V11-F11-H11-M11-R11","v":48140.065929000004},{"$f":"F11+H11+M11+R11","v":368.27202399999999}]
[null,"Solar fotovoltaica",1530.531512,285.43228199999999,0.73396400000000017,115.59326900000001,527.54466600000001,256.51338599999997,2.1365879999999997,1753.1257839999998,832.01289199999985,409.62192199999998,0,1110.4756620000003,17.670514999999998,140.93820200000002,80.340487999999993,8.3113999999999993E-2,792.42207499999995,317.69611599999996,29.217547000000003,{"$f":"SUM(C12:U12)","v":8202.0899840000002},7829.9002150000006,372.18976900000001]
[null,"Solar termoeléctrica",1837.6318939999999,0,0,0,0,0,0,524.68599199999994,0,0.56833500000000003,0,1057.8690019999999,0,0,0,0,23.378823000000001,0,0,{"$f":"SUM(C13:U13)","v":3444.1340459999997},3444.1340459999997,0]
[null,"Otras renovables",1458.2796969999999,316.07290999999998,656.22561100000007,0.56983000000000006,52.936557000000001,8.0504470000000001,16.857637999999998,247.08517900000001,172.33288899999999,256.14881200000002,0,150.31303000000003,597.38521300000002,15.679898999999997,298.03053999999997,0,28.802131999999997,290.99263400000001,189.00736900000001,4754.7703869999996,4746.1501099999996,8.6202769999999997]
[null,"Cogeneración",5795.4123549999995,3260.8027050000001,724.31532700000002,272.07574200000005,2117.8639850000004,0,1669.3213869999997,1356.04973,3326.2084100000006,6185.6930789999988,0,29.920800000000003,2257.7876620000002,167.90174099999999,1226.5214539999999,2.3089580000000001,1959.6794729999997,960.60030799999981,2454.7862180000002,33767.249334000007,33492.864634000005,274.38470000000007]
[null,"Residuos no renovables"]
[null,"Residuos renovables"]
[null,"Generación neta ",{"$f":"SUM(C4:C17)","v":38034.558076939145},{"$f":"SUM(D4:D17)","v":16619.003262677419},14352.795124742668,5252.3505400000004,20250.408167514455,8892.5404590000016,2627.7780263543632,24866.883025895495,35310.082408160772,44093.24259633715,212.07499999999999,18509.402184477112,29240.855462622596,2765.1649409398856,1670.499508996345,217.353072,6413.7584412570177,5550.9788074892567,8501.5650015963256,283381.29410699999,268806.97503599996,14574.319071000004]
[null,"Consumos en bombeo",-434.63200000000001,-351.54199999999997,-52.417999999999999,0,-1114.3420000000001,0,-795.60299999999995,-156.03200000000001,-1401.482,-381.44099999999997,0,-15.193,-319.86399999999998,0,0,0,0,0,0,{"$f":"SUM(C19:U19)","v":-5022.549},-5022.549,0]
[null,"Saldo Intercambios",2108.9369999999999,-6028.7219999999998,-3960.9540000000002,570.25099999999998,7340.41,0,2567.3359999999998,-12690.621999999999,-20179.093000000001,4039.2649999999999,0,-13604.637000000001,-9270.3029999999999,-1032.2829999999999,29330.89,0,2193.3490000000002,-752.15,8168.3720000000003,-11199.954000000009,-11770.205000000009,570.25099999999998]
[null,"Demanda B.C",{"$f":"SUM(C18:C20)","v":39708.863076939146},{"$f":"SUM(D18:D20)","v":10238.73926267742},10339.423124742669,5822.6015400000006,26476.476167514455,8892.5404590000016,4399.5110263543629,12020.229025895496,13729.507408160767,47751.06659633715,212.07499999999999,4889.5721844771124,19650.688462622595,1732.8819409398857,31001.389508996344,217.353072,8607.1074412570179,4798.8288074892571,16669.937001596325,267158.79110699997,252014.22103599994,15144.570071000004]
[null,"Δ2012/2011",-6.6253995304094149E-3,-1.5802294855419285E-2,-5.6577205598954294E-2,1.380968437772756E-2,-2.7527619620950405E-2,2.5145922186580183E-3,-1.63297921417348E-2,1.7293408388667775E-3,1.3985707055680363E-2,-9.2016778426609047E-3,4.4822812436877024E-2,3.63347585851439E-2,-9.5401842400961723E-3,-8.6181621773318007E-3,-1.7518747192757367E-2,1.1383946086305885E-2,3.3936701399665647E-2,-2.9871573105463067E-2,-5.8037027435034916E-2,-1.2822046668117038E-2,-1.4018834752528297E-2,7.5284042133665352E-3]
[null,"Renovable",{"$f":"C4+C10+C11+C12+C13+C14+C17","v":11270.879928243148},{"$f":"D4+D10+D11+D12+D13+D14+D17","v":7320.7019146774173},2757.00783514267,122.667798,3520.2253635144525,628.12245899999982,383.05469035436346,11164.090215895498,17228.306487990772,6628.1535504411486,0,3423.1406588371128,13351.938506922592,1286.1811999398856,443.97805499634489,8.3113999999999993E-2,1356.1069682570183,3757.6114994892564,891.30478359632434,{"$f":"SUM(C23:U23)","v":85533.555029298004},{"$f":"V23-F23-H23-M23-R23","v":84782.68165829801},{"$f":"F23+H23+M23+R23","v":750.87337099999991}]
[null,"No renovable",{"$f":"C5+C6+C7+C8+C9+C15+C16","v":26763.678148696003},{"$f":"D5+D6+D7+D8+D9+D15+D16","v":9298.3013480000009},11595.787289599999,5129.682742,16730.182804,8264.4179999999997,2244.723336,13702.792810000001,18081.775920169999,37465.089045895998,212.07499999999999,15086.26152564,15888.9169557,1478.983741,1226.5214539999999,217.269958,5057.6514729999999,1793.3673079999999,7610.2602180000004,197847.73907770199,{"$f":"V24-F24-H24-M24-R24","v":184024.29337770198},13823.4457]
[null,"% Renovable s/total",{"$f":"(C23)/C$18","v":0.2963326116592066},{"$f":"(D23)/D$18","v":0.44050186397869501},0.19208856610723066,2.3354838384415981E-2,0.17383478566923755,7.0634759762525104E-2,0.14577132714888891,0.44895414532933653,0.48791464966983517,0.1503213000486327,0,0.18494063853169312,0.45661928475347907,0.46513724403821993,0.26577562735297777,3.8239165076074926E-4,0.21143717535941967,0.67692773289272345,0.10484008337629194,{"$f":"(V23)/V$18","v":0.30183204328582808},0.31540357777897504,5.152030550052171E-2]
[null,"% No renovable s/total",{"$f":"(C24)/C$18","v":0.70366738834079356},{"$f":"(D24)/D$18","v":0.55949813602130494},0.80791143389276943,0.9766451616155839,0.82616521433076229,0.92936524023747469,0.85422867285111126,0.55104585467066358,0.51208535033016489,0.84967869995136724,1,0.81505936146830693,0.54338071524652076,0.53486275596178001,0.73422437264702223,0.99961760834923929,0.78856282464058036,0.32307226710727643,0.89515991662370797,{"$f":"(V24)/V$18","v":0.69816795671417187},0.68459642222102512,0.94847969449947811]
[]
[null,2013]
[null,"CCAA","Andalucía","Aragón","Asturias","Baleares","C. Valenciana","Canarias","Cantabria","Castilla-La Mancha","Castilla y León","Cataluña","Ceuta","Extremadura","Galicia","La Rioja","Madrid","Melilla","Murcia","Navarra","País Vasco","España","PENINSULAR","NO PENINSULAR"]
[]
[null,"Hidráulica",1286.1321584498305,4272.6099799507865,2166.2710856967292,0,474.37543279924034,3.0495039999999993,344.96342052137277,922.93221922500265,8006.0414120659525,5406.8467415115038,0,2826.8328173122231,9896.4054708341937,173.13812399092654,167.98673340319692,0,131.77058027981309,770.78815838429125,539.56449551493711,{"$f":"SUM(C31:U31)","v":37389.708333940005},{"$f":"V31-F31-H31-M31-R31","v":37386.658829940003},{"$f":"F31+H31+M31+R31","v":3.0495039999999993}]
[null,"Turbinación bombeo",332.629382728,292.33720500000004,53.9984088,null,1116.1926289999999,null,537.83828000000005,113.22974000000001,485.54780339999996,245.14893433200001,null,33.458268799999999,79.296532000000013,null,null,null,null,null,null,{"$f":"SUM(C32:U32)","v":3289.6771840599999},{"$f":"V32-F32-H32-M32-R32","v":3289.6771840599999},{"$f":"F32+H32+M32+R32","v":0}]
[null,"Nuclear ",0,0,0,0,8004.8639999999996,0,0,7484.576,0,23719.595000000001,0,15097.852000000001,0,0,0,0,0,0,0,{"$f":"SUM(C33:U33)","v":54306.887000000002},{"$f":"V33-F33-H33-M33-R33","v":54306.887000000002},0]
[null,"Carbón ",9277.5969999999998,3435.268,8564.4740000000002,2350.681,0,0,0,786.55799999999999,5717.3879999999999,0,0,0,9395.598,0,0,0,0,0,0,39527.563999999998,37176.883000000002,2350.681]
[null,"Fuel / gas ",0,0,0,1260.1559999999999,0,4910.1319999999996,0,0,0,0,201.959,0,0,0,0,201.547,0,0,0,6573.793999999999,-5.9685589803848416E-13,6573.793999999999]
[null,"Ciclo combinado ",5827.2139999999999,89.442999999999998,296.952,413.57499999999999,3940.2930000000001,3052.68,0,1106.768,0,5685.0379999999996,0,0,1157.1690000000001,395.64299999999997,0,0,2342.3290000000002,361.286,3158.4450000000002,{"$f":"SUM(C36:U36)","v":27826.835000000003},{"$f":"V36-F36-H36-M36-R36","v":24360.58},{"$f":"F36+H36+M36+R36","v":3466.2549999999997}]
[null,"Hidroeólica",0,0,0,0,0,0,0,0,0,0,0,0,0,0,0,0,0,0,0,{"$f":"SUM(C37:U37)","v":0},{"$f":"V37-F37-H37-M37-R37","v":0},{"$f":"F37+H37+M37+R37","v":0}]
[null,"Eólica",6986.8114810000006,4869.4722959999999,1140.5479029999999,6.1594680000000004,2594.8544980000001,362.73348499999997,74.550423999999992,8657.4786239999994,12684.693724999999,3194.7266680000002,0,0,9497.9060239999999,1078.3850749999999,0,0,543.81997799999999,2664.7521859999997,356.35344999999995,{"$f":"SUM(C38:U38)","v":54713.245285000005},{"$f":"V38-F38-H38-M38-R38","v":54344.352332000009},{"$f":"F38+H38+M38+R38","v":368.89295299999998}]
[null,"Solar fotovoltaica",1586.3959349999998,309.12395099999998,0.73813499999999999,122.097173,564.34867599999995,286.70133000000004,2.0671429999999997,1697.8569010000001,848.07693299999994,431.35078599999997,0,1110.4428409999998,20.475404999999999,130.10738699999999,92.065936999999991,8.2323000000000007E-2,801.93057499999998,295.442564,27.615430999999997,{"$f":"SUM(C39:U39)","v":8326.9194260000022},7918.0386000000026,408.88082600000001]
[null,"Solar termoeléctrica",1987.7873390000004,0,0,0,9.8331619999999997,0,0,678.24493700000005,0,73.818010000000001,0,1648.8201199999999,0,0,0,0,43.023967000000006,0,0,4441.5275350000002,4441.5275350000002,0]
[null,"Otras renovables",1764.0065419999999,228.21192100000002,666.23538100000007,0.74474999999999991,52.92403199999999,8.3869790000000002,81.926783999999998,239.06713000000002,181.36608100000004,258.64171000000005,0,150.03492600000004,597.00197200000002,11.889306999999999,286.10578200000003,0,57.719059999999999,303.59326699999997,186.841747,5074.6973710000002,5065.5656420000005,9.131729]
[null,"Cogeneración",5641.9709069999999,3287.8084229999999,756.72251999999992,251.61495500000001,2074.8986260000001,0,1219.7241500000002,1145.6358950000001,2968.3200879999995,6131.3114270000005,0,30.034799,2441.2428270000005,149.74085499999998,1086.329052,8.0377970000000012,1960.3691819999999,981.56739900000014,2161.0488399999999,32296.377742000001,32036.724989999999,259.65275200000002]
[null,"Residuos no renovables"]
[null,"Residuos renovables"]
[null,"Generación neta ",{"$f":"SUM(C31:C44)","v":34690.544745177831},{"$f":"SUM(D31:D44)","v":16784.274775950784},13645.939433496729,4405.0283459999991,18832.584055799241,8623.6832979999999,2261.0702015213728,22832.347446225001,30891.434042465949,45146.477276843514,201.959,20897.475772112226,33085.095230834195,1938.9037479909264,1632.4875044031969,209.66712000000001,5880.9623422798131,5377.4295743842913,6429.8689635149367,273767.232877,260326.89511300001,13440.337764]
[null,"Consumos en bombeo",-470.70499999999998,-367.52,-77.28,0,-1520.008,0,-758.74900000000002,-206.83,-1728.923,-335.16800000000001,0,-56.837000000000003,-435.82600000000002,0,0,0,0,0,0,{"$f":"SUM(C46:U46)","v":-5957.8459999999995},-5957.8459999999995,0]
[null,"Saldo Intercambios",3967.8980000000001,-6311.9009999999998,-3153.97,1268.509,8582.518,0,2883.1439999999998,-10994.532999999999,-15481.299000000001,1461.7570000000001,0,-15974.308999999999,-12778.904,-234.66900000000001,28075.127,0,2433.7069999999999,-601.34299999999996,10126.138000000001,-6732.1299999999956,-8000.6389999999956,1268.509]
[null,"Demanda B.C",{"$f":"SUM(C45:C47)","v":38187.73774517783},{"$f":"SUM(D45:D47)","v":10104.853775950784},10414.689433496729,5673.5373459999992,25895.09405579924,8623.6832979999999,4385.4652015213724,11630.984446225,13681.21204246595,46273.066276843514,201.959,4866.3297721122271,19870.365230834192,1704.2347479909263,29707.614504403198,209.66712000000001,8314.6693422798126,4776.0865743842915,16556.006963514938,261077.25687700004,246368.41011300005,14708.846764]
[null,{"$f":"CONCATENATE(\"Δ\",B28,\"/\",B28-1)","v":"Δ2013/2012"},{"$f":"(C48/C21-1)","v":-3.8306947464449181E-2},-1.3076364510490102E-2,7.279546242183077E-3,-2.5600960837859676E-2,-2.1958439938791652E-2,-3.0234010431506753E-2,-3.1925877100550393E-3,-3.2382459504884276E-2,-3.5176328078683206E-3,-3.0952194889967366E-2,-4.7700106094542005E-2,-4.7534654337801907E-3,1.1179087624814787E-2,-1.6531531821158962E-2,-4.1732806983303283E-2,-3.5361598201841815E-2,-3.3976350472336714E-2,-4.739121568469562E-3,-6.8344612262468685E-3,-2.2763743632767897E-2,-2.2402747352076591E-2,-2.8770926144305764E-2]
[null,"Renovable",{"$f":"C31+C37+C38+C39+C40+C41+C44","v":13611.133455449832},{"$f":"D31+D37+D38+D39+D40+D41+D44","v":9679.4181479507861},3973.7925046967293,129.00139100000001,3696.3358007992406,660.87129800000002,503.50777152137277,12195.579811225001,21720.178151065953,9365.3839155115038,0,5736.1307043122233,20011.788871834193,1393.5198929909263,546.15845240319686,8.2323000000000007E-2,1578.264160279813,4034.5761753842908,1110.3751235149371,{"$f":"SUM(C50:U50)","v":109946.09795093998},{"$f":"V50-F50-H50-M50-R50","v":109156.14293893999},{"$f":"F50+H50+M50+R50","v":789.95501200000001}]
[null,"No renovable",{"$f":"C32+C33+C34+C35+C36+C42+C43","v":21079.411289727999},{"$f":"D32+D33+D34+D35+D36+D42+D43","v":7104.8566279999995},9672.1469287999989,4276.0269549999994,15136.248254999999,7962.8119999999999,1757.5624300000004,10636.767635,9171.2558914000001,35781.093361332001,201.959,15161.345067799999,13073.306359,545.38385499999993,1086.329052,209.58479700000001,4302.6981820000001,1342.8533990000001,5319.4938400000001,{"$f":"SUM(C51:U51)","v":163821.13492605998},{"$f":"V51-F51-H51-M51-R51","v":151170.75217405998},12650.382752]
[null,"% Renovable s/total",{"$f":"(C50)/C$45","v":0.39235859671364343},{"$f":"(D50)/D$45","v":0.57669564381893135},0.2912069575028487,2.928503084824418E-2,0.19627342641070031,7.6634458289217194E-2,0.22268559869684054,0.53413604711246476,0.70311330063886246,0.20744440054717597,0,0.27448916638856041,0.60485813119811971,0.71871535368110895,0.3345559772617438,3.9263667092866064E-4,0.26836835001191034,0.75027968652592614,0.17269016364338816,{"$f":"(V50)/V$45","v":0.40160430010386711},0.41930413256593646,5.8774937495685395E-2]
[null,"% No renovable s/total",{"$f":"(C51)/C$45","v":0.60764140328635652},{"$f":"(D51)/D$45","v":0.42330435618106882},0.70879304249715125,0.97071496915175592,0.80372657358929955,0.92336554171078278,0.77731440130315965,0.46586395288753524,0.2968866993611376,0.79255559945282383,1,0.72551083361143942,0.39514186880188029,0.281284646318891,0.6654440227382562,0.9996073633290713,0.73163164998808961,0.24972031347407372,0.82730983635661193,{"$f":"(V51)/V$45","v":0.59839569989613273},0.58069586743406343,0.94122506250431459]
[]
[null,2014]
[null,"CCAA","Andalucía","Aragón","Asturias","Baleares","C. Valenciana","Canarias","Cantabria","Castilla-La Mancha","Castilla y León","Cataluña","Ceuta","Extremadura","Galicia","La Rioja","Madrid","Melilla","Murcia","Navarra","País Vasco","España","PENINSULAR","NO PENINSULAR"]
[]
[null,"Hidráulica",936.37467762735992,4039.7862648452337,1896.052339259968,0,607.1494165002739,3.4789059999999998,271.61234823764926,1006.2846817722913,10365.32792049978,5246.5570729579749,0,3077.5099238969678,10108.640688426429,159.64944749501296,205.96352488055231,0,126.67792540687067,663.12646678365127,401.68643061397825,{"$f":"SUM(C58:U58)","v":39115.878035203983},{"$f":"V58-F58-H58-M58-R58","v":39112.399129203986},{"$f":"F58+H58+M58+R58","v":3.4789059999999998}]
[null,"Turbinación bombeo",340.48619211200003,327.19046900000001,53.915689100000002,null,1170.074173,null,606.80295599999999,61.018680000000003,497.24005754000001,269.09663272400002,0,43.361114719999996,46.810062599999995,null,null,null,null,null,null,{"$f":"SUM(C59:U59)","v":3415.996026796},{"$f":"V59-F59-H59-M59-R59","v":3415.996026796},{"$f":"F59+H59+M59+R59","v":0}]
[null,"Nuclear ",0,0,0,0,9108.2160000000003,0,0,7783.9080000000004,0,22776.108,0,15202.007,0,0,0,0,0,0,0,54870.239000000001,{"$f":"V60-F60-H60-M60-R60","v":54870.239000000001},0]
[null,"Carbón ",9502.9719999999998,4611.7569999999996,8565.27,2187.6260000000002,0,0,0,881.26,8006.7139999999999,0,0,0,9564.7039999999997,0,0,0,0,0,0,43320.303,41132.676999999996,2187.6260000000002]
[null,"Fuel / gas ",0,0,0,1260.664,0,4582.9089999999997,0,0,0,0,212.25299999999999,0,0,0,0,200.881,0,0,0,6256.7069999999994,{"$f":"V62-F62-H62-M62-R62","v":0},{"$f":"F62+H62+M62+R62","v":6256.7069999999994}]
[null,"Ciclo combinado ",4403.777,210.17099999999999,289.476,426.92399999999998,4017.6619999999998,3311.4479999999999,0,1045.816,0,5031.3490000000002,0,0,509.42700000000002,162.452,0,0,2336.5219999999999,369.63499999999999,2960.4659999999999,25075.125,{"$f":"V63-F63-H63-M63-R63","v":21336.753000000001},{"$f":"F63+H63+M63+R63","v":3738.3719999999998}]
[null,"Hidroeólica",0,0,0,0,0,1.071861,0,0,0,0,0,0,0,0,0,0,0,0,0,1.071861,{"$f":"V64-F64-H64-M64-R64","v":0},{"$f":"F64+H64+M64+R64","v":1.071861}]
[null,"Eólica",6450.4117070000002,4314.4136579999995,1140.6081340000001,5.8395779999999995,2577.3914760000002,389.96392399999996,76.30895000000001,8389.1373370000001,12274.492516,2867.133965999999,0,0,8316.4701179999993,947.71808499999997,0,0,512.01740399999994,2424.9077640000005,343.88036999999997,{"$f":"SUM(C65:U65)","v":51030.694987000003},{"$f":"V65-F65-H65-M65-R65","v":50634.891485},{"$f":"F65+H65+M65+R65","v":395.80350199999998}]
[null,"Solar fotovoltaica",1574.7501629999999,297.54578100000009,0.66684299999999996,122.77339099999999,549.12752799999998,282.29038400000002,2.218715,1684.5922889999999,840.0779,413.30662799999999,0,1071.175215,19.445383000000007,128.873369,93.257066000000009,8.3833000000000019E-2,800.25003400000003,297.78241000000003,29.355719000000004,8207.5726510000004,7802.4250430000011,405.14760800000005]
[null,"Solar termoeléctrica",2124.2357540000007,0,0,0,93.850920000000002,0,0,734.25268699999992,0,65.812195000000003,0,1899.40041,0,0,0,0,41.362959999999994,0,0,4958.9149260000004,4958.9149260000004,0]
[null,"Otras renovables",1419.8120040000003,349.10128399999996,643.85856000000001,1.9456589999999998,41.399132999999992,8.8065839999999991,85.795958000000013,182.61701100000002,249.12708799999999,150.03728899999999,0,215.01176500000003,574.68534900000009,7.2905829999999998,269.70145900000006,0,53.782083999999998,306.31693300000001,169.441833,4728.7305760000008,4717.9783330000009,10.752242999999998]
[null,"Cogeneración",5244.1194289999994,2383.597542,651.13568799999996,281.38823300000001,1795.9447449999998,0,831.90158300000007,764.037102,1682.0160980000001,4806.8781710000003,0,13.840363000000002,2147.3464330000002,56.949525000000001,736.52825100000007,8.8983140000000009,1496.4297490000001,710.15548300000012,2274.6565360000004,25885.823244999992,25595.536697999993,290.28654700000004]
[null,"Residuos no renovables"]
[null,"Residuos renovables"]
[null,"Generación neta ",{"$f":"SUM(C58:C71)","v":31996.93892673936},{"$f":"SUM(D58:D71)","v":16533.562998845235},13240.983253359971,4287.1608610000003,19960.815391500277,8579.9686590000001,1874.6405102376493,22532.923787772292,33914.995580039787,41626.278954681969,212.25299999999999,21522.305791616964,31287.529034026426,1462.9330094950128,1305.4503008805523,209.863147,5367.0421564068711,4771.9240567836523,6179.4868886139784,{"$f":"SUM(C72:U72)","v":266867.056308},253577.81064099999,13289.245667000001]
[null,"Consumos en bombeo",-480.846,-440.73599999999999,-78.977999999999994,0,-1576.3030000000001,0,-851.23099999999999,-100.736,-1107.249,-361.03100000000001,0,-70.938999999999993,-261.54199999999997,0,0,0,0,0,0,{"$f":"SUM(C73:U73)","v":-5329.5910000000003},-5329.5910000000003,0]
[null,"Saldo Intercambios",6021.9880000000003,-6003.143,-2849.3580000000002,1298.2660000000001,7501.3590000000004,0,3298.2020000000002,-10781.332,-19250.760999999999,4357.0429999999997,0,-16813.589,-11276.998,227.452,27142.168000000001,0,3101.6260000000002,8.0660000000000007,10612.884,-3406.1269999999968,-4704.3929999999964,1298.2660000000001]
[null,"Demanda B.C",{"$f":"SUM(C72:C74)","v":37538.080926739356},{"$f":"SUM(D72:D74)","v":10089.683998845234},10312.647253359972,5585.4268609999999,25885.871391500277,8579.9686590000001,4321.6115102376498,11650.855787772291,13556.985580039785,45622.290954681965,212.25299999999999,4637.7777916169653,19748.989034026425,1690.3850094950128,28447.618300880553,209.863147,8468.6681564068713,4779.9900567836521,16792.370888613979,258131.33830800001,{"$f":"V75-F75-H75-M75-R75","v":243543.82664099999},14587.511667000001]
[null,{"$f":"CONCATENATE(\"Δ\",B55,\"/\",B55-1)","v":"Δ2014/2013"},{"$f":"(C75/C48-1)","v":-1.7012183931228275E-2},-1.5012366771356422E-3,-9.7979090772077893E-3,-1.5530079318526013E-2,-3.5615488706430831E-4,-5.0691378021892053E-3,-1.4560300526742509E-2,1.7084832018445795E-3,-9.080077265126052E-3,-1.4063803731269475E-2,5.0970741586163548E-2,-4.6965986934350168E-2,-6.1084029104517823E-3,-8.126661254994727E-3,-4.2413240663799923E-2,9.3494392444548602E-4,1.8521339549124383E-2,8.1729724504908674E-4,1.4276626339909448E-2,-1.1283704311279452E-2,-1.1464876810726388E-2,-8.2491237380327709E-3]
[null,"Renovable",{"$f":"C58+C64+C65+C66+C67+C68+C71","v":12505.584305627362},{"$f":"D58+D64+D65+D66+D67+D68+D71","v":9000.8469878452343},3681.1858762599682,130.558628,3868.9184735002736,685.61165900000003,435.93597123764926,11996.884005772292,23729.025424499781,8742.847150957974,0,6263.0973138969684,19019.241538426424,1243.5314844950128,568.92204988055232,8.3833000000000019E-2,1534.0904074068706,3692.1335737836516,944.36435261397821,{"$f":"SUM(C77:U77)","v":108042.863036204},{"$f":"V77-F77-H77-M77-R77","v":107226.608916204},{"$f":"F77+H77+M77+R77","v":816.25412000000006}]
[null,"No renovable",{"$f":"C59+C60+C61+C62+C63+C69+C70","v":19491.354621112001},{"$f":"D59+D60+D61+D62+D63+D69+D70","v":7532.7160110000004},9559.7973771000015,4156.6022329999996,16091.896918000002,7894.357,1438.7045390000001,10536.039782000002,10185.970155540001,32883.431803724001,212.25299999999999,15259.20847772,12268.2874956,219.40152499999999,736.52825100000007,209.779314,3832.9517489999998,1079.7904830000002,5235.1225360000008,158824.19327179602,{"$f":"V78-F78-H78-M78-R78","v":146351.201724796},{"$f":"F78+H78+M78+R78","v":12472.991547}]
[null,"% Renovable s/total",{"$f":"(C77)/C$72","v":0.39083689643750996},{"$f":"(D77)/D$72","v":0.54439850554135771},0.27801454059885222,3.0453400801374781E-2,0.19382567283036636,7.990841065378769E-2,0.23254376978249841,0.53241577164000864,0.69966175783508511,0.21003191662834447,0,0.29100494038777541,{"$f":"(O77)/O$72","v":0.60788570160789135},0.85002626670121084,0.43580521563846825,3.9946508569224887E-4,0.28583535636580759,0.77372010322230578,0.152822454296977,0.40485650245082405,0.42285485723358068,6.1422155963820516E-2]
[null,"% No renovable s/total",{"$f":"(C78)/C$72","v":0.60916310356249015},{"$f":"(D78)/D$72","v":0.45560149445864229},0.72198545940114767,0.96954659919862507,0.80617432716963355,0.92009158934621227,0.76745623021750164,0.46758422835999142,0.30033824216491467,0.78996808337165569,1,0.70899505961222475,0.3921142983921086,0.14997373329878913,0.56419478436153181,0.99960053491430778,0.7141646436341923,0.22627989677769411,0.84717754570302306,0.59514349754917606,0.57714514276641937,0.93857784403617939]
[]
[null,2015]
[null,"CCAA","Andalucía","Aragón","Asturias","Baleares","C. Valenciana","Canarias","Cantabria","Castilla-La Mancha","Castilla y León","Cataluña","Ceuta","Extremadura","Galicia","La Rioja","Madrid","Melilla","Murcia","Navarra","País Vasco","España","PENINSULAR","NO PENINSULAR"]
[]
[null,"Hidráulica",704.44597538719768,3155.7930423265984,1607.1837580457118,0,588.78477858940391,3.5858509999999995,286.05984813494399,715.34751344283666,7537.9665208960805,4414.3914494984183,0,1584.7380216311833,6424.0484568802203,122.85225019501387,132.77283453296278,0,108.50595695879336,534.18348372105515,405.34835360958567,{"$f":"SUM(C85:U85)","v":28326.008094850004},{"$f":"V85-F85-H85-M85-R85","v":28322.422243850004},{"$f":"F85+H85+M85+R85","v":3.5858509999999995}]
[null,"Turbinación bombeo",{"$f":"263.782367792","v":263.782367792},281.95208500000001,26.8631636,null,1018.291565,null,477.33002299999998,31.737669,413.84505274000003,321.10572163799998,0,27.019481980000002,33.438658400000001,null,null,null,null,null,null,{"$f":"SUM(C86:U86)","v":2895.3657881499998},{"$f":"V86-F86-H86-M86-R86","v":2895.3657881499998},{"$f":"F86+H86+M86+R86","v":0}]
[null,"Nuclear ",0,0,0,0,7430.8019999999997,0,0,7926.3590000000004,0,23325.627,0,16072.050999999999,0,0,0,0,0,0,0,54754.839,54754.839,0]
[null,"Carbón ",12701.04,4459.4560000000001,12480.174000000001,1865.27,0,0,0,906.899,9310.0969999999998,0,0,0,11066.106,0,0,0,0,0,0,52789.042000000001,50923.772000000004,1865.27]
[null,"Fuel / gas ",0,0,0,1322.4780000000001,0,4763.92,0,0,0,0,205.43799999999999,0,0,0,0,204.81399999999999,0,0,0,6496.6500000000005,4.2632564145606011E-13,6496.6500000000005]
[null,"Ciclo combinado ",5623.4669999999996,177.911,361.30700000000002,809.23900000000003,4858.8630000000003,3213.0439999999999,0,1289.096,0,6831.6980000000003,0,0,333.78800000000001,590.15899999999999,0,0,2072.4319999999998,724.07,2405.6770000000001,29290.751,25268.468000000001,4022.2829999999999]
[null,"Hidroeólica",0,0,0,0,0,8.5570660000000007,0,0,0,0,0,0,0,0,0,0,0,0,0,{"$f":"SUM(C91:U91)","v":8.5570660000000007},0,8.5570660000000007]
[null,"Eólica",6363.8370980000009,4229.1992230000005,917.80775199999994,5.315563,2195.9935660000001,396.66092300000003,70.740945000000011,7286.7164059999996,11135.293154000001,2608.7822570000003,0,0,8554.7587439999988,934.74148400000001,0,0,435.39733100000001,2637.9260230000004,341.95555000000007,48115.126018999996,47713.149532999996,401.97648600000002]
[null,"Solar fotovoltaica",1570.0735399999999,304.325605,0.65173600000000009,122.64643600000002,523.085511,275.555924,2.05531,1722.9102679999996,847.26885099999993,421.11208399999998,0,1111.1339890000002,20.758184,132.18766200000002,93.788112000000012,7.9959999999999989E-2,762.39686199999994,304.33530700000006,28.715117000000003,8243.0804579999985,7844.7981379999983,398.28232000000003]
[null,"Solar termoeléctrica",2110.236508,0,0,0,89.976463999999993,0,0,735.48629799999992,0,75.59187399999999,0,2037.8448430000001,0,0,0,0,36.099527000000002,0,0,5085.235514,5085.235514,0]
[null,"Otras renovables",1265.9033819999997,57.287430999999998,228.78606299999998,1.971492,40.643070999999999,8.0531259999999989,85.075815999999975,240.96001600000002,201.18511600000002,174.42715200000001,0,199.31235800000005,235.93751399999996,0.55284,156.87073900000001,0,39.185057,233.27032199999999,14.552710999999997,3183.9742059999999,3173.9495879999999,10.024617999999998]
[null,"Cogeneración",5207.0427349999991,2443.0583580000002,357.12257100000005,31.518988999999994,1531.5526240000002,0,716.34605599999998,778.59447799999998,1850.7469590000001,4678.8483130000004,0,69.638161999999994,2629.3494610000002,82.116106999999985,694.04694900000015,0,1458.4756870000001,835.15337699999998,2085.8845959999999,25449.495422,25417.976433,31.518988999999994]
[null,"Residuos no renovables",0,404.30217400000004,720.74103600000001,151.09772950000001,365.32810500000005,0,33.142120000000013,0,0,136.54450999999995,0,0,187.9840255,0,62.844877000000011,4.2959290000000001,0,0,413.82789350000002,{"$f":"SUM(C97:U97)","v":2480.1083994999999},{"$f":"V97-F97-H97-M97-R97","v":2324.7147409999998},{"$f":"F97+H97+M97+R97","v":155.39365850000002}]
[null,"Residuos renovables",0,0,0,151.09772950000001,0,0,33.142119999999998,0,0,136.54451,0,0,187.9840255,0,62.844877000000011,4.2959290000000001,0,0,242.13994250000002,{"$f":"SUM(C98:U98)","v":818.04913350000015},{"$f":"V98-F98-H98-M98-R98","v":662.65547500000014},{"$f":"F98+H98+M98+R98","v":155.39365850000002}]
[null,"Generación neta ",{"$f":"SUM(C85:C98)","v":35809.828606179202},{"$f":"SUM(D85:D98)","v":15513.284918326601},16700.637079645712,4460.6349390000005,18643.320684589406,8669.3768900000014,1703.8922381349439,21634.106648442837,31296.40265363608,43124.672871136412,205.43799999999999,21101.737855611183,29674.153069280226,1862.6093431950142,1203.168388532963,213.48581799999999,4912.4924209587934,5268.9385127210553,5938.1011636095855,{"$f":"SUM(C99:U99)","v":267936.28210100002},254387.34645400001,13548.935647000002]
[null,"Consumos en bombeo",-391.21300000000002,-410.178,-41.476999999999997,0,-1352.201,0,-684.93299999999999,-44.283999999999999,-854.15499999999997,-463.46499999999997,0,-43.286999999999999,-234.90100000000001,0,0,0,0,0,0,{"$f":"SUM(C100:U100)","v":-4520.0940000000001},-4520.0940000000001,0]
[null,"Saldo Intercambios",3241.8629999999998,-4802.1009999999997,-6191.3540000000003,1335.7829999999999,9454.4449999999997,0,3228.933,-10018.83,-16577.612000000001,3985.8760000000002,0,-16222.839,-9721.0550000000003,-137.49199999999999,27670.776000000002,0,4007.7049999999999,-425.81599999999997,11038.563,-133.15500000000065,-1468.9380000000006,1335.7829999999999]
[null,"Demanda B.C",{"$f":"SUM(C99:C101)","v":38660.478606179197},{"$f":"SUM(D99:D101)","v":10301.005918326602},10467.806079645714,5796.4179390000008,26745.564684589404,8669.3768900000014,4247.8922381349439,11570.992648442838,13864.63565363608,46647.083871136419,205.43799999999999,4835.6118556111833,19718.197069280224,1725.1173431950142,28873.944388532964,213.48581799999999,8920.1974209587934,4843.1225127210555,16976.664163609585,263283.03310099995,248398.31445399995,14884.718647000002]
[null,{"$f":"CONCATENATE(\"Δ\",B82,\"/\",B82-1)","v":"Δ2015/2014"},{"$f":"(C102/C75-1)","v":2.9900241347722289E-2},2.0944354600753945E-2,1.5045489530846723E-2,3.7775282579248781E-2,3.3210907992512473E-2,1.0420577807847442E-2,-1.705828298727663E-2,-6.8547015587704374E-3,2.2693103255140512E-2,2.2462548351033451E-2,-3.2107908957706099E-2,4.2657081232269078E-2,-1.5591666334487941E-3,2.0546995805634349E-2,1.4986354328271334E-2,1.7262063643789682E-2,5.3317624000926545E-2,1.3207654239323574E-2,1.0974821615008734E-2,1.9957649570053304E-2,1.9932707307567243E-2,2.0374069737496336E-2]
[null,"Renovable",{"$f":"C85+C91+C92+C93+C94+C95+C98","v":12014.496503387199},{"$f":"D85+D91+D92+D93+D94+D95+D98","v":7746.6053013265982},2754.4293090457118,281.03122050000002,3438.4833905894038,692.41289000000006,477.07403913494397,10701.420501442837,19721.713641896084,7830.849326498419,0,4933.0292116311839,15423.486924380219,1190.334236195014,446.27656253296277,4.3758889999999999,1381.5847339587933,3709.7151357210555,1032.7116741095858,{"$f":"SUM(C104:U104)","v":93780.030491350015},{"$f":"V104-F104-H104-M104-R104","v":92802.210491850012},{"$f":"F104+H104+M104+R104","v":977.81999950000011}]
[null,"No renovable",{"$f":"C86+C87+C88+C89+C90+C96+C97","v":23795.332102791999},{"$f":"D86+D87+D88+D89+D90+D96+D97","v":7766.6796170000007},13946.2077706,4179.6037185000005,15204.837294000001,7976.9639999999999,1226.8181989999998,10932.686147,11574.68901174,35293.823544637999,205.43799999999999,16168.708643979999,14250.6661449,672.27510699999993,756.89182600000015,209.10992899999999,3530.9076869999999,1559.223377,4905.3894894999994,{"$f":"SUM(C105:U105)","v":174156.25160964997},{"$f":"V105-F105-H105-M105-R105","v":161585.13596214997},{"$f":"F105+H105+M105+R105","v":12571.115647500001}]
[null,"% Renovable s/total",{"$f":"(C104)/C$99","v":0.33550834983091837},{"$f":"(D104)/D$99","v":0.49935299597154664},0.16492959495555629,6.3002515189687885E-2,0.18443513624864366,7.9868818576648584E-2,0.27999073442411027,0.49465506828372297,0.63015912276437858,0.18158628935918608,0,0.23377359937771369,0.51976165548418563,0.63906811191722168,0.37091779237743511,2.0497328773380161E-2,0.28123905658650222,0.70407258060888533,0.17391277879170264,0.35000870265117412,0.36480670829526152,7.2169506518876145E-2]
[null,"% No renovable s/total",{"$f":"(C105)/C$99","v":0.66449165016908152},{"$f":"(D105)/D$99","v":0.5006470040284533},0.83507040504444363,0.93699748481031209,0.81556486375135628,0.92013118142335126,0.72000926557588962,0.50534493171627703,0.36984087723562148,0.81841371064081403,1,0.76622640062228631,0.4802383445158141,0.36093188808277826,0.62908220762256484,0.97950267122661983,0.71876094341349772,0.29592741939111472,0.82608722120829736,0.64999129734882577,0.63519329170473837,0.92783049348112379]
[]
[null,2016]
[null,"CCAA","Andalucía","Aragón","Asturias","Baleares","C. Valenciana","Canarias","Cantabria","Castilla-La Mancha","Castilla y León","Cataluña","Ceuta","Extremadura","Galicia","La Rioja","Madrid","Melilla","Murcia","Navarra","País Vasco","España","PENINSULAR","NO PENINSULAR"]
[]
[null,"Hidráulica",697.52119182501315,3016.2235307942442,1960.1864628731582,0,591.22438052394409,3.4723920000000006,238.61459538488108,828.82660616137139,11213.747331264416,3956.2968410921681,0,2468.803022723826,9814.3827635769594,174.43203634539535,157.29714861660881,0,100.6500049901841,450.3620598618939,370.58480973793758,{"$f":"SUM(C112:U112)","v":36042.625177771988},{"$f":"V112-F112-H112-M112-R112","v":36039.152785771985},{"$f":"F112+H112+M112+R112","v":3.4723920000000006}]
[null,"Turbinación bombeo",258.10476807999999,317.108091,25.5490438,0,1403.096403,0,428.06466799999998,45.317059999999998,356.19632406999995,223.81004966200001,0,49.886690616000003,27.195812,0,0,0,0,0,0,{"$f":"SUM(C113:U113)","v":3134.3289102279996},{"$f":"V113-F113-H113-M113-R113","v":3134.3289102279996},{"$f":"F113+H113+M113+R113","v":0}]
[null,"Nuclear ",0,0,0,0,9178.2630000000008,0,0,8002.6419999999998,0,23743.210999999999,0,15174.856,0,0,0,0,0,0,0,56098.971999999994,56098.971999999994,0]
[null,"Carbón ",8273.4480000000003,3317.6030000000001,7573.0619999999999,2303.7689999999998,0,0,0,7.6999999999999999E-2,6554.3149999999996,0,0,0,9468.9989999999998,0,0,0,0,0,0,37491.273000000001,35187.504000000001,2303.7689999999998]
[null,"Fuel / gas ",0,0,0,1311.771,0,5043.4610000000002,0,0,0,0,210.73599999999999,0,0,0,0,198.57,0,0,0,6764.5379999999996,-3.979039320256561E-13,6764.5379999999996]
[null,"Ciclo combinado ",6185.6090000000004,175.51,354.81700000000001,542.54999999999995,4695.0190000000002,3031.7,0,1266.46,0,6989.7060000000001,0,0,670.21500000000003,1015.822,0,0,1114.8620000000001,1287.6859999999999,1930.442,29260.398000000001,25686.148000000001,3574.25]
[null,"Hidroeólica",0,0,0,0,0,18.102639,0,0,0,0,0,0,0,0,0,0,0,0,0,18.102639,0,18.102639]
[null,"Eólica",7060.264592999999,4225.9592520000006,798.14569499999993,5.4160579999999996,2224.6882860000001,393.085554,70.502808999999999,7680.5372219999999,10939.943732999996,2683.9419450000005,0,0,7318.713076,933.70978099999991,0,0,457.42115200000001,2571.923076,332.41806700000001,{"$f":"SUM(C119:U119)","v":47696.670298999998},47298.168686999998,398.50161200000002]
[null,"Solar fotovoltaica",1525.6835510000001,295.29593900000003,0.58737000000000017,120.53466100000001,514.06146799999999,277.67476099999999,2.0952619999999995,1624.757124,829.74446899999998,413.62143100000003,0,1061.7441229999999,20.147258000000001,131.42565399999998,88.527027000000018,7.8081999999999985E-2,747.01913599999989,294.94099799999998,29.661534,7977.5998479999998,7579.3123439999999,398.28750400000001]
[null,"Solar termoeléctrica",2194.6310090000002,0,0,0,70.150952999999987,0,0,721.87999799999989,0,70.319427000000005,0,1973.4576519999996,0,0,0,0,40.762663000000003,0,0,5071.2017019999994,5071.2017019999994,0]
[null,"Otras renovables",1367.7726660000001,53.330301999999996,245.26598100000001,1.3097150000000002,38.907041999999997,9.3357749999999999,76.573036999999999,238.410359,246.51016000000001,174.026421,0,235.61053699999999,232.03411600000001,7.5938380000000008,137.921649,0,55.348952999999995,273.71682199999998,30.889806,3424.5571789999999,3413.911689,10.645490000000001]
[null,"Cogeneración",5102.7432629999994,2498.9124570000004,369.74585599999995,34.701317000000003,1579.4028090000002,0,831.30987799999991,988.74107900000001,1857.9172750000002,4689.1943710000005,0,50.701282999999997,2801.9919390000005,65.604553999999993,709.29025899999988,0,1446.6507910000003,850.04065999999989,2029.6682369999999,25906.616027999997,25871.914710999998,34.701317000000003]
[null,"Residuos no renovables",181.57978,366.54158700000005,707.87568999999996,130.80518350000003,344.80093499999998,0,39.092220499999989,0,0,136.45888200000007,0,0,169.11742650000005,0,67.762206999999989,4.8499524999999997,0,0,458.07991750000008,{"$f":"SUM(C124:U124)","v":2606.963781500001},{"$f":"V124-F124-H124-M124-R124","v":2471.3086455000007},{"$f":"F124+H124+M124+R124","v":135.65513600000003}]
[null,"Residuos renovables",0,0,0,130.80506650000001,0,0,39.092220500000003,0,0,134.04391799999996,0,0,169.11742649999999,0,67.762206999999989,4.8500524999999994,0,0,239.72413850000001,{"$f":"SUM(C125:U125)","v":785.39502949999985},{"$f":"V125-F125-H125-M125-R125","v":649.73991049999995},{"$f":"F125+H125+M125+R125","v":135.65511900000001}]
[null,"Generación neta ",{"$f":"SUM(C112:C125)","v":32847.35782190501},{"$f":"SUM(D112:D125)","v":14266.484158794245},12035.235098673158,4581.6620009999997,20639.614276523942,8776.8321209999995,1725.3446903848808,21397.64844816137,31998.374292334414,43214.630285754167,210.73599999999999,21015.059308339827,30691.913817576959,2328.5878633453954,1228.5604976166087,208.34808699999999,3962.7146999901843,5728.6696158618934,{"$f":"SUM(U112:U125)","v":5421.4685097379379},{"$f":"SUM(V112:V125)","v":262279.24159399996},{"$f":"V126-F126-H126-M126-R126","v":248501.66338499996},13777.578209000001]
[null,"Consumos en bombeo",-370.58300000000003,-421.73700000000002,-38.750999999999998,0,-1830.7470000000001,0,-611.80399999999997,-65.596999999999994,-919.61099999999999,-303.50200000000001,0,-84.441999999999993,-172.642,0,0,0,0,0,0,-4819.4160000000011,{"$f":"V127-F127-H127-M127-R127","v":-4819.4160000000011},0]
[null,"Saldo Intercambios",7129.3630000000003,-3406.8420000000001,-1487.886,1250.5820000000001,8043.8270000000002,0,3090.931,-9620.9509999999991,-17052.596000000001,3999.8829999999998,0,-15961.991,-10557.892,-596.53399999999999,27740.175999999999,0,5090.3980000000001,-780.10500000000002,10786.96,7667.3229999999985,6416.7409999999982,1250.5820000000001]
[null,"Demanda B.C",{"$f":"SUM(C126:C128)","v":39606.137821905009},{"$f":"SUM(D126:D128)","v":10437.905158794245},10508.598098673157,5832.244001,26852.694276523944,8776.8321209999995,4204.4716903848803,11711.100448161369,14026.167292334412,46911.011285754168,210.73599999999999,4968.626308339828,19961.379817576959,1732.0538633453953,28968.736497616606,208.34808699999999,9053.1126999901844,4948.5646158618929,16208.428509737936,{"$f":"SUM(V126:V128)","v":265127.14859399997},250098.98838499998,15028.160209]
[null,{"$f":"CONCATENATE(\"Δ\",B109,\"/\",B109-1)","v":"Δ2016/2015"},{"$f":"(C129/C102-1)","v":2.4460618435661718E-2},1.3289890477985677E-2,3.8969024375377082E-3,6.1807244365439384E-3,4.0055086964108089E-3,1.2394804420597483E-2,-1.0221668845612597E-2,1.2108537614306192E-2,1.1650622687367163E-2,5.6579617141094829E-3,2.578880246108306E-2,2.7507264168503687E-2,1.2332909922865065E-2,4.0208975799491675E-3,3.2829636231235249E-3,-2.4065912425152325E-2,1.4900486251469669E-2,2.1771512668506965E-2,-4.5252450450095183E-2,{"$f":"(V129/V102-1)","v":7.0043081442798805E-3},6.8465598679212647E-3,9.6368339504293576E-3]
[null,"Renovable",{"$f":"C112+C118+C119+C120+C121+C122+C125","v":12845.873010825013},{"$f":"D112+D118+D119+D120+D121+D122+D125","v":7590.8090237942451},3004.1855088731586,258.06550050000004,3439.0321295239437,701.67112100000008,426.87792388488106,11094.411309161371,23229.945693264417,7432.2499830921679,0,5739.6153347238251,17554.39464007696,1247.1613093453952,451.50803161660883,4.9281344999999996,1401.2019089901839,3590.942955861894,1003.2783552379376,{"$f":"SUM(C131:U131)","v":101016.15187427204},{"$f":"V131-F131-H131-M131-R131","v":100051.48711827202},{"$f":"F131+H131+M131+R131","v":964.66475600000024}]
[null,"No renovable",{"$f":"C113+C114+C115+C116+C117+C123+C124","v":20001.484811080001},{"$f":"D113+D114+D115+D116+D117+D123+D124","v":6675.6751350000004},9031.0495898000008,4323.5965004999998,17200.582147000001,8075.1610000000001,1298.4667664999999,10303.237139000001,8768.4285990699991,35782.380302661993,210.73599999999999,15275.443973616,13137.519177500002,1081.4265539999999,777.05246599999987,203.41995249999999,2561.5127910000001,2137.7266599999998,4418.1901545000001,161263.08971972798,148450.176266728,12812.913453000001]
[null,"% Renovable s/total",{"$f":"(C131)/C$126","v":0.39107781759720256},{"$f":"(D131)/D$126","v":0.53207285966914741},0.24961585579698059,5.6325739533748739E-2,0.16662288759124691,7.9945829124512674E-2,0.24741602432477153,0.51848740930757176,0.72597268476947041,0.17198457869353176,0,0.27311915948036647,0.57195503494551492,0.53558696623697299,0.36750980720325005,2.3653370525067503E-2,0.35359646481581292,0.62683715358956471,0.18505656787194619,{"$f":"(V131)/V$126","v":0.38514733861645778},0.40261898353277309,7.0017004539291758E-2]
[null,"% No renovable s/total",{"$f":"(C132)/C$126","v":0.6089221824027975},{"$f":"(D132)/D$126","v":0.46792714033085264},0.75038414420301947,0.94367426046625125,0.83337711240875323,0.92005417087548735,0.75258397567522861,0.48151259069242835,0.27402731523052964,0.8280154213064681,1,0.72688084051963342,0.42804496505448525,0.46441303376302695,0.63249019279674989,0.97634662947493245,0.64640353518418703,0.3731628464104354,0.81494343212805376,{"$f":"(V132)/V$126","v":0.61485266138354244},0.59738101646722719,0.92998299546070828]
[]
[null,2017]
[null,"CCAA","Andalucía","Aragón","Asturias","Baleares","C. Valenciana","Canarias","Cantabria","Castilla-La Mancha","Castilla y León","Cataluña","Ceuta","Extremadura","Galicia","La Rioja","Madrid","Melilla","Murcia","Navarra","País Vasco","España","PENINSULAR","NO PENINSULAR"]
[]
[null,"Hidráulica",559.71545457412026,2411.7984502803165,981.08891605015231,0,377.66336783387374,3.2814869999999994,160.9890271958615,409.45361876135587,4138.0131616681483,3720.1531577415562,0,1358.7081152609228,3307.9626575400189,101.29040035448864,135.68231056841577,0,72.456900064248416,339.68020902254887,285.8442551199754,{"$f":"SUM(C139:U139)","v":18363.781489036006},{"$f":"V139-F139-H139-M139-R139","v":18360.500002036006},{"$f":"F139+H139+M139+R139","v":3.2814869999999994}]
[null,"Turbinación bombeo",146.520704104,148.83827499999998,12.6857136,0,1011.231914,0,400.06473499999998,41.517760000000003,331.88220213200003,113.54520564400001,0,19.640066483999998,23.067281999999999,0,0,0,0,0,0,{"$f":"SUM(C140:U140)","v":2248.9938579639997},{"$f":"V140-F140-H140-M140-R140","v":2248.9938579639997},{"$f":"F140+H140+M140+R140","v":0}]
[null,"Nuclear ",0,0,0,0,7050.4989999999998,0,0,7980.991,0,24232.649000000001,0,16344.782999999999,0,0,0,0,0,0,0,55608.922000000006,55608.922000000006,0]
[null,"Carbón ",10550.373,4711.2569999999996,10104.344999999999,2603.3420000000001,0,0,0,0,6409.8890000000001,0,0,0,10817.06,0,0,0,0,0,0,45196.265999999996,42592.923999999999,2603.3420000000001]
[null,"Fuel / gas ",0,0,0,1367.7539999999999,0,5239.8869999999997,0,0,0,0,202.86199999999999,0,0,0,0,200.56399999999999,0,0,0,7011.067,3.979039320256561E-13,7011.067]
[null,"Ciclo combinado ",7767.9049999999997,1099.596,685.07600000000002,426.18599999999998,4173.6930000000002,3015.7730000000001,0,1666.529,0,7892.6009999999997,0,0,1762.76,1689.8779999999999,0,0,3446.7950000000001,1405.1110000000001,2264.5839999999998,37296.487000000001,33854.527999999998,3441.9590000000003]
[null,"Hidroeólica",0,0,0,0,0,20.398516000000001,0,0,0,0,0,0,0,0,0,0,0,0,0,{"$f":"SUM(C145:U145)","v":20.398516000000001},0,20.398516000000001]
[null,"Eólica",7189.7015450000008,4478.1696869999996,826.67378199999996,2.9242759999999999,2175.5139369999997,395.94306799999998,65.882127999999994,7504.4342829999987,10988.593271000002,2825.1244999999999,0,0,7001.6765260000002,976.65541699999983,0,0,434.66199999999998,2703.4053089999998,327.65020500000003,{"$f":"SUM(C146:U146)","v":47897.009933999994},47498.142589999996,398.867344]
[null,"Solar fotovoltaica",1579.8909049999997,311.32922000000002,0.59545700000000001,123.20541799999999,543.18397700000003,273.540098,1.9455499999999999,1742.0169139999996,895.31523300000003,420.48871700000001,0,1118.869162,20.792750000000005,139.47549600000002,91.853569999999991,7.5192999999999982E-2,773.35944200000006,317.86444300000005,31.235192999999999,{"$f":"SUM(C147:U147)","v":8385.0367379999989},7988.2160289999993,396.82070900000002]
[null,"Solar termoeléctrica",2319.75783,0,0,0,98.825012000000001,0,0,742.67802899999992,0,87.196204999999992,0,2056.387518,0,0,0,0,43.106292000000003,0,0,5347.9508860000005,5347.9508860000005,0]
[null,"Otras renovables",1388.4176990000001,57.833376000000001,271.44284500000003,1.6267410000000002,32.430801999999993,9.5652589999999993,83.49489100000001,265.55059599999998,263.33266900000001,190.72999699999997,0,233.85979500000005,252.743776,9.1094020000000011,150.12538700000002,0,53.861951999999995,305.44717900000001,44.531423000000004,3614.1037890000002,3602.9117890000002,11.192]
[null,"Cogeneración",5274.8242799999989,2967.7755429999997,392.17213300000003,36.169350999999999,1590.5029169999998,0,1165.282101,1088.0439229999999,2333.1516690000003,5082.4916000000003,0,53.094291000000005,2825.6477599999998,74.725203999999991,704.23902400000009,0,1688.4060749999999,903.28104199999984,1990.6384190000003,{"$f":"SUM(C150:U150)","v":28170.445331999996},28134.275980999995,36.169350999999999]
[null,"Residuos no renovables",298.96065299999998,413.40268900000001,733.90796000000023,143.878668,53.738847000000007,0,36.843276499999995,0,0,145.20907250000002,0,0,178.46456799999999,0,70.703084500000003,4.976986000000001,0,0,527.58214150000003,2607.6679460000005,2458.8122920000005,148.85565400000002]
[null,"Residuos renovables",0,0,0,143.878668,0,0,36.843276499999995,0,0,141.39558050000002,0,0,178.46456799999999,0,70.703084500000003,4.976986000000001,0,0,300.74392350000005,877.00608700000009,728.15043300000013,148.85565400000002]
[null,"Generación neta ",{"$f":"SUM(C139:C152)","v":37076.067070678124},{"$f":"SUM(D139:D152)","v":16600.000240280315},14007.987806650151,4848.9651219999996,17107.282773833875,8958.3884280000002,1951.3449851958617,21441.215123761358,25360.177205800148,44851.58403538556,202.86199999999999,21185.341947744924,26368.639887540019,2991.1339193544882,1223.3064605684158,210.59316500000003,6512.6476610642485,5974.7891820225486,5772.8095601199757,{"$f":"SUM(V139:V152)","v":262645.13657500001},{"$f":"V153-F153-H153-M153-R153","v":248424.32786000002},14220.808714999999]
[null,"Consumos en bombeo",-223.79900000000001,-205.80600000000001,-21.576000000000001,0,-1345.953,0,-666.73699999999997,-67.900000000000006,-748.06899999999996,-165.142,0,-35.523000000000003,-194.73400000000001,0,0,0,0,0,0,{"$f":"SUM(C154:U154)","v":-3675.239},{"$f":"V154-F154-H154-M154-R154","v":-3675.239},{"$f":"F154+H154+M154+R154","v":0}]
[null,"Saldo Intercambios",3420.0233047113588,-5782.6252773148217,-3403.4609458173045,1179.300653,11261.932353120375,0,3083.6877204885518,-9660.376389474246,-10501.938401043128,2965.8505361916395,0,-16082.275384511258,-6315.6648379066428,-1277.2392094602571,27544.339992875521,0,2886.8591966738813,-918.24036228370551,10770.407320750004,9170.5802699999676,7991.2796169999674,1179.300653]
[null,"Demanda B.C",{"$f":"SUM(C153:C155)","v":40272.291375389483},{"$f":"SUM(D153:D155)","v":10611.568962965492},10582.950860832847,6028.2657749999998,27023.262126954251,8958.3884280000002,4368.2957056844134,11712.93873428711,14110.169804757021,{"$f":"SUM(L153:L155)-0.1","v":47652.192571577201},{"$f":"SUM(M153:M155)","v":202.86199999999999},5067.5435632336648,19858.241049633376,1713.894709894231,28767.646453443936,210.59316500000003,9399.5068577381298,5056.5488197388431,16543.216880869979,{"$f":"SUM(V153:V155)","v":268140.47784499999},252740.36847699998,15400.109367999999]
[null,{"$f":"CONCATENATE(\"Δ\",B136,\"/\",B136-1)","v":"Δ2017/2016"},{"$f":"(C156/C129-1)","v":1.6819452491932729E-2},1.6637802464120943E-2,7.0754216177586482E-3,3.3610009109082073E-2,6.3519827349103331E-3,2.0685858462029527E-2,3.8964233169693774E-2,1.5696954644695005E-4,5.988985492032306E-3,1.5799729434699206E-2,-3.7364285171968659E-2,1.9908370796130281E-2,-5.1669157586372583E-3,-1.0484173636546412E-2,-6.9416228833181215E-3,1.0775611297069609E-2,3.8262437376740177E-2,2.182131835377521E-2,2.0655202380101434E-2,1.1365600493876471E-2,1.0561338568606748E-2,2.4750145981092819E-2]
[null,"Renovable",{"$f":"C139+C145+C146+C147+C148+C149+C152","v":13037.483433574122},{"$f":"D139+D145+D146+D147+D148+D149+D152","v":7259.1307332803153},2079.8010000501522,271.63510300000002,3227.6170958338735,702.72842799999989,349.15487269586151,10664.133440761354,16285.254334668149,7385.0881572415565,0,4767.8245902609233,10761.640277540018,1226.5307153544886,448.36435206841577,5.0521790000000006,1377.4465860642483,3666.3971400225482,990.00499961997548,{"$f":"V139+V145+V146+V147+V148+V149+V152","v":84505.287439036008},{"$f":"V158-F158-H158-M158-R158","v":83525.871729036007},{"$f":"F158+H158+M158+R158","v":979.41570999999999}]
[null,"No renovable",{"$f":"C140+C141+C142+C143+C144+C150+C151","v":24038.583637103995},{"$f":"D140+D141+D142+D143+D144+D150+D151","v":9340.8695069999994},11928.186806599999,4577.330019,13879.665677999999,8255.66,1602.1901124999999,10777.081682999999,9074.9228711320011,37466.495878144,202.86199999999999,16417.517357484001,15606.999609999999,1764.603204,774.94210850000013,205.540986,5135.2010749999999,2308.3920419999999,4782.8045604999998,{"$f":"V140+V141+V142+V143+V144+V150+V151","v":178139.849135964},{"$f":"V159-F159-H159-M159-R159","v":164898.45613096401},{"$f":"F159+H159+M159+R159","v":13241.393005}]
[null,"% Renovable s/total",{"$f":"(C158)/C$153","v":0.35164148906950571},{"$f":"(D158)/D$153","v":0.43729702579556917},0.14847250217213837,5.6019190933664968E-2,0.1886691848439318,7.8443621154400775E-2,0.178930366155022,0.49736609512131896,0.64215853866129669,0.16465612789539621,0,0.22505299192342915,0.40812269132717838,0.41005543329841421,0.36651842078891739,2.3990232541497725E-2,0.21150331750622545,0.6136446037383736,0.1714944844983593,{"$f":"(V158)/V$153","v":0.32174701020936275},0.33622259320796938,6.8872012107646166E-2]
[null,"% No renovable s/total",{"$f":"(C159)/C$153","v":0.64835851093049413},{"$f":"(D159)/D$153","v":0.56270297420443083},0.85152749782786163,0.94398080906633508,0.81133081515606809,0.92155637884559916,0.82106963384497789,0.50263390487868076,0.35784146133870343,0.8353438721046037,1,0.7749470080765708,0.59187730867282162,0.5899445667015859,0.63348157921108272,0.97600976745850221,0.78849668249377447,0.38635539626162629,0.82850551550164064,{"$f":"(V159)/V$153","v":0.6782529897906372},0.66377740679203057,0.93112798789235385]

{"sheet":"Potencias","index":8,"n_rows":119,"n_cols":24,"rows_kept":119,"cut":false,"hidden":true,"merged":[]}
[null,2012]
[null,"CCAA","Andalucía","Aragón","Asturias","Baleares","C. Valenciana","Canarias","Cantabria","Castilla-La Mancha","Castilla y León","Cataluña","Ceuta","Extremadura","Galicia","La Rioja","Madrid","Melilla","Murcia","Navarra","País Vasco","España","PENINSULAR","NO PENINSULAR"]
[null,"Bombeo puro",582.88,219.14,0,0,633.95000000000005,0,360.6,215,0,439.32,0,0,0,0,0,0,0,0,0,{"$f":"SUM(C3:U3)","v":2450.8900000000003},{"$f":"V3-F3-H3-M3-R3","v":2450.8900000000003},{"$f":"F3+H3+M3+R3","v":0}]
[null,"Hidráulica",595.95099999999991,1328.1370000000002,804.37,0,639.80899999999997,1.2630000000000001,98.323999999999955,651.25800000000004,4393.5514999999996,1911.35825,0,2277.7750000000001,3637.3371999999999,55.550730000000001,101.45099999999999,0,35.628,223.23500000000001,172.8931,{"$f":"SUM(C4:U4)","v":16927.891780000002},{"$f":"V4-F4-H4-M4-R4","v":16926.628780000003},{"$f":"F4+H4+M4+R4","v":1.2630000000000001}]
[null,"Nuclear ",null,null,null,null,1063.94,null,null,1003.41,455.29,3032.81,null,2017.13,null,null,null,null,null,null,null,7572.58,{"$f":"V5-F5-H5-M5-R5","v":7572.58},{"$f":"F5+H5+M5+R5","v":0}]
[null,"Carbón ",1989.3999999999999,1198.1200000000001,2364.59,468.4,null,null,null,502.64,2595.23,null,null,null,1945.4899999999998,null,null,null,null,null,null,11571.789999999999,11103.39,468.4]
[null,"Fuel / gas ",null,null,null,739.4,null,1693.67,null,null,null,505.52,90.82,null,null,null,null,76.14,null,null,null,3382.55,782.5200000000001,2600.0300000000002]
[null,"Ciclo combinado ",5951.7199999999984,1869.6799999999998,854.17000000000007,857.95,2853.54,864.2,null,758.74,null,4174.08,null,null,1246.98,784.7,null,null,3263.7099999999996,1222.32,1968.0700000000002,26633.879999999997,24911.729999999996,1722.15]
[null,"Hidroeólica",null,null,null,null,null,null,null,null,null,null,null,null,null,null,null,null,null,null,null,0,0,0]
[null,"Eólica",3249.9970000000003,1792.5500000000002,452.03,3.6762999999999901,1193.2446,145.47499999999999,35.307000000000002,3799.9272000000001,5596.7844999999998,1274.51,null,0,3320.8969999999999,448.18,0,0,263.286,988.13874999999996,193.85,{"$f":"SUM(C10:U10)","v":22757.853349999998},22608.70205,149.15129999999999]
[null,"Solar fotovoltaica",840.56516000004081,164.193659999999,0.77793000000000001,77.5061299999997,343.22615999999596,161.15557999999911,2.0477600000000002,903.85472000007121,483.70753999999897,244.035359999999,null,532.69149000000607,14.930369999999991,85.080699999999894,64.467529999999996,5.79E-2,428.12927999999312,160.73785999999399,25.1457100000003,{"$f":"SUM(C11:U11)","v":4532.3108400000974},4293.5912300000991,238.7196099999988]
[null,"Solar térmica",947.32,0,0,0,0,0,0,349.4,0,22.5,null,599.29999999999995,0,0,0,0,31.4,0,0,1949.92,1949.92,0]
[null,"Otras renovables",289.488,86.866,85.57,2.13,33.393000000000001,3.3679999999999999,12.862,58.009,27.461410000000001,66.678000000000011,null,17.100000000000001,93.852000000000004,4.3529999999999998,42.545000000000002,0,19.969000000000001,46.362000000000002,83.923999999999992,973.93040999999994,968.43240999999989,5.4979999999999993]
[null,"Cogeneración",973.19799999999998,600.26600000000008,152.12099999999998,85.625,646.62750000000005,33.268000000000001,313.62599999999998,462.11400000000003,635.73549999999989,1323.6009000000001,null,19.399999999999999,578.83799999999997,46.316000000000003,329.97789999999998,2.1680000000000001,340.08200000000005,173.74100000000001,521.50639999999987,7238.2111999999988,7117.1501999999991,121.06100000000001]
[null,"Residuos renovables"]
[null,"Residuos no renovables"]
[null,"Potencia 2012",{"$f":"SUM(C3:C16)","v":15420.519160000036},{"$f":"SUM(D3:D16)","v":7258.952659999999},4713.6289299999999,2234.6874299999999,7407.7302599999948,2902.3995799999989,822.76675999999998,8704.3529200000703,14187.76045,12994.41251,90.82,5463.3964900000074,10838.324570000001,1424.1804300000001,538.44142999999997,78.365900000000011,4382.2042799999936,2814.5346099999938,2965.3892099999998,{"$f":"SUM(C17:U17)","v":105242.86758000009},{"$f":"V17-F17-H17-M17-R17","v":99936.594670000079},5306.2729099999988]
[null,"% Potencia s/total",0.14335419087721576,6.9675987967829825E-2,4.6628970531449335E-2,2.1279088914371851E-2,7.0519079683474775E-2,2.7977014382763371E-2,7.9012069908794905E-3,8.4058806187905219E-2,0.13083582539620831,0.12460403751829317,8.8219961892360579E-4,5.0124287676286114E-2,0.10327147440720075,1.384680812734251E-2,5.062208964718283E-3,7.6122403783974242E-4,4.1036821574658343E-2,2.7245931517655711E-2,3.0934835624983555E-2,1,0.94910047304610134,5.0899526953898565E-2]
[null,"Δ2012/2011",4.5152808992589888E-2,1.2007042059076545E-2,-2.0671605686247041E-2,2.0065486135033339E-2,2.0863086277951082E-2,8.1471949026203916E-3,1.1162440616079072E-2,6.7082331948491447E-3,5.3510191979151189E-2,1.3447453003316845E-2,0,6.034034058877924E-2,2.1627567048710938E-2,-5.3545985330794021E-4,3.8100004409271859E-2,0,3.7775886323492491E-2,4.6600195555228652E-3,-6.8809845627962885E-2,2.2785201879708561E-2,2.3317204697774097E-2,1.2867947591509665E-2]
[]
[null,2013]
[null,"CCAA","Andalucía","Aragón","Asturias","Baleares","C. Valenciana","Canarias","Cantabria","Castilla-La Mancha","Castilla y León","Cataluña","Ceuta","Extremadura","Galicia","La Rioja","Madrid","Melilla","Murcia","Navarra","País Vasco","España","PENINSULAR","NO PENINSULAR"]
[null,"Bombeo puro",582.88,219.14,0,0,633.95000000000005,0,360.6,215,0,439.32,0,0,0,0,0,0,0,0,0,{"$f":"SUM(C23:U23)","v":2450.8900000000003},{"$f":"V23-F23-H23-M23-R23","v":2450.8900000000003},{"$f":"F23+H23+M23+R23","v":0}]
[null,"Hidráulica",600.56100000000004,1329.0169999999998,804.36999999999989,0,639.80899999999997,1.2630000000000001,98.323999999999955,651.25800000000004,4394.9544999999998,1910.9582500000004,0,2277.7750000000001,3666.5772000000002,55.550730000000001,103.751,0,35.628,243.23500000000001,172.8931,{"$f":"SUM(C24:U24)","v":16985.924780000001},{"$f":"V24-F24-H24-M24-R24","v":16984.661780000002},{"$f":"F24+H24+M24+R24","v":1.2630000000000001}]
[null,"Nuclear ",0,0,0,0,1063.94,0,0,1003.41,455.29,3032.81,0,2017.13,0,0,0,0,0,0,0,{"$f":"SUM(C25:U25)","v":7572.58},7572.58,{"$f":"F25+H25+M25+R25","v":0}]
[null,"Carbón ",1989.3999999999999,1198.1200000000001,2364.59,468.4,0,0,0,502.64,2595.23,0,0,0,1960.3899999999999,0,0,0,0,0,0,11078.77,10610.37,468.4]
[null,"Fuel / gas ",0,0,0,787.4,0,1536,0,0,0,505.52,90.82,0,0,0,0,76.14,0,0,0,2995.88,505.5200000000001,2490.36]
[null,"Ciclo combinado ",5951.7199999999984,1869.6799999999998,854.17000000000007,857.95,2853.54,864.2,0,758.74,0,4174.08,0,0,1246.98,784.7,0,0,3263.7099999999996,1222.32,1968.0700000000002,26669.859999999997,24947.709999999995,1722.15]
[null,"Hidroeólica",0,0,0,0,0,0,0,0,0,0,0,0,0,0,0,0,0,0,0,0,0,0]
[null,"Eólica",3324.4969999999998,1797.05,494.03,3.6762999999999999,1193.2446,152.59,35.307000000000002,3799.9992000000002,5652.1845000000003,1283.51,null,0,3351.1970000000001,448.18,0,0,263.286,1016.63875,193.85,23009.240349999996,22852.974049999997,156.2663]
[null,"Solar fotovoltaica",864.96854000006101,167.04605999999799,0.77793000000000001,77.674929999999904,346.32707999999599,164.19107999999801,2.0460600000000002,919.32851000007997,489.75649000000698,260.05444999999804,null,553.73834000000898,15.993829999999999,85.470699999999994,65.188030000000893,5.79E-2,439.12198000001001,161.11355999998801,25.5686099999999,4638.4240800001453,4396.5001700001476,241.9239099999979]
[null,"Solar térmica",997.22750000000008,0,0,0,49.9,0,0,349.4,0,22.5,null,849,0,0,0,0,31.4,0,0,2299.4275000000002,2299.4275000000002,0]
[null,"Otras renovables",290.90299999999996,86.866,86.569000000000003,2.13,26.088999999999999,3.3679999999999999,12.862,58.009,27.521409999999996,74.774999999999991,null,17.100000000000001,65.938999999999993,4.3529999999999998,42.545000000000002,0,21.094000000000001,46.362000000000002,83.455000000000013,949.94040999999982,944.44240999999977,5.4979999999999993]
[null,"Cogeneración",931.64800000000002,601.76600000000008,156.06900000000002,85.625,650.60149999999999,33.268000000000001,311.56299999999999,458.46699999999998,635.16649999999993,1319.5708999999999,null,19.399999999999999,598.70799999999997,46.316000000000003,326.5779,2.1680000000000001,315.38600000000002,172.73150000000001,513.90940000000001,7178.9416999999994,7057.8806999999997,121.06100000000001]
[null,"Residuos renovables"]
[null,"Residuos no renovables"]
[null,{"$f":"CONCATENATE(\"Potencia \",B21)","v":"Potencia 2013"},{"$f":"SUM(C23:C35)","v":15533.805040000059},7268.685059999998,4760.5759300000009,2282.8562300000003,7457.4011799999953,2754.8800799999976,820.70206000000007,8716.2517100000805,14250.103400000005,13023.098599999999,90.82,5734.1433400000096,10905.785030000001,1424.5704300000002,538.06193000000098,78.365900000000011,4369.6259800000098,2862.4008099999878,{"$f":"SUM(U23:U35)","v":2957.7461099999996},{"$f":"SUM(C37:U37)","v":105829.87882000016},{"$f":"V37-F37-H37-M37-R37","v":100622.95661000014},5206.9222099999979]
[null,"% Potencia s/total",{"$f":"C37/$V37","v":0.14678090169998775},{"$f":"D37/$V37","v":6.8682730633783287E-2},4.4983288113718677E-2,2.1570999187127265E-2,7.0465933280372095E-2,2.6031212647286611E-2,7.7549182626948307E-3,8.2360972224347365E-2,0.13465104145339873,0.12305691686702415,8.5816974386288783E-4,5.4182650532491661E-2,0.10305015135233228,1.3460947379737329E-2,5.0842156865279894E-3,7.4048936721630358E-4,4.1289152257577948E-2,2.7047189715377805E-2,2.7948119595134911E-2,1,{"$f":"W37/$V37","v":0.9507991290545067},{"$f":"X37/$V37","v":4.9200870945493066E-2}]
[null,{"$f":"CONCATENATE(\"Δ\",B21,\"/\",B21-1)","v":"Δ2013/2012"},{"$f":"(C37/C17-1)","v":7.3464374853138281E-3},1.3407443822617271E-3,9.9598421295332695E-3,2.1555050318603275E-2,6.7052819496158378E-3,-5.0826736958114238E-2,-2.5094596675245828E-3,1.3669930561603927E-3,4.3941360738160018E-3,2.2075711370501683E-3,0,4.9556507658846893E-2,6.2242516880079979E-3,2.7384170698097066E-4,-7.0481203498584666E-4,0,-2.8703134761175475E-3,1.7006790333977895E-2,-2.577435695195085E-3,5.5776819227568719E-3,6.8679740616186535E-3,-1.8723254850456006E-2]
[]
[null,2014]
[null,"CCAA","Andalucía","Aragón","Asturias","Baleares","C. Valenciana","Canarias","Cantabria","Castilla-La Mancha","Castilla y León","Cataluña","Ceuta","Extremadura","Galicia","La Rioja","Madrid","Melilla","Murcia","Navarra","País Vasco","España","PENINSULAR","NO PENINSULAR"]
[null,"Bombeo puro",582.88,219.14,0,0,633.95000000000005,0,360.6,215,0,439.32,0,0,0,0,0,0,0,0,0,{"$f":"SUM(C43:U43)","v":2450.8900000000003},{"$f":"V43-F43-H43-M43-R43","v":2450.8900000000003},{"$f":"F43+H43+M43+R43","v":0}]
[null,"Hidráulica",600.56100000000004,1329.0169999999998,804.36999999999989,0,639.80899999999997,1.2630000000000001,98.323999999999955,651.25800000000004,4394.9544999999998,1910.9582500000004,0,2277.7750000000001,3667.1972000000001,55.550730000000001,109.36099999999999,0,35.628,243.23500000000001,172.8931,{"$f":"SUM(C44:U44)","v":16992.154780000001},{"$f":"V44-F44-H44-M44-R44","v":16990.891780000002},{"$f":"F44+H44+M44+R44","v":1.2630000000000001}]
[null,"Nuclear ",0,0,0,0,1063.94,0,0,1003.41,455.29,3032.81,0,2017.13,0,0,0,0,0,0,0,{"$f":"SUM(C45:U45)","v":7572.58},7572.58,{"$f":"F45+H45+M45+R45","v":0}]
[null,"Carbón ",1989.4,1055.77,2364.59,468.4,0,0,0,502.64,2595.23,0,0,0,1960.39,0,0,0,0,0,0,10936.42,10468.02,468.4]
[null,"Fuel / gas ",0,0,0,787.4,0,1535.72,0,0,0,505.52,90.82,0,0,0,0,76.14,0,0,0,2995.6,505.51999999999987,2490.08]
[null,"Ciclo combinado ",5951.72,1869.68,854.17,857.95,2853.54,864.2,0,758.74,0,4174.08,0,0,1246.98,784.7,0,0,3263.71,1222.32,1968.07,26669.86,24947.71,1722.15]
[null,"Hidroeólica",0,0,0,0,0,11.39,0,0,0,0,0,0,0,0,0,0,0,0,0,11.39,0,11.39]
[null,"Eólica",3324.5074999999997,1815.51,494.03,3.6762999999999999,1193.2446,152.59,35.307000000000002,3799.9992000000002,5652.1845000000003,1283.51,0,0,3351.1970000000001,448.18,0,0,263.286,1016.63875,193.85,23027.710849999996,22871.444549999997,156.2663]
[null,"Solar fotovoltaica",865.78927000006104,167.24525999999798,0.77793000000000001,77.733829999999898,346.47006999999599,165.24327999999801,2.0472600000000001,919.39996000008,492.75971000000698,260.94679999999806,0,553.73834000000898,16.193829999999998,85.470699999999994,66.000030000000905,5.79E-2,439.12328000001003,161.11355999998801,25.5886099999999,4645.6996200001458,4402.6646100001481,243.0350099999979]
[null,"Solar térmica",997.22750000000008,0,0,0,49.9,0,0,349.4,0,22.5,0,849,0,0,0,0,31.4,0,0,2299.4275000000002,2299.4275000000002,0]
[null,"Otras renovables",290.90299999999996,86.866,86.569000000000003,2.13,26.088999999999999,3.3679999999999999,12.862,58.009,44.545409999999997,75.274000000000001,0,37.099999999999994,65.938999999999993,4.3529999999999998,42.545000000000002,0,21.094000000000001,46.362000000000002,83.455000000000013,987.46340999999984,981.96540999999979,5.4979999999999993]
[null,"Cogeneración",931.66449999999998,598.82900000000018,156.06900000000002,85.625,650.60149999999999,33.268000000000001,311.56299999999999,451.43700000000001,637.27449999999999,1319.5708999999999,0,19.399999999999999,598.70799999999997,46.316000000000003,326.5779,2.1680000000000001,332.58600000000001,172.73150000000001,494.47339999999997,7168.8631999999989,7047.8021999999992,121.06100000000001]
[null,"Residuos renovables"]
[null,"Residuos no renovables"]
[null,{"$f":"CONCATENATE(\"Potencia \",B41)","v":"Potencia 2014"},{"$f":"SUM(C43:C56)","v":15534.652770000064},{"$f":"SUM(D43:D56)","v":7142.0572599999978},4760.5759300000009,2282.9151300000003,7457.5441699999947,2767.0422799999978,820.70326,8709.2931600000793,14272.238620000007,13024.489949999999,90.82,5754.1433400000096,10906.605030000001,1424.5704300000002,544.4839300000009,78.365900000000011,4386.8272800000104,2862.4008099999878,2938.3301099999994,{"$f":"SUM(C57:U57)","v":105758.05936000017},{"$f":"V57-F57-H57-M57-R57","v":100538.91605000017},5219.1433099999977]
[null,"% Potencia s/total",{"$f":"C57/$V57","v":0.1468885951955694},{"$f":"D57/$V57","v":6.7532037777739973E-2},4.5013835908193175E-2,2.1586204813280118E-2,7.0515138185493098E-2,2.6163890456622249E-2,7.7601959128838407E-3,8.2351106031112647E-2,0.13495178245865255,0.1231536398154269,8.587525201351221E-4,5.4408556424176809E-2,0.10312788543967079,1.3470088602427602E-2,5.1483918416711768E-3,7.409922276773506E-4,4.1479839045337065E-2,2.7065557247569969E-2,2.7783510096359949E-2,1,{"$f":"W57/$V57","v":0.95065015998228519},{"$f":"X57/$V57","v":4.9349840017714836E-2}]
[null,{"$f":"CONCATENATE(\"Δ\",B41,\"/\",B41-1)","v":"Δ2014/2013"},{"$f":"(C57/C37-1)","v":5.4573235457988645E-5},-1.7421005168712034E-2,0,2.5801011568793442E-5,1.9174239999752984E-5,4.4147838188297595E-3,1.4621627730804221E-6,-7.9834202034545498E-4,1.5533375006950845E-3,1.068370932859608E-4,0,3.4878793246211348E-3,7.518945199680438E-5,0,1.1935429068545833E-2,0,3.9365611790875832E-3,0,-6.5644579615389276E-3,-6.7863122211575533E-4,-8.3520264988534709E-4,2.3470871096420431E-3]
[]
[null,2015,null,null,null,null,{"$f":"G63-878","v":633.95000000000005}]
[null,"CCAA","Andalucía","Aragón","Asturias","Baleares","C. Valenciana","Canarias","Cantabria","Castilla-La Mancha","Castilla y León","Cataluña","Ceuta","Extremadura","Galicia","La Rioja","Madrid","Melilla","Murcia","Navarra","País Vasco","España","PENINSULAR","NO PENINSULAR"]
[null,"Bombeo puro",582.88,219.14,0,0,1511.95,0,360.6,215,0,439.32,0,0,0,0,0,0,0,0,0,{"$f":"SUM(C63:U63)","v":3328.8900000000003},{"$f":"V63-F63-H63-M63-R63","v":3328.8900000000003},{"$f":"F63+H63+M63+R63","v":0}]
[null,"Hidráulica",592.15299999999991,1333.8325,804.75179999999989,0,639.78399999999988,2.02,98.417000000000002,649.96699999999998,4400.8608999999997,1913.3928000000001,0,2277.8123000000001,3698.5956900000001,52.205539999999999,108.51659999999998,0,33.158000000000001,254.76300000000001,170.67649999999998,{"$f":"SUM(C64:U64)","v":17030.906629999994},{"$f":"V64-F64-H64-M64-R64","v":17028.886629999994},{"$f":"F64+H64+M64+R64","v":2.02}]
[null,"Nuclear ",0,0,0,0,1063.94,0,0,1003.41,455.29,3032.81,0,2017.13,0,0,0,0,0,0,0,{"$f":"SUM(C65:U65)","v":7572.58},7572.58,{"$f":"F65+H65+M65+R65","v":0}]
[null,"Carbón ",1989.4,1055.77,2364.59,468.4,0,0,0,502.64,2595.23,0,0,0,1960.39,0,0,0,0,0,0,10936.42,{"$f":"V66-F66-H66-M66-R66","v":10468.02},468.4]
[null,"Fuel / gas ",0,0,0,787.4,0,1535.7,0,0,0,0,90.82,0,0,0,0,76.14,0,0,0,2490.06,-1.8474111129762605E-13,2490.06]
[null,"Ciclo combinado ",5951.72,1869.68,854.17,857.95,2853.54,864.2,0,758.74,0,4174.08,0,0,1246.98,784.7,0,0,3263.71,1222.32,1968.07,26669.86,24947.71,1722.15]
[null,"Hidroeólica",0,0,0,0,0,11.39,0,0,0,0,0,0,0,0,0,0,0,0,0,11.39,0,11.39]
[null,"Eólica",3327.1805000000004,1907.9700000000003,518.45000000000005,3.6474999999999906,1205.2399999999998,152.05499999999998,35.310500000000005,3846.7592000000004,5557.5019999999995,1267.01,0,0,3333.6769999999997,448.12,0,0,262.77600000000001,986.92375000000015,153.28620000000001,23005.907650000001,22850.205150000002,155.70249999999996]
[null,"Solar fotovoltaica",875.17582700005403,168.56773999999731,0.79920000000000024,78.83145999999978,348.23335499999536,167.26166999999847,2.119484999999997,923.40259000007484,494.63796000000644,266.12388499999872,0,563.98298400001249,16.489339999999999,85.604179999999786,63.368492000000337,5.9700000000000003E-2,438.89098600000438,160.72224999999139,26.883840000000042,4681.1549440001336,4435.0021140001363,246.15282999999826]
[null,"Solar térmica",1000.0229999999998,0,0,0,49.9,0,0,349.4,0,24.29,0,849.09999999999991,0,0,0,0,31.4,0,0,2304.1129999999998,2304.1129999999998,0]
[null,"Otras renovables",232.25999999999996,42.335000000000001,86.710000000000008,2.13,14.042999999999999,3.6960000000000002,12.862,88.277000000000001,60.58,63.381999999999991,0,35.799999999999997,64.221000000000004,4.2949999999999999,42.584000000000003,0,15.524000000000001,49.011000000000003,53.972000000000001,871.6819999999999,865.85599999999988,5.8260000000000005]
[null,"Cogeneración",903.48049999999967,493.73199999999997,81.516999999999982,10.487000000000002,521.24260999999979,0,295.59949999999998,391.47699999999998,605.98,1105.2655000000002,0,18.077000000000002,550.87560000000008,43.102999999999994,244.64490000000001,0,326.80599999999998,167.29249999999996,422.69189999999998,6182.2720099999997,6171.7850099999996,10.487000000000002]
[null,"Residuos renovables",0,0,0,37.400000000000006,0,0,4.9669999999999996,0,0,27.174500000000002,0,0,25,0,14.9,1.0840000000000001,0,0,49.75,160.27550000000002,121.79150000000001,38.484000000000009]
[null,"Residuos no renovables",95.472999999999985,49.9,74.387,37.400000000000006,63.087999999999994,0,4.9669999999999996,0.68,0,32.374500000000005,0,0,40.68,0,14.9,1.0840000000000001,9.68,0,83.457999999999998,508.0714999999999,469.58749999999992,38.484000000000009]
[null,{"$f":"CONCATENATE(\"Potencia \",B61)","v":"Potencia 2015"},{"$f":"SUM(C63:C76)","v":15549.745827000053},{"$f":"SUM(D63:D76)","v":7140.9272399999973},4785.375,2283.6459600000003,8270.9609649999948,2736.3226699999982,814.84248500000001,8729.7527900000769,14170.080860000007,12345.223184999999,90.82,5761.9022840000143,10936.90863,1418.02772,488.91399200000029,78.367700000000013,4381.9449860000041,2841.0324999999912,2928.7884399999998,{"$f":"SUM(C77:U77)","v":105753.58323400015},{"$f":"V77-F77-H77-M77-R77","v":100564.42690400015},{"$f":"F77+H77+M77+R77","v":5189.156329999998}]
[null,"% Potencia s/total",{"$f":"C77/$V77","v":0.14703753150938867},{"$f":"D77/$V77","v":6.7524210732409148E-2},4.5250239790092378E-2,2.1594029158775587E-2,7.8209746772351929E-2,2.5874514946177832E-2,7.7051052085583167E-3,8.2548056747011767E-2,0.13399149633205315,0.11673574367389346,8.5878886769295815E-4,5.4484227463486481E-2,0.10341879958620395,1.3408791235587175E-2,4.6231435101180829E-3,7.4104061161309686E-4,4.1435428020477637E-2,2.6864645273660941E-2,2.7694460560447318E-2,1,{"$f":"W77/$V77","v":0.95093162641574058},{"$f":"X77/$V77","v":4.9068373584259466E-2}]
[null,{"$f":"CONCATENATE(\"Δ\",B61,\"/\",B61-1)","v":"Δ2015/2014"},{"$f":"(C77/C57-1)","v":9.7157350237897511E-4},-1.5822051810332471E-4,5.209258368030989E-3,3.2013016620546786E-4,0.10907301069327779,-1.1101966248235118E-2,-7.1411620809206378E-3,2.3491722719777286E-3,-7.1577951238037674E-3,-5.2153041509314546E-2,0,1.3484099268206151E-3,2.7784631346459143E-3,-4.5927599381662132E-3,-0.10205983122403728,2.2969174092279943E-5,-1.1129442050898941E-3,-7.4651704699583155E-3,-3.247310425580352E-3,-4.2324207035426831E-5,2.5374108854814281E-4,-5.7455751296470181E-3]
[]
[null,2016]
[null,"CCAA","Andalucía","Aragón","Asturias","Baleares","C. Valenciana","Canarias","Cantabria","Castilla-La Mancha","Castilla y León","Cataluña","Ceuta","Extremadura","Galicia","La Rioja","Madrid","Melilla","Murcia","Navarra","País Vasco","España","PENINSULAR","NO PENINSULAR"]
[null,"Bombeo puro",582.88,219.14,0,0,1511.95,0,360.6,215,0,439.32,0,0,0,0,0,0,0,0,0,{"$f":"SUM(C83:U83)","v":3328.8900000000003},{"$f":"V83-F83-H83-M83-R83","v":3328.8900000000003},{"$f":"F83+H83+M83+R83","v":0}]
[null,"Hidráulica",592.68299999999988,1333.8325,804.75179999999989,0,639.78399999999988,2.02,98.417000000000002,650.24199999999996,4400.8608999999997,1913.4378000000002,0,2277.8123000000001,3701.3756899999998,52.205539999999999,108.51659999999998,0,33.203000000000003,254.76300000000001,170.67649999999998,{"$f":"SUM(C84:U84)","v":17034.581629999997},{"$f":"V84-F84-H84-M84-R84","v":17032.561629999997},{"$f":"F84+H84+M84+R84","v":2.02}]
[null,"Nuclear ",0,0,0,0,1063.94,0,0,1003.41,455.29,3032.81,0,2017.13,0,0,0,0,0,0,0,{"$f":"SUM(C85:U85)","v":7572.58},7572.58,{"$f":"F85+H85+M85+R85","v":0}]
[null,"Carbón ",1989.4,1055.77,2073.42,468.4,0,0,0,0,2456.89,0,0,0,1960.39,0,0,0,0,0,0,10004.269999999999,{"$f":"V86-F86-H86-M86-R86","v":9535.869999999999},468.4]
[null,"Fuel / gas ",0,0,0,787.4,0,1535.7,0,0,0,0,90.82,0,0,0,0,76.14,0,0,0,2490.06,-1.8474111129762605E-13,2490.06]
[null,"Ciclo combinado ",5951.72,1869.68,854.17,857.95,2853.54,864.2,0,758.74,0,4174.08,0,0,1246.98,784.7,0,0,3263.71,1222.32,1968.07,26669.86,24947.71,1722.15]
[null,"Hidroeólica",0,0,0,0,0,11.39,0,0,0,0,0,0,0,0,0,0,0,0,0,11.39,0,11.39]
[null,"Eólica",3327.1805000000004,1907.9700000000003,518.45000000000005,3.6474999999999906,1205.2399999999998,152.05499999999998,35.310500000000005,3846.7592000000004,5591.0019999999995,1268.81,0,0,3336.0769999999998,448.12,0,0,262.77600000000001,995.15875000000017,153.3862,23051.942650000005,22896.240150000005,155.70249999999996]
[null,"Solar fotovoltaica",877.83644700005414,168.60273999999728,0.79920000000000024,79.489214999999774,348.25407999999538,167.26666999999847,2.119484999999997,923.4194500000749,494.78760500000641,266.53198499999871,0,563.98298400001249,16.666779999999996,85.604179999999786,63.607282000000339,5.9700000000000003E-2,438.89098600000438,160.84008999999139,26.909840000000038,4685.668719000133,4438.8531340001355,246.81558499999824]
[null,"Solar térmica",1000.0229999999998,0,0,0,49.9,0,0,349.4,0,24.29,0,849.09999999999991,0,0,0,0,31.4,0,0,2304.1129999999998,2304.1129999999998,0]
[null,"Otras renovables",233.64399999999998,42.335000000000001,86.710000000000008,2.13,12.393000000000001,3.6960000000000002,12.862,88.277000000000001,46.894999999999996,63.706999999999994,0,35.799999999999997,64.221000000000004,3.78,42.584000000000003,0,15.472000000000001,49.011000000000003,53.972000000000001,857.48899999999981,851.66299999999978,5.8260000000000005]
[null,"Cogeneración",897.44049999999982,490.9369999999999,74.905999999999977,10.487000000000002,501.85560999999984,0,295.59949999999998,381.48500000000001,596.42100000000005,1061.6035000000002,0,18.077000000000002,516.52859999999998,41.713000000000001,212.01689999999999,0,314.10199999999998,160.2285,420.36289999999997,5993.764009999999,5983.2770099999989,10.487000000000002]
[null,"Residuos renovables",0,0,0,37.400000000000006,0,0,4.9669999999999996,0,0,27.174500000000002,0,0,25,0,16.149999999999999,1.0840000000000001,0,0,49.75,161.52550000000002,123.04150000000001,38.484000000000009]
[null,"Residuos no renovables",83.540999999999997,49.9,74.387,37.400000000000006,63.087999999999994,0,4.9669999999999996,0.68,0,32.374500000000005,0,0,40.68,0,16.149999999999999,1.0840000000000001,9.68,0,83.457999999999998,497.3895,458.90550000000002,38.484000000000009]
[null,{"$f":"CONCATENATE(\"Potencia \",B81)","v":"Potencia 2016"},{"$f":"SUM(C83:C96)","v":15536.348447000055},{"$f":"SUM(D83:D96)","v":7138.167239999997},4487.5940000000001,2284.303715,8249.9446899999948,2736.3276699999983,814.84248500000001,8217.4126500000748,14042.146505000008,12304.139284999997,90.82,5761.9022840000143,10907.919069999998,1416.1227199999998,459.0247820000003,78.367700000000013,4369.2339860000047,2842.3213399999918,2926.5854400000003,{"$f":"SUM(C97:U97)","v":104663.52400900015},{"$f":"V97-F97-H97-M97-R97","v":99473.704924000136},{"$f":"F97+H97+M97+R97","v":5189.8190849999983}]
[null,"% Potencia s/total",{"$f":"C97/$V97","v":0.14844090712695729},{"$f":"D97/$V97","v":6.8201097828372151E-2},4.2876389291211965E-2,2.1825213097196785E-2,7.8823494317758425E-2,2.6144042978762095E-2,7.7853530417142337E-3,7.8512669316326944E-2,0.13416466374467295,0.11755900063084011,8.6773306039447196E-4,5.50516747697559E-2,0.10421891650678619,1.3530241155249327E-2,4.3857187720960757E-3,7.4875846902748165E-4,4.1745527177398392E-2,2.7156751761536112E-2,2.7961846953942996E-2,1,{"$f":"W97/$V97","v":0.95041425239461907},{"$f":"X97/$V97","v":4.9585747605380835E-2}]
[null,{"$f":"CONCATENATE(\"Δ\",B81,\"/\",B81-1)","v":"Δ2016/2015"},{"$f":"(C97/C77-1)","v":-8.6158192867280547E-4},-3.8650442824006426E-4,-6.2227307159835932E-2,2.880284472817074E-4,-2.5409713682525981E-3,1.8272698811827581E-6,0,-5.8688963172804476E-2,-9.028484471188758E-3,-3.3279187734669424E-3,0,0,-2.6506173710260095E-3,-1.3434152048876769E-3,-6.1133881396464473E-2,0,-2.9007666779501395E-3,4.5365197335844876E-4,-7.5218816419508894E-4,-1.0307539391720133E-2,-1.0846002046441594E-2,1.2771922020715643E-4]
[]
[null,2017]
[null,"CCAA","Andalucía","Aragón","Asturias","Baleares","C. Valenciana","Canarias","Cantabria","Castilla-La Mancha","Castilla y León","Cataluña","Ceuta","Extremadura","Galicia","La Rioja","Madrid","Melilla","Murcia","Navarra","País Vasco","España","PENINSULAR","NO PENINSULAR"]
[null,"Bombeo puro",582.88,219.14,0,0,1511.95,0,360.6,215,0,439.32,0,0,0,0,0,0,0,0,0,{"$f":"SUM(C103:U103)","v":3328.8900000000003},{"$f":"V103-F103-H103-M103-R103","v":3328.8900000000003},{"$f":"F103+H103+M103+R103","v":0}]
[null,"Hidráulica",589.57399999999996,1333.7075,804.75179999999989,0,639.78399999999988,2.02,98.417000000000002,650.24199999999996,4401.1028999999999,1913.0778,0,2277.8123000000001,3701.3756899999998,52.205539999999999,108.51659999999998,0,33.567999999999998,254.76300000000001,170.67649999999998,{"$f":"SUM(C104:U104)","v":17031.594629999996},{"$f":"V104-F104-H104-M104-R104","v":17029.574629999996},{"$f":"F104+H104+M104+R104","v":2.02}]
[null,"Nuclear ",0,0,0,0,1063.94,0,0,1003.41,0,3032.81,0,2017.13,0,0,0,0,0,0,0,{"$f":"SUM(C105:U105)","v":7117.29},{"$f":"V105-F105-H105-M105-R105","v":7117.29},{"$f":"F105+H105+M105+R105","v":0}]
[null,"Carbón ",1989.4,1055.77,2073.42,468.4,0,0,0,0,2456.89,0,0,0,1960.39,0,0,0,0,0,0,10004.269999999999,9535.869999999999,468.4]
[null,"Fuel / gas ",0,0,0,787.4,0,1535.7,0,0,0,0,90.82,0,0,0,0,76.14,0,0,0,2490.06,-1.8474111129762605E-13,2490.06]
[null,"Ciclo combinado ",5951.72,1869.68,854.17,857.95,2853.54,864.2,0,758.74,0,4174.08,0,0,1246.98,784.7,0,0,3263.71,1222.32,1968.07,26669.86,24947.71,1722.15]
[null,"Hidroeólica",0,0,0,0,0,11.39,0,0,0,0,0,0,0,0,0,0,0,0,0,11.39,0,11.39]
[null,"Eólica",3327.1805000000004,1925.9700000000003,518.45000000000005,3.6474999999999906,1205.2399999999998,206.89999999999998,35.310500000000005,3846.9842000000003,5591.0019999999995,1268.81,0,0,3343.1519999999996,448.12,0,0,262.77,995.15875000000017,153.38480000000001,23132.080249999995,22921.532749999995,210.54749999999996]
[null,"Solar fotovoltaica",878.25664700005393,168.6793399999973,0.74530000000000041,80.05728499999978,348.2160699999954,167.2255699999985,2.1930049999999972,924.83869000007485,495.1076500000064,266.24836499999873,0,563.9779840000125,16.671414999999996,85.602979999999789,63.537581000000337,5.9700000000000003E-2,437.54469600000482,160.83000999999143,26.817180000000043,4686.6094680001333,{"$f":"V111-F111-H111-M111-R111","v":4439.266913000135},247.34255499999827]
[null,"Solar térmica",1000.0229999999998,0,0,0,49.9,0,0,349.4,0,24.29,0,849.09999999999991,0,0,0,0,31.4,0,0,2304.1129999999998,2304.1129999999998,0]
[null,"Otras renovables",229.929,42.335000000000001,86.710000000000008,2.13,12.893000000000001,3.6960000000000002,12.862,88.277000000000001,46.894999999999996,64.537999999999997,0,35.799999999999997,65.821000000000012,4.1269999999999998,42.584000000000003,0,15.472000000000001,50.111000000000004,53.972000000000001,858.15199999999993,852.32599999999991,5.8260000000000005]
[null,"Cogeneración",849.71849999999984,478.22699999999998,68.923999999999978,10.487000000000002,499.4056099999998,0,295.59949999999998,354.21899999999999,593.09100000000001,1027.1405000000004,0,18.077000000000002,500.90560000000005,40.737000000000002,212.05190000000002,0,314.10199999999998,157.38050000000001,408.40789999999998,5828.4740100000008,5817.9870100000007,10.487000000000002]
[null,"Residuos renovables",0,0,0,37.400000000000006,0,0,4.9669999999999996,0,0,27.174500000000002,0,0,25,0,16.149999999999999,1.0840000000000001,0,0,49.75,{"$f":"SUM(C115:U115)","v":161.52550000000002},{"$f":"V115-F115-H115-M115-R115","v":123.04150000000001},{"$f":"F115+H115+M115+R115","v":38.484000000000009}]
[null,"Residuos no renovables",83.540999999999997,49.9,74.387,37.400000000000006,63.087999999999994,0,4.9669999999999996,0.68,0,32.374500000000005,0,0,40.68,0,16.149999999999999,1.0840000000000001,9.68,0,83.457999999999998,{"$f":"SUM(C116:U116)","v":497.3895},{"$f":"V116-F116-H116-M116-R116","v":458.90550000000002},{"$f":"F116+H116+M116+R116","v":38.484000000000009}]
[null,{"$f":"CONCATENATE(\"Potencia \",B101)","v":"Potencia 2017"},{"$f":"SUM(C103:C116)","v":15482.222647000053},{"$f":"SUM(D103:D116)","v":7143.4088399999964},4481.5580999999993,2284.8717850000003,8247.9566799999939,2791.1315699999986,814.91600500000004,8191.7908900000757,13584.088550000006,12269.863665000001,90.82,5761.8972840000133,10900.975705000001,1415.49252,458.99008100000026,78.367700000000013,4368.2466960000056,2840.5632599999917,2914.53638,{"$f":"SUM(C117:U117)","v":104121.69835800014},{"$f":"V117-F117-H117-M117-R117","v":98876.507303000137},{"$f":"F117+H117+M117+R117","v":5245.1910549999984}]
[null,"% Potencia s/total",{"$f":"C117/$V117","v":0.14869352777715697},{"$f":"D117/$V117","v":6.8606341931140194E-2},{"$f":"E117/$V117","v":4.3041538609859424E-2},2.1944242372458799E-2,7.9214580726883296E-2,2.6806435296543963E-2,7.8265723461221886E-3,7.8675156275633915E-2,0.13046357065070174,0.11784156288742721,8.7224854600176512E-4,5.5338103151073896E-2,0.10469456296726291,1.3594596921893576E-2,4.4082077822228871E-3,7.5265483790467453E-4,4.1953279334541065E-2,2.728118446774969E-2,2.7991633117421803E-2,{"$f":"V117/$V117","v":1},{"$f":"W117/$V117","v":0.94962441894709071},{"$f":"X117/$V117","v":5.0375581052909194E-2}]
[null,{"$f":"CONCATENATE(\"Δ\",B101,\"/\",B101-1)","v":"Δ2017/2016"},{"$f":"(C117/C97-1)","v":-3.4838173322800925E-3},{"$f":"(D117/D97-1)","v":7.3430613542191381E-4},-1.3450191795426614E-3,2.4868409409406489E-4,-2.4097252462929042E-4,2.0028266570867315E-2,9.0226026935757986E-5,-3.117983858337503E-3,-3.2620223328171383E-2,-2.7856983090058796E-3,0,-8.6776896834894757E-7,-6.3654350160091688E-4,-4.4501792895446091E-4,-7.559722559824511E-5,0,-2.2596409420105878E-4,-6.1853667819278257E-4,-4.1171051544629522E-3,-5.1768336307251861E-3,-6.0035727175967724E-3,1.0669344941144576E-2]

{"sheet":"demandas","index":9,"n_rows":14,"n_cols":26,"rows_kept":14,"cut":false,"hidden":true,"merged":[]}
[]
["años","datos","Andalucía","Aragón","Asturias","Baleares","C. Valenciana","Canarias","Cantabria","Castilla-La Mancha","Castilla y León","Cataluña","Ceuta","Extremadura","Galicia","La Rioja","Madrid","Melilla","Murcia","Navarra","País Vasco","España","PENINSULAR","NO PENINSULAR",null,"Resto nacional"]
[2012,"demanda",{"$f":"generacion_bruta!C21","v":39708.863076939146},{"$f":"generacion_bruta!D21","v":10238.73926267742},{"$f":"generacion_bruta!E21","v":10339.423124742669},{"$f":"generacion_bruta!F21","v":5822.6015400000006},{"$f":"generacion_bruta!G21","v":26476.476167514455},{"$f":"generacion_bruta!H21","v":8892.5404590000016},{"$f":"generacion_bruta!I21","v":4399.5110263543629},{"$f":"generacion_bruta!J21","v":12020.229025895496},{"$f":"generacion_bruta!K21","v":13729.507408160767},{"$f":"generacion_bruta!L21","v":47751.06659633715},{"$f":"generacion_bruta!M21","v":212.07499999999999},{"$f":"generacion_bruta!N21","v":4889.5721844771124},{"$f":"generacion_bruta!O21","v":19650.688462622595},{"$f":"generacion_bruta!P21","v":1732.8819409398857},{"$f":"generacion_bruta!Q21","v":31001.389508996344},{"$f":"generacion_bruta!R21","v":217.353072},{"$f":"generacion_bruta!S21","v":8607.1074412570179},{"$f":"generacion_bruta!T21","v":4798.8288074892571},{"$f":"generacion_bruta!U21","v":16669.937001596325},{"$f":"SUM(C3:U3)","v":267158.79110699997},{"$f":"V3-F3-H3-M3-R3","v":252014.22103599994},{"$f":"F3+H3+M3+R3","v":15144.570071000004},null,{"$f":"V3-Q3","v":236157.40159800363}]
[2012,{"$f":"CONCATENATE(\"Δ\",A3,\"/\",A3-1)","v":"Δ2012/2011"},{"$f":"generacion_bruta!C22","v":-6.6253995304094149E-3},{"$f":"generacion_bruta!D22","v":-1.5802294855419285E-2},{"$f":"generacion_bruta!E22","v":-5.6577205598954294E-2},{"$f":"generacion_bruta!F22","v":1.380968437772756E-2},{"$f":"generacion_bruta!G22","v":-2.7527619620950405E-2},{"$f":"generacion_bruta!H22","v":2.5145922186580183E-3},{"$f":"generacion_bruta!I22","v":-1.63297921417348E-2},{"$f":"generacion_bruta!J22","v":1.7293408388667775E-3},{"$f":"generacion_bruta!K22","v":1.3985707055680363E-2},{"$f":"generacion_bruta!L22","v":-9.2016778426609047E-3},{"$f":"generacion_bruta!M22","v":4.4822812436877024E-2},{"$f":"generacion_bruta!N22","v":3.63347585851439E-2},{"$f":"generacion_bruta!O22","v":-9.5401842400961723E-3},{"$f":"generacion_bruta!P22","v":-8.6181621773318007E-3},{"$f":"generacion_bruta!Q22","v":-1.7518747192757367E-2},{"$f":"generacion_bruta!R22","v":1.1383946086305885E-2},{"$f":"generacion_bruta!S22","v":3.3936701399665647E-2},{"$f":"generacion_bruta!T22","v":-2.9871573105463067E-2},{"$f":"generacion_bruta!U22","v":-5.8037027435034916E-2},{"$f":"generacion_bruta!V22","v":-1.2822046668117038E-2}]
[2013,"demanda",{"$f":"generacion_bruta!C48","v":38187.73774517783},{"$f":"generacion_bruta!D48","v":10104.853775950784},{"$f":"generacion_bruta!E48","v":10414.689433496729},{"$f":"generacion_bruta!F48","v":5673.5373459999992},{"$f":"generacion_bruta!G48","v":25895.09405579924},{"$f":"generacion_bruta!H48","v":8623.6832979999999},{"$f":"generacion_bruta!I48","v":4385.4652015213724},{"$f":"generacion_bruta!J48","v":11630.984446225},{"$f":"generacion_bruta!K48","v":13681.21204246595},{"$f":"generacion_bruta!L48","v":46273.066276843514},{"$f":"generacion_bruta!M48","v":201.959},{"$f":"generacion_bruta!N48","v":4866.3297721122271},{"$f":"generacion_bruta!O48","v":19870.365230834192},{"$f":"generacion_bruta!P48","v":1704.2347479909263},{"$f":"generacion_bruta!Q48","v":29707.614504403198},{"$f":"generacion_bruta!R48","v":209.66712000000001},{"$f":"generacion_bruta!S48","v":8314.6693422798126},{"$f":"generacion_bruta!T48","v":4776.0865743842915},{"$f":"generacion_bruta!U48","v":16556.006963514938},{"$f":"SUM(C5:U5)","v":261077.25687700004},{"$f":"V5-F5-H5-M5-R5","v":246368.41011300005},{"$f":"F5+H5+M5+R5","v":14708.846764},null,{"$f":"V5-Q5","v":231369.64237259683}]
[2013,{"$f":"CONCATENATE(\"Δ\",A5,\"/\",A5-1)","v":"Δ2013/2012"},{"$f":"generacion_bruta!C49","v":-3.8306947464449181E-2},{"$f":"generacion_bruta!D49","v":-1.3076364510490102E-2},{"$f":"generacion_bruta!E49","v":7.279546242183077E-3},{"$f":"generacion_bruta!F49","v":-2.5600960837859676E-2},{"$f":"generacion_bruta!G49","v":-2.1958439938791652E-2},{"$f":"generacion_bruta!H49","v":-3.0234010431506753E-2},{"$f":"generacion_bruta!I49","v":-3.1925877100550393E-3},{"$f":"generacion_bruta!J49","v":-3.2382459504884276E-2},{"$f":"generacion_bruta!K49","v":-3.5176328078683206E-3},{"$f":"generacion_bruta!L49","v":-3.0952194889967366E-2},{"$f":"generacion_bruta!M49","v":-4.7700106094542005E-2},{"$f":"generacion_bruta!N49","v":-4.7534654337801907E-3},{"$f":"generacion_bruta!O49","v":1.1179087624814787E-2},{"$f":"generacion_bruta!P49","v":-1.6531531821158962E-2},{"$f":"generacion_bruta!Q49","v":-4.1732806983303283E-2},{"$f":"generacion_bruta!R49","v":-3.5361598201841815E-2},{"$f":"generacion_bruta!S49","v":-3.3976350472336714E-2},{"$f":"generacion_bruta!T49","v":-4.739121568469562E-3},{"$f":"generacion_bruta!U49","v":-6.8344612262468685E-3},{"$f":"generacion_bruta!V49","v":-2.2763743632767897E-2}]
[2014,"demanda",{"$f":"generacion_bruta!C75","v":37538.080926739356},{"$f":"generacion_bruta!D75","v":10089.683998845234},{"$f":"generacion_bruta!E75","v":10312.647253359972},{"$f":"generacion_bruta!F75","v":5585.4268609999999},{"$f":"generacion_bruta!G75","v":25885.871391500277},{"$f":"generacion_bruta!H75","v":8579.9686590000001},{"$f":"generacion_bruta!I75","v":4321.6115102376498},{"$f":"generacion_bruta!J75","v":11650.855787772291},{"$f":"generacion_bruta!K75","v":13556.985580039785},{"$f":"generacion_bruta!L75","v":45622.290954681965},{"$f":"generacion_bruta!M75","v":212.25299999999999},{"$f":"generacion_bruta!N75","v":4637.7777916169653},{"$f":"generacion_bruta!O75","v":19748.989034026425},{"$f":"generacion_bruta!P75","v":1690.3850094950128},{"$f":"generacion_bruta!Q75","v":28447.618300880553},{"$f":"generacion_bruta!R75","v":209.863147},{"$f":"generacion_bruta!S75","v":8468.6681564068713},{"$f":"generacion_bruta!T75","v":4779.9900567836521},{"$f":"generacion_bruta!U75","v":16792.370888613979},{"$f":"SUM(C7:U7)","v":258131.33830800001},{"$f":"V7-F7-H7-M7-R7","v":243543.82664099999},{"$f":"F7+H7+M7+R7","v":14587.511667000001},null,{"$f":"V7-Q7","v":229683.72000711947}]
[2014,{"$f":"CONCATENATE(\"Δ\",A7,\"/\",A7-1)","v":"Δ2014/2013"},{"$f":"generacion_bruta!C76","v":-1.7012183931228275E-2},{"$f":"generacion_bruta!D76","v":-1.5012366771356422E-3},{"$f":"generacion_bruta!E76","v":-9.7979090772077893E-3},{"$f":"generacion_bruta!F76","v":-1.5530079318526013E-2},{"$f":"generacion_bruta!G76","v":-3.5615488706430831E-4},{"$f":"generacion_bruta!H76","v":-5.0691378021892053E-3},{"$f":"generacion_bruta!I76","v":-1.4560300526742509E-2},{"$f":"generacion_bruta!J76","v":1.7084832018445795E-3},{"$f":"generacion_bruta!K76","v":-9.080077265126052E-3},{"$f":"generacion_bruta!L76","v":-1.4063803731269475E-2},{"$f":"generacion_bruta!M76","v":5.0970741586163548E-2},{"$f":"generacion_bruta!N76","v":-4.6965986934350168E-2},{"$f":"generacion_bruta!O76","v":-6.1084029104517823E-3},{"$f":"generacion_bruta!P76","v":-8.126661254994727E-3},{"$f":"generacion_bruta!Q76","v":-4.2413240663799923E-2},{"$f":"generacion_bruta!R76","v":9.3494392444548602E-4},{"$f":"generacion_bruta!S76","v":1.8521339549124383E-2},{"$f":"generacion_bruta!T76","v":8.1729724504908674E-4},{"$f":"generacion_bruta!U76","v":1.4276626339909448E-2},{"$f":"generacion_bruta!V76","v":-1.1283704311279452E-2}]
[2015,"demanda",{"$f":"generacion_bruta!C102","v":38660.478606179197},{"$f":"generacion_bruta!D102","v":10301.005918326602},{"$f":"generacion_bruta!E102","v":10467.806079645714},{"$f":"generacion_bruta!F102","v":5796.4179390000008},{"$f":"generacion_bruta!G102","v":26745.564684589404},{"$f":"generacion_bruta!H102","v":8669.3768900000014},{"$f":"generacion_bruta!I102","v":4247.8922381349439},{"$f":"generacion_bruta!J102","v":11570.992648442838},{"$f":"generacion_bruta!K102","v":13864.63565363608},{"$f":"generacion_bruta!L102","v":46647.083871136419},{"$f":"generacion_bruta!M102","v":205.43799999999999},{"$f":"generacion_bruta!N102","v":4835.6118556111833},{"$f":"generacion_bruta!O102","v":19718.197069280224},{"$f":"generacion_bruta!P102","v":1725.1173431950142},{"$f":"generacion_bruta!Q102","v":28873.944388532964},{"$f":"generacion_bruta!R102","v":213.48581799999999},{"$f":"generacion_bruta!S102","v":8920.1974209587934},{"$f":"generacion_bruta!T102","v":4843.1225127210555},{"$f":"generacion_bruta!U102","v":16976.664163609585},{"$f":"SUM(C9:U9)","v":263283.03310099995},{"$f":"V9-F9-H9-M9-R9","v":248398.31445399995},{"$f":"F9+H9+M9+R9","v":14884.718647000002},null,{"$f":"V9-Q9","v":234409.088712467}]
[2015,{"$f":"CONCATENATE(\"Δ\",A9,\"/\",A9-1)","v":"Δ2015/2014"},{"$f":"generacion_bruta!C103","v":2.9900241347722289E-2},{"$f":"generacion_bruta!D103","v":2.0944354600753945E-2},{"$f":"generacion_bruta!E103","v":1.5045489530846723E-2},{"$f":"generacion_bruta!F103","v":3.7775282579248781E-2},{"$f":"generacion_bruta!G103","v":3.3210907992512473E-2},{"$f":"generacion_bruta!H103","v":1.0420577807847442E-2},{"$f":"generacion_bruta!I103","v":-1.705828298727663E-2},{"$f":"generacion_bruta!J103","v":-6.8547015587704374E-3},{"$f":"generacion_bruta!K103","v":2.2693103255140512E-2},{"$f":"generacion_bruta!L103","v":2.2462548351033451E-2},{"$f":"generacion_bruta!M103","v":-3.2107908957706099E-2},{"$f":"generacion_bruta!N103","v":4.2657081232269078E-2},{"$f":"generacion_bruta!O103","v":-1.5591666334487941E-3},{"$f":"generacion_bruta!P103","v":2.0546995805634349E-2},{"$f":"generacion_bruta!Q103","v":1.4986354328271334E-2},{"$f":"generacion_bruta!R103","v":1.7262063643789682E-2},{"$f":"generacion_bruta!S103","v":5.3317624000926545E-2},{"$f":"generacion_bruta!T103","v":1.3207654239323574E-2},{"$f":"generacion_bruta!U103","v":1.0974821615008734E-2},{"$f":"generacion_bruta!V103","v":1.9957649570053304E-2}]
[2016,"demanda",{"$f":"generacion_bruta!C129","v":39606.137821905009},{"$f":"generacion_bruta!D129","v":10437.905158794245},{"$f":"generacion_bruta!E129","v":10508.598098673157},{"$f":"generacion_bruta!F129","v":5832.244001},{"$f":"generacion_bruta!G129","v":26852.694276523944},{"$f":"generacion_bruta!H129","v":8776.8321209999995},{"$f":"generacion_bruta!I129","v":4204.4716903848803},{"$f":"generacion_bruta!J129","v":11711.100448161369},{"$f":"generacion_bruta!K129","v":14026.167292334412},{"$f":"generacion_bruta!L129","v":46911.011285754168},{"$f":"generacion_bruta!M129","v":210.73599999999999},{"$f":"generacion_bruta!N129","v":4968.626308339828},{"$f":"generacion_bruta!O129","v":19961.379817576959},{"$f":"generacion_bruta!P129","v":1732.0538633453953},{"$f":"generacion_bruta!Q129","v":28968.736497616606},{"$f":"generacion_bruta!R129","v":208.34808699999999},{"$f":"generacion_bruta!S129","v":9053.1126999901844},{"$f":"generacion_bruta!T129","v":4948.5646158618929},{"$f":"generacion_bruta!U129","v":16208.428509737936},{"$f":"SUM(C11:U11)","v":265127.14859399997},{"$f":"V11-F11-H11-M11-R11","v":250098.98838499998},{"$f":"F11+H11+M11+R11","v":15028.160209},null,{"$f":"V11-Q11","v":236158.41209638337}]
[2016,{"$f":"CONCATENATE(\"Δ\",A11,\"/\",A11-1)","v":"Δ2016/2015"},{"$f":"generacion_bruta!C130","v":2.4460618435661718E-2},{"$f":"generacion_bruta!D130","v":1.3289890477985677E-2},{"$f":"generacion_bruta!E130","v":3.8969024375377082E-3},{"$f":"generacion_bruta!F130","v":6.1807244365439384E-3},{"$f":"generacion_bruta!G130","v":4.0055086964108089E-3},{"$f":"generacion_bruta!H130","v":1.2394804420597483E-2},{"$f":"generacion_bruta!I130","v":-1.0221668845612597E-2},{"$f":"generacion_bruta!J130","v":1.2108537614306192E-2},{"$f":"generacion_bruta!K130","v":1.1650622687367163E-2},{"$f":"generacion_bruta!L130","v":5.6579617141094829E-3},{"$f":"generacion_bruta!M130","v":2.578880246108306E-2},{"$f":"generacion_bruta!N130","v":2.7507264168503687E-2},{"$f":"generacion_bruta!O130","v":1.2332909922865065E-2},{"$f":"generacion_bruta!P130","v":4.0208975799491675E-3},{"$f":"generacion_bruta!Q130","v":3.2829636231235249E-3},{"$f":"generacion_bruta!R130","v":-2.4065912425152325E-2},{"$f":"generacion_bruta!S130","v":1.4900486251469669E-2},{"$f":"generacion_bruta!T130","v":2.1771512668506965E-2},{"$f":"generacion_bruta!U130","v":-4.5252450450095183E-2},{"$f":"generacion_bruta!V130","v":7.0043081442798805E-3}]
[2017,"demanda",{"$f":"generacion_bruta!C156","v":40272.291375389483},{"$f":"generacion_bruta!D156","v":10611.568962965492},{"$f":"generacion_bruta!E156","v":10582.950860832847},{"$f":"generacion_bruta!F156","v":6028.2657749999998},{"$f":"generacion_bruta!G156","v":27023.262126954251},{"$f":"generacion_bruta!H156","v":8958.3884280000002},{"$f":"generacion_bruta!I156","v":4368.2957056844134},{"$f":"generacion_bruta!J156","v":11712.93873428711},{"$f":"generacion_bruta!K156","v":14110.169804757021},{"$f":"generacion_bruta!L156","v":47652.192571577201},{"$f":"generacion_bruta!M156","v":202.86199999999999},{"$f":"generacion_bruta!N156","v":5067.5435632336648},{"$f":"generacion_bruta!O156","v":19858.241049633376},{"$f":"generacion_bruta!P156","v":1713.894709894231},{"$f":"generacion_bruta!Q156","v":28767.646453443936},{"$f":"generacion_bruta!R156","v":210.59316500000003},{"$f":"generacion_bruta!S156","v":9399.5068577381298},{"$f":"generacion_bruta!T156","v":5056.5488197388431},{"$f":"generacion_bruta!U156","v":16543.216880869979},{"$f":"generacion_bruta!V156","v":268140.47784499999},{"$f":"V13-F13-H13-M13-R13","v":252740.36847699998},{"$f":"F13+H13+M13+R13","v":15400.109367999999},null,{"$f":"V13-Q13","v":239372.83139155604}]
[2017,{"$f":"CONCATENATE(\"Δ\",A13,\"/\",A13-1)","v":"Δ2017/2016"},{"$f":"generacion_bruta!C157","v":1.6819452491932729E-2},{"$f":"generacion_bruta!D157","v":1.6637802464120943E-2},{"$f":"generacion_bruta!E157","v":7.0754216177586482E-3},{"$f":"generacion_bruta!F157","v":3.3610009109082073E-2},{"$f":"generacion_bruta!G157","v":6.3519827349103331E-3},{"$f":"generacion_bruta!H157","v":2.0685858462029527E-2},{"$f":"generacion_bruta!I157","v":3.8964233169693774E-2},{"$f":"generacion_bruta!J157","v":1.5696954644695005E-4},{"$f":"generacion_bruta!K157","v":5.988985492032306E-3},{"$f":"generacion_bruta!L157","v":1.5799729434699206E-2},{"$f":"generacion_bruta!M157","v":-3.7364285171968659E-2},{"$f":"generacion_bruta!N157","v":1.9908370796130281E-2},{"$f":"generacion_bruta!O157","v":-5.1669157586372583E-3},{"$f":"generacion_bruta!P157","v":-1.0484173636546412E-2},{"$f":"generacion_bruta!Q157","v":-6.9416228833181215E-3},{"$f":"generacion_bruta!R157","v":1.0775611297069609E-2},{"$f":"generacion_bruta!S157","v":3.8262437376740177E-2},{"$f":"generacion_bruta!T157","v":2.182131835377521E-2},{"$f":"generacion_bruta!U157","v":2.0655202380101434E-2},{"$f":"generacion_bruta!V157","v":1.1365600493876471E-2}]

{"sheet":"datos_genanual","index":10,"n_rows":85,"n_cols":22,"rows_kept":85,"cut":false,"hidden":true,"merged":[]}
[null,"CCAA","Andalucía","Aragón","Asturias","Baleares","C. Valenciana","Canarias","Cantabria","Castilla-La Mancha","Castilla y León","Cataluña","Ceuta","Extremadura","Galicia","La Rioja","Madrid","Melilla","Murcia","Navarra","País Vasco","España"]
[2012,"Hidráulica",{"$f":"generacion_bruta!C4","v":708.12823024314901},{"$f":"generacion_bruta!D4","v":2265.7872366774168},{"$f":"generacion_bruta!E4","v":1215.6513411426697},{"$f":"generacion_bruta!F4","v":0},{"$f":"generacion_bruta!G4","v":392.04890251445227},{"$f":"generacion_bruta!H4","v":1.7913010000000003},{"$f":"generacion_bruta!I4","v":301.97110235436344},{"$f":"generacion_bruta!J4","v":690.92367089549748},{"$f":"generacion_bruta!K4","v":4859.2501749907715},{"$f":"generacion_bruta!L4","v":3314.245442441148},{"$f":"generacion_bruta!M4","v":0},{"$f":"generacion_bruta!N4","v":1104.4829648371124},{"$f":"generacion_bruta!O4","v":4668.2641749225922},{"$f":"generacion_bruta!P4","v":123.69396693988554},{"$f":"generacion_bruta!Q4","v":65.607026996344942},{"$f":"generacion_bruta!R4","v":0},{"$f":"generacion_bruta!S4","v":108.18707425701834},{"$f":"generacion_bruta!T4","v":470.97455648925609},{"$f":"generacion_bruta!U4","v":333.21549259632434},{"$f":"generacion_bruta!V4","v":20624.222659298001}]
[null,"Turbinación bombeo",{"$f":"generacion_bruta!C5","v":309.25779369600002},{"$f":"generacion_bruta!D5","v":260.21164300000004},{"$f":"generacion_bruta!E5","v":35.558962600000001},{"$f":"generacion_bruta!F5","v":0},{"$f":"generacion_bruta!G5","v":822.86881900000003},{"$f":"generacion_bruta!H5","v":0},{"$f":"generacion_bruta!I5","v":575.40194900000006},{"$f":"generacion_bruta!J5","v":102.59608},{"$f":"generacion_bruta!K5","v":710.77451016999999},{"$f":"generacion_bruta!L5","v":287.26596689600001},{"$f":"generacion_bruta!M5","v":0},{"$f":"generacion_bruta!N5","v":7.1577256399999998},{"$f":"generacion_bruta!O5","v":90.796293699999993},{"$f":"generacion_bruta!P5","v":0},{"$f":"generacion_bruta!Q5","v":0},{"$f":"generacion_bruta!R5","v":0},{"$f":"generacion_bruta!S5","v":0},{"$f":"generacion_bruta!T5","v":0},{"$f":"generacion_bruta!U5","v":0},{"$f":"generacion_bruta!V5","v":3201.8897437020005}]
[null,"Nuclear ",{"$f":"generacion_bruta!C6","v":0},{"$f":"generacion_bruta!D6","v":0},{"$f":"generacion_bruta!E6","v":0},{"$f":"generacion_bruta!F6","v":0},{"$f":"generacion_bruta!G6","v":9015.0619999999999},{"$f":"generacion_bruta!H6","v":0},{"$f":"generacion_bruta!I6","v":0},{"$f":"generacion_bruta!J6","v":7948.4009999999998},{"$f":"generacion_bruta!K6","v":3703.47},{"$f":"generacion_bruta!L6","v":22950.870999999999},{"$f":"generacion_bruta!M6","v":0},{"$f":"generacion_bruta!N6","v":15049.183000000001},{"$f":"generacion_bruta!O6","v":0},{"$f":"generacion_bruta!P6","v":0},{"$f":"generacion_bruta!Q6","v":0},{"$f":"generacion_bruta!R6","v":0},{"$f":"generacion_bruta!S6","v":0},{"$f":"generacion_bruta!T6","v":0},{"$f":"generacion_bruta!U6","v":0},{"$f":"generacion_bruta!V6","v":58666.987000000008}]
[null,"Carbón ",{"$f":"generacion_bruta!C7","v":10920.123},{"$f":"generacion_bruta!D7","v":4836.6360000000004},{"$f":"generacion_bruta!E7","v":10061.81},{"$f":"generacion_bruta!F7","v":2682.5329999999999},{"$f":"generacion_bruta!G7","v":0},{"$f":"generacion_bruta!H7","v":0},{"$f":"generacion_bruta!I7","v":0},{"$f":"generacion_bruta!J7","v":1741.818},{"$f":"generacion_bruta!K7","v":10341.323},{"$f":"generacion_bruta!L7","v":0},{"$f":"generacion_bruta!M7","v":0},{"$f":"generacion_bruta!N7","v":0},{"$f":"generacion_bruta!O7","v":12248.726000000001},{"$f":"generacion_bruta!P7","v":0},{"$f":"generacion_bruta!Q7","v":0},{"$f":"generacion_bruta!R7","v":0},{"$f":"generacion_bruta!S7","v":0},{"$f":"generacion_bruta!T7","v":0},{"$f":"generacion_bruta!U7","v":980.45},{"$f":"generacion_bruta!V7","v":53813.419000000002}]
[null,"Fuel / gas ",{"$f":"generacion_bruta!C8","v":0},{"$f":"generacion_bruta!D8","v":0},{"$f":"generacion_bruta!E8","v":0},{"$f":"generacion_bruta!F8","v":1284.5139999999999},{"$f":"generacion_bruta!G8","v":0},{"$f":"generacion_bruta!H8","v":5386.6469999999999},{"$f":"generacion_bruta!I8","v":0},{"$f":"generacion_bruta!J8","v":0},{"$f":"generacion_bruta!K8","v":0},{"$f":"generacion_bruta!L8","v":0},{"$f":"generacion_bruta!M8","v":212.07499999999999},{"$f":"generacion_bruta!N8","v":0},{"$f":"generacion_bruta!O8","v":0},{"$f":"generacion_bruta!P8","v":0},{"$f":"generacion_bruta!Q8","v":0},{"$f":"generacion_bruta!R8","v":214.96100000000001},{"$f":"generacion_bruta!S8","v":0},{"$f":"generacion_bruta!T8","v":0},{"$f":"generacion_bruta!U8","v":0},{"$f":"generacion_bruta!V8","v":7098.1970000000001}]
[null,"Ciclo combinado ",{"$f":"generacion_bruta!C9","v":9738.8850000000002},{"$f":"generacion_bruta!D9","v":940.65099999999995},{"$f":"generacion_bruta!E9","v":774.10299999999995},{"$f":"generacion_bruta!F9","v":890.56},{"$f":"generacion_bruta!G9","v":4774.3879999999999},{"$f":"generacion_bruta!H9","v":2877.7710000000002},{"$f":"generacion_bruta!I9","v":0},{"$f":"generacion_bruta!J9","v":2553.9279999999999},{"$f":"generacion_bruta!K9","v":0},{"$f":"generacion_bruta!L9","v":8041.259},{"$f":"generacion_bruta!M9","v":0},{"$f":"generacion_bruta!N9","v":0},{"$f":"generacion_bruta!O9","v":1291.607},{"$f":"generacion_bruta!P9","v":1311.0820000000001},{"$f":"generacion_bruta!Q9","v":0},{"$f":"generacion_bruta!R9","v":0},{"$f":"generacion_bruta!S9","v":3097.9720000000002},{"$f":"generacion_bruta!T9","v":832.76700000000005},{"$f":"generacion_bruta!U9","v":4175.0240000000003},{"$f":"generacion_bruta!V9","v":41299.996999999996}]
[null,"Hidroeólica",{"$f":"generacion_bruta!C10","v":0},{"$f":"generacion_bruta!D10","v":0},{"$f":"generacion_bruta!E10","v":0},{"$f":"generacion_bruta!F10","v":0},{"$f":"generacion_bruta!G10","v":0},{"$f":"generacion_bruta!H10","v":0},{"$f":"generacion_bruta!I10","v":0},{"$f":"generacion_bruta!J10","v":0},{"$f":"generacion_bruta!K10","v":0},{"$f":"generacion_bruta!L10","v":0},{"$f":"generacion_bruta!M10","v":0},{"$f":"generacion_bruta!N10","v":0},{"$f":"generacion_bruta!O10","v":0},{"$f":"generacion_bruta!P10","v":0},{"$f":"generacion_bruta!Q10","v":0},{"$f":"generacion_bruta!R10","v":0},{"$f":"generacion_bruta!S10","v":0},{"$f":"generacion_bruta!T10","v":0},{"$f":"generacion_bruta!U10","v":0},{"$f":"generacion_bruta!V10","v":0}]
[null,"Eólica",{"$f":"generacion_bruta!C11","v":5736.3085949999995},{"$f":"generacion_bruta!D11","v":4453.4094860000005},{"$f":"generacion_bruta!E11","v":884.39691900000003},{"$f":"generacion_bruta!F11","v":6.5046990000000005},{"$f":"generacion_bruta!G11","v":2547.6952380000002},{"$f":"generacion_bruta!H11","v":361.76732499999997},{"$f":"generacion_bruta!I11","v":62.089361999999994},{"$f":"generacion_bruta!J11","v":7948.2695899999999},{"$f":"generacion_bruta!K11","v":11364.710531999999},{"$f":"generacion_bruta!L11","v":2647.569039},{"$f":"generacion_bruta!M11","v":0},{"$f":"generacion_bruta!N11","v":0},{"$f":"generacion_bruta!O11","v":8068.6186040000002},{"$f":"generacion_bruta!P11","v":1005.869132},{"$f":"generacion_bruta!Q11","v":0},{"$f":"generacion_bruta!R11","v":0},{"$f":"generacion_bruta!S11","v":403.31686399999995},{"$f":"generacion_bruta!T11","v":2677.9481930000002},{"$f":"generacion_bruta!U11","v":339.864375},{"$f":"generacion_bruta!V11","v":48508.337953000002}]
[null,"Solar fotovoltaica",{"$f":"generacion_bruta!C12","v":1530.531512},{"$f":"generacion_bruta!D12","v":285.43228199999999},{"$f":"generacion_bruta!E12","v":0.73396400000000017},{"$f":"generacion_bruta!F12","v":115.59326900000001},{"$f":"generacion_bruta!G12","v":527.54466600000001},{"$f":"generacion_bruta!H12","v":256.51338599999997},{"$f":"generacion_bruta!I12","v":2.1365879999999997},{"$f":"generacion_bruta!J12","v":1753.1257839999998},{"$f":"generacion_bruta!K12","v":832.01289199999985},{"$f":"generacion_bruta!L12","v":409.62192199999998},{"$f":"generacion_bruta!M12","v":0},{"$f":"generacion_bruta!N12","v":1110.4756620000003},{"$f":"generacion_bruta!O12","v":17.670514999999998},{"$f":"generacion_bruta!P12","v":140.93820200000002},{"$f":"generacion_bruta!Q12","v":80.340487999999993},{"$f":"generacion_bruta!R12","v":8.3113999999999993E-2},{"$f":"generacion_bruta!S12","v":792.42207499999995},{"$f":"generacion_bruta!T12","v":317.69611599999996},{"$f":"generacion_bruta!U12","v":29.217547000000003},{"$f":"generacion_bruta!V12","v":8202.0899840000002}]
[null,"Solar térmica",{"$f":"generacion_bruta!C13","v":1837.6318939999999},{"$f":"generacion_bruta!D13","v":0},{"$f":"generacion_bruta!E13","v":0},{"$f":"generacion_bruta!F13","v":0},{"$f":"generacion_bruta!G13","v":0},{"$f":"generacion_bruta!H13","v":0},{"$f":"generacion_bruta!I13","v":0},{"$f":"generacion_bruta!J13","v":524.68599199999994},{"$f":"generacion_bruta!K13","v":0},{"$f":"generacion_bruta!L13","v":0.56833500000000003},{"$f":"generacion_bruta!M13","v":0},{"$f":"generacion_bruta!N13","v":1057.8690019999999},{"$f":"generacion_bruta!O13","v":0},{"$f":"generacion_bruta!P13","v":0},{"$f":"generacion_bruta!Q13","v":0},{"$f":"generacion_bruta!R13","v":0},{"$f":"generacion_bruta!S13","v":23.378823000000001},{"$f":"generacion_bruta!T13","v":0},{"$f":"generacion_bruta!U13","v":0},{"$f":"generacion_bruta!V13","v":3444.1340459999997}]
[null,"Otras renovables",{"$f":"generacion_bruta!C14","v":1458.2796969999999},{"$f":"generacion_bruta!D14","v":316.07290999999998},{"$f":"generacion_bruta!E14","v":656.22561100000007},{"$f":"generacion_bruta!F14","v":0.56983000000000006},{"$f":"generacion_bruta!G14","v":52.936557000000001},{"$f":"generacion_bruta!H14","v":8.0504470000000001},{"$f":"generacion_bruta!I14","v":16.857637999999998},{"$f":"generacion_bruta!J14","v":247.08517900000001},{"$f":"generacion_bruta!K14","v":172.33288899999999},{"$f":"generacion_bruta!L14","v":256.14881200000002},{"$f":"generacion_bruta!M14","v":0},{"$f":"generacion_bruta!N14","v":150.31303000000003},{"$f":"generacion_bruta!O14","v":597.38521300000002},{"$f":"generacion_bruta!P14","v":15.679898999999997},{"$f":"generacion_bruta!Q14","v":298.03053999999997},{"$f":"generacion_bruta!R14","v":0},{"$f":"generacion_bruta!S14","v":28.802131999999997},{"$f":"generacion_bruta!T14","v":290.99263400000001},{"$f":"generacion_bruta!U14","v":189.00736900000001},{"$f":"generacion_bruta!V14","v":4754.7703869999996}]
[null,"Cogeneración",{"$f":"generacion_bruta!C15","v":5795.4123549999995},{"$f":"generacion_bruta!D15","v":3260.8027050000001},{"$f":"generacion_bruta!E15","v":724.31532700000002},{"$f":"generacion_bruta!F15","v":272.07574200000005},{"$f":"generacion_bruta!G15","v":2117.8639850000004},{"$f":"generacion_bruta!H15","v":0},{"$f":"generacion_bruta!I15","v":1669.3213869999997},{"$f":"generacion_bruta!J15","v":1356.04973},{"$f":"generacion_bruta!K15","v":3326.2084100000006},{"$f":"generacion_bruta!L15","v":6185.6930789999988},{"$f":"generacion_bruta!M15","v":0},{"$f":"generacion_bruta!N15","v":29.920800000000003},{"$f":"generacion_bruta!O15","v":2257.7876620000002},{"$f":"generacion_bruta!P15","v":167.90174099999999},{"$f":"generacion_bruta!Q15","v":1226.5214539999999},{"$f":"generacion_bruta!R15","v":2.3089580000000001},{"$f":"generacion_bruta!S15","v":1959.6794729999997},{"$f":"generacion_bruta!T15","v":960.60030799999981},{"$f":"generacion_bruta!U15","v":2454.7862180000002},{"$f":"generacion_bruta!V15","v":33767.249334000007}]
[null,"Residuos no renovables"]
[null,"Residuos renovables"]
[2013,"Hidráulica",{"$f":"generacion_bruta!C31","v":1286.1321584498305},{"$f":"generacion_bruta!D31","v":4272.6099799507865},{"$f":"generacion_bruta!E31","v":2166.2710856967292},{"$f":"generacion_bruta!F31","v":0},{"$f":"generacion_bruta!G31","v":474.37543279924034},{"$f":"generacion_bruta!H31","v":3.0495039999999993},{"$f":"generacion_bruta!I31","v":344.96342052137277},{"$f":"generacion_bruta!J31","v":922.93221922500265},{"$f":"generacion_bruta!K31","v":8006.0414120659525},{"$f":"generacion_bruta!L31","v":5406.8467415115038},{"$f":"generacion_bruta!M31","v":0},{"$f":"generacion_bruta!N31","v":2826.8328173122231},{"$f":"generacion_bruta!O31","v":9896.4054708341937},{"$f":"generacion_bruta!P31","v":173.13812399092654},{"$f":"generacion_bruta!Q31","v":167.98673340319692},{"$f":"generacion_bruta!R31","v":0},{"$f":"generacion_bruta!S31","v":131.77058027981309},{"$f":"generacion_bruta!T31","v":770.78815838429125},{"$f":"generacion_bruta!U31","v":539.56449551493711},{"$f":"generacion_bruta!V31","v":37389.708333940005}]
[null,"Turbinación bombeo",{"$f":"generacion_bruta!C32","v":332.629382728},{"$f":"generacion_bruta!D32","v":292.33720500000004},{"$f":"generacion_bruta!E32","v":53.9984088},{"$f":"generacion_bruta!F32","v":0},{"$f":"generacion_bruta!G32","v":1116.1926289999999},{"$f":"generacion_bruta!H32","v":0},{"$f":"generacion_bruta!I32","v":537.83828000000005},{"$f":"generacion_bruta!J32","v":113.22974000000001},{"$f":"generacion_bruta!K32","v":485.54780339999996},{"$f":"generacion_bruta!L32","v":245.14893433200001},{"$f":"generacion_bruta!M32","v":0},{"$f":"generacion_bruta!N32","v":33.458268799999999},{"$f":"generacion_bruta!O32","v":79.296532000000013},{"$f":"generacion_bruta!P32","v":0},{"$f":"generacion_bruta!Q32","v":0},{"$f":"generacion_bruta!R32","v":0},{"$f":"generacion_bruta!S32","v":0},{"$f":"generacion_bruta!T32","v":0},{"$f":"generacion_bruta!U32","v":0},{"$f":"generacion_bruta!V32","v":3289.6771840599999}]
[null,"Nuclear ",{"$f":"generacion_bruta!C33","v":0},{"$f":"generacion_bruta!D33","v":0},{"$f":"generacion_bruta!E33","v":0},{"$f":"generacion_bruta!F33","v":0},{"$f":"generacion_bruta!G33","v":8004.8639999999996},{"$f":"generacion_bruta!H33","v":0},{"$f":"generacion_bruta!I33","v":0},{"$f":"generacion_bruta!J33","v":7484.576},{"$f":"generacion_bruta!K33","v":0},{"$f":"generacion_bruta!L33","v":23719.595000000001},{"$f":"generacion_bruta!M33","v":0},{"$f":"generacion_bruta!N33","v":15097.852000000001},{"$f":"generacion_bruta!O33","v":0},{"$f":"generacion_bruta!P33","v":0},{"$f":"generacion_bruta!Q33","v":0},{"$f":"generacion_bruta!R33","v":0},{"$f":"generacion_bruta!S33","v":0},{"$f":"generacion_bruta!T33","v":0},{"$f":"generacion_bruta!U33","v":0},{"$f":"generacion_bruta!V33","v":54306.887000000002}]
[null,"Carbón ",{"$f":"generacion_bruta!C34","v":9277.5969999999998},{"$f":"generacion_bruta!D34","v":3435.268},{"$f":"generacion_bruta!E34","v":8564.4740000000002},{"$f":"generacion_bruta!F34","v":2350.681},{"$f":"generacion_bruta!G34","v":0},{"$f":"generacion_bruta!H34","v":0},{"$f":"generacion_bruta!I34","v":0},{"$f":"generacion_bruta!J34","v":786.55799999999999},{"$f":"generacion_bruta!K34","v":5717.3879999999999},{"$f":"generacion_bruta!L34","v":0},{"$f":"generacion_bruta!M34","v":0},{"$f":"generacion_bruta!N34","v":0},{"$f":"generacion_bruta!O34","v":9395.598},{"$f":"generacion_bruta!P34","v":0},{"$f":"generacion_bruta!Q34","v":0},{"$f":"generacion_bruta!R34","v":0},{"$f":"generacion_bruta!S34","v":0},{"$f":"generacion_bruta!T34","v":0},{"$f":"generacion_bruta!U34","v":0},{"$f":"generacion_bruta!V34","v":39527.563999999998}]
[null,"Fuel / gas ",{"$f":"generacion_bruta!C35","v":0},{"$f":"generacion_bruta!D35","v":0},{"$f":"generacion_bruta!E35","v":0},{"$f":"generacion_bruta!F35","v":1260.1559999999999},{"$f":"generacion_bruta!G35","v":0},{"$f":"generacion_bruta!H35","v":4910.1319999999996},{"$f":"generacion_bruta!I35","v":0},{"$f":"generacion_bruta!J35","v":0},{"$f":"generacion_bruta!K35","v":0},{"$f":"generacion_bruta!L35","v":0},{"$f":"generacion_bruta!M35","v":201.959},{"$f":"generacion_bruta!N35","v":0},{"$f":"generacion_bruta!O35","v":0},{"$f":"generacion_bruta!P35","v":0},{"$f":"generacion_bruta!Q35","v":0},{"$f":"generacion_bruta!R35","v":201.547},{"$f":"generacion_bruta!S35","v":0},{"$f":"generacion_bruta!T35","v":0},{"$f":"generacion_bruta!U35","v":0},{"$f":"generacion_bruta!V35","v":6573.793999999999}]
[null,"Ciclo combinado ",{"$f":"generacion_bruta!C36","v":5827.2139999999999},{"$f":"generacion_bruta!D36","v":89.442999999999998},{"$f":"generacion_bruta!E36","v":296.952},{"$f":"generacion_bruta!F36","v":413.57499999999999},{"$f":"generacion_bruta!G36","v":3940.2930000000001},{"$f":"generacion_bruta!H36","v":3052.68},{"$f":"generacion_bruta!I36","v":0},{"$f":"generacion_bruta!J36","v":1106.768},{"$f":"generacion_bruta!K36","v":0},{"$f":"generacion_bruta!L36","v":5685.0379999999996},{"$f":"generacion_bruta!M36","v":0},{"$f":"generacion_bruta!N36","v":0},{"$f":"generacion_bruta!O36","v":1157.1690000000001},{"$f":"generacion_bruta!P36","v":395.64299999999997},{"$f":"generacion_bruta!Q36","v":0},{"$f":"generacion_bruta!R36","v":0},{"$f":"generacion_bruta!S36","v":2342.3290000000002},{"$f":"generacion_bruta!T36","v":361.286},{"$f":"generacion_bruta!U36","v":3158.4450000000002},{"$f":"generacion_bruta!V36","v":27826.835000000003}]
[null,"Hidroeólica",{"$f":"generacion_bruta!C37","v":0},{"$f":"generacion_bruta!D37","v":0},{"$f":"generacion_bruta!E37","v":0},{"$f":"generacion_bruta!F37","v":0},{"$f":"generacion_bruta!G37","v":0},{"$f":"generacion_bruta!H37","v":0},{"$f":"generacion_bruta!I37","v":0},{"$f":"generacion_bruta!J37","v":0},{"$f":"generacion_bruta!K37","v":0},{"$f":"generacion_bruta!L37","v":0},{"$f":"generacion_bruta!M37","v":0},{"$f":"generacion_bruta!N37","v":0},{"$f":"generacion_bruta!O37","v":0},{"$f":"generacion_bruta!P37","v":0},{"$f":"generacion_bruta!Q37","v":0},{"$f":"generacion_bruta!R37","v":0},{"$f":"generacion_bruta!S37","v":0},{"$f":"generacion_bruta!T37","v":0},{"$f":"generacion_bruta!U37","v":0},{"$f":"generacion_bruta!V37","v":0}]
[null,"Eólica",{"$f":"generacion_bruta!C38","v":6986.8114810000006},{"$f":"generacion_bruta!D38","v":4869.4722959999999},{"$f":"generacion_bruta!E38","v":1140.5479029999999},{"$f":"generacion_bruta!F38","v":6.1594680000000004},{"$f":"generacion_bruta!G38","v":2594.8544980000001},{"$f":"generacion_bruta!H38","v":362.73348499999997},{"$f":"generacion_bruta!I38","v":74.550423999999992},{"$f":"generacion_bruta!J38","v":8657.4786239999994},{"$f":"generacion_bruta!K38","v":12684.693724999999},{"$f":"generacion_bruta!L38","v":3194.7266680000002},{"$f":"generacion_bruta!M38","v":0},{"$f":"generacion_bruta!N38","v":0},{"$f":"generacion_bruta!O38","v":9497.9060239999999},{"$f":"generacion_bruta!P38","v":1078.3850749999999},{"$f":"generacion_bruta!Q38","v":0},{"$f":"generacion_bruta!R38","v":0},{"$f":"generacion_bruta!S38","v":543.81997799999999},{"$f":"generacion_bruta!T38","v":2664.7521859999997},{"$f":"generacion_bruta!U38","v":356.35344999999995},{"$f":"generacion_bruta!V38","v":54713.245285000005}]
[null,"Solar fotovoltaica",{"$f":"generacion_bruta!C39","v":1586.3959349999998},{"$f":"generacion_bruta!D39","v":309.12395099999998},{"$f":"generacion_bruta!E39","v":0.73813499999999999},{"$f":"generacion_bruta!F39","v":122.097173},{"$f":"generacion_bruta!G39","v":564.34867599999995},{"$f":"generacion_bruta!H39","v":286.70133000000004},{"$f":"generacion_bruta!I39","v":2.0671429999999997},{"$f":"generacion_bruta!J39","v":1697.8569010000001},{"$f":"generacion_bruta!K39","v":848.07693299999994},{"$f":"generacion_bruta!L39","v":431.35078599999997},{"$f":"generacion_bruta!M39","v":0},{"$f":"generacion_bruta!N39","v":1110.4428409999998},{"$f":"generacion_bruta!O39","v":20.475404999999999},{"$f":"generacion_bruta!P39","v":130.10738699999999},{"$f":"generacion_bruta!Q39","v":92.065936999999991},{"$f":"generacion_bruta!R39","v":8.2323000000000007E-2},{"$f":"generacion_bruta!S39","v":801.93057499999998},{"$f":"generacion_bruta!T39","v":295.442564},{"$f":"generacion_bruta!U39","v":27.615430999999997},{"$f":"generacion_bruta!V39","v":8326.9194260000022}]
[null,"Solar térmica",{"$f":"generacion_bruta!C40","v":1987.7873390000004},{"$f":"generacion_bruta!D40","v":0},{"$f":"generacion_bruta!E40","v":0},{"$f":"generacion_bruta!F40","v":0},{"$f":"generacion_bruta!G40","v":9.8331619999999997},{"$f":"generacion_bruta!H40","v":0},{"$f":"generacion_bruta!I40","v":0},{"$f":"generacion_bruta!J40","v":678.24493700000005},{"$f":"generacion_bruta!K40","v":0},{"$f":"generacion_bruta!L40","v":73.818010000000001},{"$f":"generacion_bruta!M40","v":0},{"$f":"generacion_bruta!N40","v":1648.8201199999999},{"$f":"generacion_bruta!O40","v":0},{"$f":"generacion_bruta!P40","v":0},{"$f":"generacion_bruta!Q40","v":0},{"$f":"generacion_bruta!R40","v":0},{"$f":"generacion_bruta!S40","v":43.023967000000006},{"$f":"generacion_bruta!T40","v":0},{"$f":"generacion_bruta!U40","v":0},{"$f":"generacion_bruta!V40","v":4441.5275350000002}]
[null,"Otras renovables",{"$f":"generacion_bruta!C41","v":1764.0065419999999},{"$f":"generacion_bruta!D41","v":228.21192100000002},{"$f":"generacion_bruta!E41","v":666.23538100000007},{"$f":"generacion_bruta!F41","v":0.74474999999999991},{"$f":"generacion_bruta!G41","v":52.92403199999999},{"$f":"generacion_bruta!H41","v":8.3869790000000002},{"$f":"generacion_bruta!I41","v":81.926783999999998},{"$f":"generacion_bruta!J41","v":239.06713000000002},{"$f":"generacion_bruta!K41","v":181.36608100000004},{"$f":"generacion_bruta!L41","v":258.64171000000005},{"$f":"generacion_bruta!M41","v":0},{"$f":"generacion_bruta!N41","v":150.03492600000004},{"$f":"generacion_bruta!O41","v":597.00197200000002},{"$f":"generacion_bruta!P41","v":11.889306999999999},{"$f":"generacion_bruta!Q41","v":286.10578200000003},{"$f":"generacion_bruta!R41","v":0},{"$f":"generacion_bruta!S41","v":57.719059999999999},{"$f":"generacion_bruta!T41","v":303.59326699999997},{"$f":"generacion_bruta!U41","v":186.841747},{"$f":"generacion_bruta!V41","v":5074.6973710000002}]
[null,"Cogeneración",{"$f":"generacion_bruta!C42","v":5641.9709069999999},{"$f":"generacion_bruta!D42","v":3287.8084229999999},{"$f":"generacion_bruta!E42","v":756.72251999999992},{"$f":"generacion_bruta!F42","v":251.61495500000001},{"$f":"generacion_bruta!G42","v":2074.8986260000001},{"$f":"generacion_bruta!H42","v":0},{"$f":"generacion_bruta!I42","v":1219.7241500000002},{"$f":"generacion_bruta!J42","v":1145.6358950000001},{"$f":"generacion_bruta!K42","v":2968.3200879999995},{"$f":"generacion_bruta!L42","v":6131.3114270000005},{"$f":"generacion_bruta!M42","v":0},{"$f":"generacion_bruta!N42","v":30.034799},{"$f":"generacion_bruta!O42","v":2441.2428270000005},{"$f":"generacion_bruta!P42","v":149.74085499999998},{"$f":"generacion_bruta!Q42","v":1086.329052},{"$f":"generacion_bruta!R42","v":8.0377970000000012},{"$f":"generacion_bruta!S42","v":1960.3691819999999},{"$f":"generacion_bruta!T42","v":981.56739900000014},{"$f":"generacion_bruta!U42","v":2161.0488399999999},{"$f":"generacion_bruta!V42","v":32296.377742000001}]
[null,"Residuos no renovables"]
[null,"Residuos renovables"]
[2014,"Hidráulica",{"$f":"generacion_bruta!C58","v":936.37467762735992},{"$f":"generacion_bruta!D58","v":4039.7862648452337},{"$f":"generacion_bruta!E58","v":1896.052339259968},{"$f":"generacion_bruta!F58","v":0},{"$f":"generacion_bruta!G58","v":607.1494165002739},{"$f":"generacion_bruta!H58","v":3.4789059999999998},{"$f":"generacion_bruta!I58","v":271.61234823764926},{"$f":"generacion_bruta!J58","v":1006.2846817722913},{"$f":"generacion_bruta!K58","v":10365.32792049978},{"$f":"generacion_bruta!L58","v":5246.5570729579749},{"$f":"generacion_bruta!M58","v":0},{"$f":"generacion_bruta!N58","v":3077.5099238969678},{"$f":"generacion_bruta!O58","v":10108.640688426429},{"$f":"generacion_bruta!P58","v":159.64944749501296},{"$f":"generacion_bruta!Q58","v":205.96352488055231},{"$f":"generacion_bruta!R58","v":0},{"$f":"generacion_bruta!S58","v":126.67792540687067},{"$f":"generacion_bruta!T58","v":663.12646678365127},{"$f":"generacion_bruta!U58","v":401.68643061397825},{"$f":"generacion_bruta!V58","v":39115.878035203983}]
[null,"Turbinación bombeo",{"$f":"generacion_bruta!C59","v":340.48619211200003},{"$f":"generacion_bruta!D59","v":327.19046900000001},{"$f":"generacion_bruta!E59","v":53.915689100000002},{"$f":"generacion_bruta!F59","v":0},{"$f":"generacion_bruta!G59","v":1170.074173},{"$f":"generacion_bruta!H59","v":0},{"$f":"generacion_bruta!I59","v":606.80295599999999},{"$f":"generacion_bruta!J59","v":61.018680000000003},{"$f":"generacion_bruta!K59","v":497.24005754000001},{"$f":"generacion_bruta!L59","v":269.09663272400002},{"$f":"generacion_bruta!M59","v":0},{"$f":"generacion_bruta!N59","v":43.361114719999996},{"$f":"generacion_bruta!O59","v":46.810062599999995},{"$f":"generacion_bruta!P59","v":0},{"$f":"generacion_bruta!Q59","v":0},{"$f":"generacion_bruta!R59","v":0},{"$f":"generacion_bruta!S59","v":0},{"$f":"generacion_bruta!T59","v":0},{"$f":"generacion_bruta!U59","v":0},{"$f":"generacion_bruta!V59","v":3415.996026796}]
[null,"Nuclear ",{"$f":"generacion_bruta!C60","v":0},{"$f":"generacion_bruta!D60","v":0},{"$f":"generacion_bruta!E60","v":0},{"$f":"generacion_bruta!F60","v":0},{"$f":"generacion_bruta!G60","v":9108.2160000000003},{"$f":"generacion_bruta!H60","v":0},{"$f":"generacion_bruta!I60","v":0},{"$f":"generacion_bruta!J60","v":7783.9080000000004},{"$f":"generacion_bruta!K60","v":0},{"$f":"generacion_bruta!L60","v":22776.108},{"$f":"generacion_bruta!M60","v":0},{"$f":"generacion_bruta!N60","v":15202.007},{"$f":"generacion_bruta!O60","v":0},{"$f":"generacion_bruta!P60","v":0},{"$f":"generacion_bruta!Q60","v":0},{"$f":"generacion_bruta!R60","v":0},{"$f":"generacion_bruta!S60","v":0},{"$f":"generacion_bruta!T60","v":0},{"$f":"generacion_bruta!U60","v":0},{"$f":"generacion_bruta!V60","v":54870.239000000001}]
[null,"Carbón ",{"$f":"generacion_bruta!C61","v":9502.9719999999998},{"$f":"generacion_bruta!D61","v":4611.7569999999996},{"$f":"generacion_bruta!E61","v":8565.27},{"$f":"generacion_bruta!F61","v":2187.6260000000002},{"$f":"generacion_bruta!G61","v":0},{"$f":"generacion_bruta!H61","v":0},{"$f":"generacion_bruta!I61","v":0},{"$f":"generacion_bruta!J61","v":881.26},{"$f":"generacion_bruta!K61","v":8006.7139999999999},{"$f":"generacion_bruta!L61","v":0},{"$f":"generacion_bruta!M61","v":0},{"$f":"generacion_bruta!N61","v":0},{"$f":"generacion_bruta!O61","v":9564.7039999999997},{"$f":"generacion_bruta!P61","v":0},{"$f":"generacion_bruta!Q61","v":0},{"$f":"generacion_bruta!R61","v":0},{"$f":"generacion_bruta!S61","v":0},{"$f":"generacion_bruta!T61","v":0},{"$f":"generacion_bruta!U61","v":0},{"$f":"generacion_bruta!V61","v":43320.303}]
[null,"Fuel / gas ",{"$f":"generacion_bruta!C62","v":0},{"$f":"generacion_bruta!D62","v":0},{"$f":"generacion_bruta!E62","v":0},{"$f":"generacion_bruta!F62","v":1260.664},{"$f":"generacion_bruta!G62","v":0},{"$f":"generacion_bruta!H62","v":4582.9089999999997},{"$f":"generacion_bruta!I62","v":0},{"$f":"generacion_bruta!J62","v":0},{"$f":"generacion_bruta!K62","v":0},{"$f":"generacion_bruta!L62","v":0},{"$f":"generacion_bruta!M62","v":212.25299999999999},{"$f":"generacion_bruta!N62","v":0},{"$f":"generacion_bruta!O62","v":0},{"$f":"generacion_bruta!P62","v":0},{"$f":"generacion_bruta!Q62","v":0},{"$f":"generacion_bruta!R62","v":200.881},{"$f":"generacion_bruta!S62","v":0},{"$f":"generacion_bruta!T62","v":0},{"$f":"generacion_bruta!U62","v":0},{"$f":"generacion_bruta!V62","v":6256.7069999999994}]
[null,"Ciclo combinado ",{"$f":"generacion_bruta!C63","v":4403.777},{"$f":"generacion_bruta!D63","v":210.17099999999999},{"$f":"generacion_bruta!E63","v":289.476},{"$f":"generacion_bruta!F63","v":426.92399999999998},{"$f":"generacion_bruta!G63","v":4017.6619999999998},{"$f":"generacion_bruta!H63","v":3311.4479999999999},{"$f":"generacion_bruta!I63","v":0},{"$f":"generacion_bruta!J63","v":1045.816},{"$f":"generacion_bruta!K63","v":0},{"$f":"generacion_bruta!L63","v":5031.3490000000002},{"$f":"generacion_bruta!M63","v":0},{"$f":"generacion_bruta!N63","v":0},{"$f":"generacion_bruta!O63","v":509.42700000000002},{"$f":"generacion_bruta!P63","v":162.452},{"$f":"generacion_bruta!Q63","v":0},{"$f":"generacion_bruta!R63","v":0},{"$f":"generacion_bruta!S63","v":2336.5219999999999},{"$f":"generacion_bruta!T63","v":369.63499999999999},{"$f":"generacion_bruta!U63","v":2960.4659999999999},{"$f":"generacion_bruta!V63","v":25075.125}]
[null,"Hidroeólica",{"$f":"generacion_bruta!C64","v":0},{"$f":"generacion_bruta!D64","v":0},{"$f":"generacion_bruta!E64","v":0},{"$f":"generacion_bruta!F64","v":0},{"$f":"generacion_bruta!G64","v":0},{"$f":"generacion_bruta!H64","v":1.071861},{"$f":"generacion_bruta!I64","v":0},{"$f":"generacion_bruta!J64","v":0},{"$f":"generacion_bruta!K64","v":0},{"$f":"generacion_bruta!L64","v":0},{"$f":"generacion_bruta!M64","v":0},{"$f":"generacion_bruta!N64","v":0},{"$f":"generacion_bruta!O64","v":0},{"$f":"generacion_bruta!P64","v":0},{"$f":"generacion_bruta!Q64","v":0},{"$f":"generacion_bruta!R64","v":0},{"$f":"generacion_bruta!S64","v":0},{"$f":"generacion_bruta!T64","v":0},{"$f":"generacion_bruta!U64","v":0},{"$f":"generacion_bruta!V64","v":1.071861}]
[null,"Eólica",{"$f":"generacion_bruta!C65","v":6450.4117070000002},{"$f":"generacion_bruta!D65","v":4314.4136579999995},{"$f":"generacion_bruta!E65","v":1140.6081340000001},{"$f":"generacion_bruta!F65","v":5.8395779999999995},{"$f":"generacion_bruta!G65","v":2577.3914760000002},{"$f":"generacion_bruta!H65","v":389.96392399999996},{"$f":"generacion_bruta!I65","v":76.30895000000001},{"$f":"generacion_bruta!J65","v":8389.1373370000001},{"$f":"generacion_bruta!K65","v":12274.492516},{"$f":"generacion_bruta!L65","v":2867.133965999999},{"$f":"generacion_bruta!M65","v":0},{"$f":"generacion_bruta!N65","v":0},{"$f":"generacion_bruta!O65","v":8316.4701179999993},{"$f":"generacion_bruta!P65","v":947.71808499999997},{"$f":"generacion_bruta!Q65","v":0},{"$f":"generacion_bruta!R65","v":0},{"$f":"generacion_bruta!S65","v":512.01740399999994},{"$f":"generacion_bruta!T65","v":2424.9077640000005},{"$f":"generacion_bruta!U65","v":343.88036999999997},{"$f":"generacion_bruta!V65","v":51030.694987000003}]
[null,"Solar fotovoltaica",{"$f":"generacion_bruta!C66","v":1574.7501629999999},{"$f":"generacion_bruta!D66","v":297.54578100000009},{"$f":"generacion_bruta!E66","v":0.66684299999999996},{"$f":"generacion_bruta!F66","v":122.77339099999999},{"$f":"generacion_bruta!G66","v":549.12752799999998},{"$f":"generacion_bruta!H66","v":282.29038400000002},{"$f":"generacion_bruta!I66","v":2.218715},{"$f":"generacion_bruta!J66","v":1684.5922889999999},{"$f":"generacion_bruta!K66","v":840.0779},{"$f":"generacion_bruta!L66","v":413.30662799999999},{"$f":"generacion_bruta!M66","v":0},{"$f":"generacion_bruta!N66","v":1071.175215},{"$f":"generacion_bruta!O66","v":19.445383000000007},{"$f":"generacion_bruta!P66","v":128.873369},{"$f":"generacion_bruta!Q66","v":93.257066000000009},{"$f":"generacion_bruta!R66","v":8.3833000000000019E-2},{"$f":"generacion_bruta!S66","v":800.25003400000003},{"$f":"generacion_bruta!T66","v":297.78241000000003},{"$f":"generacion_bruta!U66","v":29.355719000000004},{"$f":"generacion_bruta!V66","v":8207.5726510000004}]
[null,"Solar térmica",{"$f":"generacion_bruta!C67","v":2124.2357540000007},{"$f":"generacion_bruta!D67","v":0},{"$f":"generacion_bruta!E67","v":0},{"$f":"generacion_bruta!F67","v":0},{"$f":"generacion_bruta!G67","v":93.850920000000002},{"$f":"generacion_bruta!H67","v":0},{"$f":"generacion_bruta!I67","v":0},{"$f":"generacion_bruta!J67","v":734.25268699999992},{"$f":"generacion_bruta!K67","v":0},{"$f":"generacion_bruta!L67","v":65.812195000000003},{"$f":"generacion_bruta!M67","v":0},{"$f":"generacion_bruta!N67","v":1899.40041},{"$f":"generacion_bruta!O67","v":0},{"$f":"generacion_bruta!P67","v":0},{"$f":"generacion_bruta!Q67","v":0},{"$f":"generacion_bruta!R67","v":0},{"$f":"generacion_bruta!S67","v":41.362959999999994},{"$f":"generacion_bruta!T67","v":0},{"$f":"generacion_bruta!U67","v":0},{"$f":"generacion_bruta!V67","v":4958.9149260000004}]
[null,"Otras renovables",{"$f":"generacion_bruta!C68","v":1419.8120040000003},{"$f":"generacion_bruta!D68","v":349.10128399999996},{"$f":"generacion_bruta!E68","v":643.85856000000001},{"$f":"generacion_bruta!F68","v":1.9456589999999998},{"$f":"generacion_bruta!G68","v":41.399132999999992},{"$f":"generacion_bruta!H68","v":8.8065839999999991},{"$f":"generacion_bruta!I68","v":85.795958000000013},{"$f":"generacion_bruta!J68","v":182.61701100000002},{"$f":"generacion_bruta!K68","v":249.12708799999999},{"$f":"generacion_bruta!L68","v":150.03728899999999},{"$f":"generacion_bruta!M68","v":0},{"$f":"generacion_bruta!N68","v":215.01176500000003},{"$f":"generacion_bruta!O68","v":574.68534900000009},{"$f":"generacion_bruta!P68","v":7.2905829999999998},{"$f":"generacion_bruta!Q68","v":269.70145900000006},{"$f":"generacion_bruta!R68","v":0},{"$f":"generacion_bruta!S68","v":53.782083999999998},{"$f":"generacion_bruta!T68","v":306.31693300000001},{"$f":"generacion_bruta!U68","v":169.441833},{"$f":"generacion_bruta!V68","v":4728.7305760000008}]
[null,"Cogeneración",{"$f":"generacion_bruta!C69","v":5244.1194289999994},{"$f":"generacion_bruta!D69","v":2383.597542},{"$f":"generacion_bruta!E69","v":651.13568799999996},{"$f":"generacion_bruta!F69","v":281.38823300000001},{"$f":"generacion_bruta!G69","v":1795.9447449999998},{"$f":"generacion_bruta!H69","v":0},{"$f":"generacion_bruta!I69","v":831.90158300000007},{"$f":"generacion_bruta!J69","v":764.037102},{"$f":"generacion_bruta!K69","v":1682.0160980000001},{"$f":"generacion_bruta!L69","v":4806.8781710000003},{"$f":"generacion_bruta!M69","v":0},{"$f":"generacion_bruta!N69","v":13.840363000000002},{"$f":"generacion_bruta!O69","v":2147.3464330000002},{"$f":"generacion_bruta!P69","v":56.949525000000001},{"$f":"generacion_bruta!Q69","v":736.52825100000007},{"$f":"generacion_bruta!R69","v":8.8983140000000009},{"$f":"generacion_bruta!S69","v":1496.4297490000001},{"$f":"generacion_bruta!T69","v":710.15548300000012},{"$f":"generacion_bruta!U69","v":2274.6565360000004},{"$f":"generacion_bruta!V69","v":25885.823244999992}]
[null,"Residuos no renovables"]
[null,"Residuos renovables"]
[2015,"Hidráulica",{"$f":"generacion_bruta!C85","v":704.44597538719768},{"$f":"generacion_bruta!D85","v":3155.7930423265984},{"$f":"generacion_bruta!E85","v":1607.1837580457118},{"$f":"generacion_bruta!F85","v":0},{"$f":"generacion_bruta!G85","v":588.78477858940391},{"$f":"generacion_bruta!H85","v":3.5858509999999995},{"$f":"generacion_bruta!I85","v":286.05984813494399},{"$f":"generacion_bruta!J85","v":715.34751344283666},{"$f":"generacion_bruta!K85","v":7537.9665208960805},{"$f":"generacion_bruta!L85","v":4414.3914494984183},{"$f":"generacion_bruta!M85","v":0},{"$f":"generacion_bruta!N85","v":1584.7380216311833},{"$f":"generacion_bruta!O85","v":6424.0484568802203},{"$f":"generacion_bruta!P85","v":122.85225019501387},{"$f":"generacion_bruta!Q85","v":132.77283453296278},{"$f":"generacion_bruta!R85","v":0},{"$f":"generacion_bruta!S85","v":108.50595695879336},{"$f":"generacion_bruta!T85","v":534.18348372105515},{"$f":"generacion_bruta!U85","v":405.34835360958567},{"$f":"generacion_bruta!V85","v":28326.008094850004}]
[null,"Turbinación bombeo",{"$f":"generacion_bruta!C86","v":263.782367792},{"$f":"generacion_bruta!D86","v":281.95208500000001},{"$f":"generacion_bruta!E86","v":26.8631636},{"$f":"generacion_bruta!F86","v":0},{"$f":"generacion_bruta!G86","v":1018.291565},{"$f":"generacion_bruta!H86","v":0},{"$f":"generacion_bruta!I86","v":477.33002299999998},{"$f":"generacion_bruta!J86","v":31.737669},{"$f":"generacion_bruta!K86","v":413.84505274000003},{"$f":"generacion_bruta!L86","v":321.10572163799998},{"$f":"generacion_bruta!M86","v":0},{"$f":"generacion_bruta!N86","v":27.019481980000002},{"$f":"generacion_bruta!O86","v":33.438658400000001},{"$f":"generacion_bruta!P86","v":0},{"$f":"generacion_bruta!Q86","v":0},{"$f":"generacion_bruta!R86","v":0},{"$f":"generacion_bruta!S86","v":0},{"$f":"generacion_bruta!T86","v":0},{"$f":"generacion_bruta!U86","v":0},{"$f":"generacion_bruta!V86","v":2895.3657881499998}]
[null,"Nuclear ",{"$f":"generacion_bruta!C87","v":0},{"$f":"generacion_bruta!D87","v":0},{"$f":"generacion_bruta!E87","v":0},{"$f":"generacion_bruta!F87","v":0},{"$f":"generacion_bruta!G87","v":7430.8019999999997},{"$f":"generacion_bruta!H87","v":0},{"$f":"generacion_bruta!I87","v":0},{"$f":"generacion_bruta!J87","v":7926.3590000000004},{"$f":"generacion_bruta!K87","v":0},{"$f":"generacion_bruta!L87","v":23325.627},{"$f":"generacion_bruta!M87","v":0},{"$f":"generacion_bruta!N87","v":16072.050999999999},{"$f":"generacion_bruta!O87","v":0},{"$f":"generacion_bruta!P87","v":0},{"$f":"generacion_bruta!Q87","v":0},{"$f":"generacion_bruta!R87","v":0},{"$f":"generacion_bruta!S87","v":0},{"$f":"generacion_bruta!T87","v":0},{"$f":"generacion_bruta!U87","v":0},{"$f":"generacion_bruta!V87","v":54754.839}]
[null,"Carbón ",{"$f":"generacion_bruta!C88","v":12701.04},{"$f":"generacion_bruta!D88","v":4459.4560000000001},{"$f":"generacion_bruta!E88","v":12480.174000000001},{"$f":"generacion_bruta!F88","v":1865.27},{"$f":"generacion_bruta!G88","v":0},{"$f":"generacion_bruta!H88","v":0},{"$f":"generacion_bruta!I88","v":0},{"$f":"generacion_bruta!J88","v":906.899},{"$f":"generacion_bruta!K88","v":9310.0969999999998},{"$f":"generacion_bruta!L88","v":0},{"$f":"generacion_bruta!M88","v":0},{"$f":"generacion_bruta!N88","v":0},{"$f":"generacion_bruta!O88","v":11066.106},{"$f":"generacion_bruta!P88","v":0},{"$f":"generacion_bruta!Q88","v":0},{"$f":"generacion_bruta!R88","v":0},{"$f":"generacion_bruta!S88","v":0},{"$f":"generacion_bruta!T88","v":0},{"$f":"generacion_bruta!U88","v":0},{"$f":"generacion_bruta!V88","v":52789.042000000001}]
[null,"Fuel / gas ",{"$f":"generacion_bruta!C89","v":0},{"$f":"generacion_bruta!D89","v":0},{"$f":"generacion_bruta!E89","v":0},{"$f":"generacion_bruta!F89","v":1322.4780000000001},{"$f":"generacion_bruta!G89","v":0},{"$f":"generacion_bruta!H89","v":4763.92},{"$f":"generacion_bruta!I89","v":0},{"$f":"generacion_bruta!J89","v":0},{"$f":"generacion_bruta!K89","v":0},{"$f":"generacion_bruta!L89","v":0},{"$f":"generacion_bruta!M89","v":205.43799999999999},{"$f":"generacion_bruta!N89","v":0},{"$f":"generacion_bruta!O89","v":0},{"$f":"generacion_bruta!P89","v":0},{"$f":"generacion_bruta!Q89","v":0},{"$f":"generacion_bruta!R89","v":204.81399999999999},{"$f":"generacion_bruta!S89","v":0},{"$f":"generacion_bruta!T89","v":0},{"$f":"generacion_bruta!U89","v":0},{"$f":"generacion_bruta!V89","v":6496.6500000000005}]
[null,"Ciclo combinado ",{"$f":"generacion_bruta!C90","v":5623.4669999999996},{"$f":"generacion_bruta!D90","v":177.911},{"$f":"generacion_bruta!E90","v":361.30700000000002},{"$f":"generacion_bruta!F90","v":809.23900000000003},{"$f":"generacion_bruta!G90","v":4858.8630000000003},{"$f":"generacion_bruta!H90","v":3213.0439999999999},{"$f":"generacion_bruta!I90","v":0},{"$f":"generacion_bruta!J90","v":1289.096},{"$f":"generacion_bruta!K90","v":0},{"$f":"generacion_bruta!L90","v":6831.6980000000003},{"$f":"generacion_bruta!M90","v":0},{"$f":"generacion_bruta!N90","v":0},{"$f":"generacion_bruta!O90","v":333.78800000000001},{"$f":"generacion_bruta!P90","v":590.15899999999999},{"$f":"generacion_bruta!Q90","v":0},{"$f":"generacion_bruta!R90","v":0},{"$f":"generacion_bruta!S90","v":2072.4319999999998},{"$f":"generacion_bruta!T90","v":724.07},{"$f":"generacion_bruta!U90","v":2405.6770000000001},{"$f":"generacion_bruta!V90","v":29290.751}]
[null,"Hidroeólica",{"$f":"generacion_bruta!C91","v":0},{"$f":"generacion_bruta!D91","v":0},{"$f":"generacion_bruta!E91","v":0},{"$f":"generacion_bruta!F91","v":0},{"$f":"generacion_bruta!G91","v":0},{"$f":"generacion_bruta!H91","v":8.5570660000000007},{"$f":"generacion_bruta!I91","v":0},{"$f":"generacion_bruta!J91","v":0},{"$f":"generacion_bruta!K91","v":0},{"$f":"generacion_bruta!L91","v":0},{"$f":"generacion_bruta!M91","v":0},{"$f":"generacion_bruta!N91","v":0},{"$f":"generacion_bruta!O91","v":0},{"$f":"generacion_bruta!P91","v":0},{"$f":"generacion_bruta!Q91","v":0},{"$f":"generacion_bruta!R91","v":0},{"$f":"generacion_bruta!S91","v":0},{"$f":"generacion_bruta!T91","v":0},{"$f":"generacion_bruta!U91","v":0},{"$f":"generacion_bruta!V91","v":8.5570660000000007}]
[null,"Eólica",{"$f":"generacion_bruta!C92","v":6363.8370980000009},{"$f":"generacion_bruta!D92","v":4229.1992230000005},{"$f":"generacion_bruta!E92","v":917.80775199999994},{"$f":"generacion_bruta!F92","v":5.315563},{"$f":"generacion_bruta!G92","v":2195.9935660000001},{"$f":"generacion_bruta!H92","v":396.66092300000003},{"$f":"generacion_bruta!I92","v":70.740945000000011},{"$f":"generacion_bruta!J92","v":7286.7164059999996},{"$f":"generacion_bruta!K92","v":11135.293154000001},{"$f":"generacion_bruta!L92","v":2608.7822570000003},{"$f":"generacion_bruta!M92","v":0},{"$f":"generacion_bruta!N92","v":0},{"$f":"generacion_bruta!O92","v":8554.7587439999988},{"$f":"generacion_bruta!P92","v":934.74148400000001},{"$f":"generacion_bruta!Q92","v":0},{"$f":"generacion_bruta!R92","v":0},{"$f":"generacion_bruta!S92","v":435.39733100000001},{"$f":"generacion_bruta!T92","v":2637.9260230000004},{"$f":"generacion_bruta!U92","v":341.95555000000007},{"$f":"generacion_bruta!V92","v":48115.126018999996}]
[null,"Solar fotovoltaica",{"$f":"generacion_bruta!C93","v":1570.0735399999999},{"$f":"generacion_bruta!D93","v":304.325605},{"$f":"generacion_bruta!E93","v":0.65173600000000009},{"$f":"generacion_bruta!F93","v":122.64643600000002},{"$f":"generacion_bruta!G93","v":523.085511},{"$f":"generacion_bruta!H93","v":275.555924},{"$f":"generacion_bruta!I93","v":2.05531},{"$f":"generacion_bruta!J93","v":1722.9102679999996},{"$f":"generacion_bruta!K93","v":847.26885099999993},{"$f":"generacion_bruta!L93","v":421.11208399999998},{"$f":"generacion_bruta!M93","v":0},{"$f":"generacion_bruta!N93","v":1111.1339890000002},{"$f":"generacion_bruta!O93","v":20.758184},{"$f":"generacion_bruta!P93","v":132.18766200000002},{"$f":"generacion_bruta!Q93","v":93.788112000000012},{"$f":"generacion_bruta!R93","v":7.9959999999999989E-2},{"$f":"generacion_bruta!S93","v":762.39686199999994},{"$f":"generacion_bruta!T93","v":304.33530700000006},{"$f":"generacion_bruta!U93","v":28.715117000000003},{"$f":"generacion_bruta!V93","v":8243.0804579999985}]
[null,"Solar térmica",{"$f":"generacion_bruta!C94","v":2110.236508},{"$f":"generacion_bruta!D94","v":0},{"$f":"generacion_bruta!E94","v":0},{"$f":"generacion_bruta!F94","v":0},{"$f":"generacion_bruta!G94","v":89.976463999999993},{"$f":"generacion_bruta!H94","v":0},{"$f":"generacion_bruta!I94","v":0},{"$f":"generacion_bruta!J94","v":735.48629799999992},{"$f":"generacion_bruta!K94","v":0},{"$f":"generacion_bruta!L94","v":75.59187399999999},{"$f":"generacion_bruta!M94","v":0},{"$f":"generacion_bruta!N94","v":2037.8448430000001},{"$f":"generacion_bruta!O94","v":0},{"$f":"generacion_bruta!P94","v":0},{"$f":"generacion_bruta!Q94","v":0},{"$f":"generacion_bruta!R94","v":0},{"$f":"generacion_bruta!S94","v":36.099527000000002},{"$f":"generacion_bruta!T94","v":0},{"$f":"generacion_bruta!U94","v":0},{"$f":"generacion_bruta!V94","v":5085.235514}]
[null,"Otras renovables",{"$f":"generacion_bruta!C95","v":1265.9033819999997},{"$f":"generacion_bruta!D95","v":57.287430999999998},{"$f":"generacion_bruta!E95","v":228.78606299999998},{"$f":"generacion_bruta!F95","v":1.971492},{"$f":"generacion_bruta!G95","v":40.643070999999999},{"$f":"generacion_bruta!H95","v":8.0531259999999989},{"$f":"generacion_bruta!I95","v":85.075815999999975},{"$f":"generacion_bruta!J95","v":240.96001600000002},{"$f":"generacion_bruta!K95","v":201.18511600000002},{"$f":"generacion_bruta!L95","v":174.42715200000001},{"$f":"generacion_bruta!M95","v":0},{"$f":"generacion_bruta!N95","v":199.31235800000005},{"$f":"generacion_bruta!O95","v":235.93751399999996},{"$f":"generacion_bruta!P95","v":0.55284},{"$f":"generacion_bruta!Q95","v":156.87073900000001},{"$f":"generacion_bruta!R95","v":0},{"$f":"generacion_bruta!S95","v":39.185057},{"$f":"generacion_bruta!T95","v":233.27032199999999},{"$f":"generacion_bruta!U95","v":14.552710999999997},{"$f":"generacion_bruta!V95","v":3183.9742059999999}]
[null,"Cogeneración",{"$f":"generacion_bruta!C96","v":5207.0427349999991},{"$f":"generacion_bruta!D96","v":2443.0583580000002},{"$f":"generacion_bruta!E96","v":357.12257100000005},{"$f":"generacion_bruta!F96","v":31.518988999999994},{"$f":"generacion_bruta!G96","v":1531.5526240000002},{"$f":"generacion_bruta!H96","v":0},{"$f":"generacion_bruta!I96","v":716.34605599999998},{"$f":"generacion_bruta!J96","v":778.59447799999998},{"$f":"generacion_bruta!K96","v":1850.7469590000001},{"$f":"generacion_bruta!L96","v":4678.8483130000004},{"$f":"generacion_bruta!M96","v":0},{"$f":"generacion_bruta!N96","v":69.638161999999994},{"$f":"generacion_bruta!O96","v":2629.3494610000002},{"$f":"generacion_bruta!P96","v":82.116106999999985},{"$f":"generacion_bruta!Q96","v":694.04694900000015},{"$f":"generacion_bruta!R96","v":0},{"$f":"generacion_bruta!S96","v":1458.4756870000001},{"$f":"generacion_bruta!T96","v":835.15337699999998},{"$f":"generacion_bruta!U96","v":2085.8845959999999},{"$f":"generacion_bruta!V96","v":25449.495422}]
[null,"Residuos no renovables",{"$f":"generacion_bruta!C97","v":0},{"$f":"generacion_bruta!D97","v":404.30217400000004},{"$f":"generacion_bruta!E97","v":720.74103600000001},{"$f":"generacion_bruta!F97","v":151.09772950000001},{"$f":"generacion_bruta!G97","v":365.32810500000005},{"$f":"generacion_bruta!H97","v":0},{"$f":"generacion_bruta!I97","v":33.142120000000013},{"$f":"generacion_bruta!J97","v":0},{"$f":"generacion_bruta!K97","v":0},{"$f":"generacion_bruta!L97","v":136.54450999999995},{"$f":"generacion_bruta!M97","v":0},{"$f":"generacion_bruta!N97","v":0},{"$f":"generacion_bruta!O97","v":187.9840255},{"$f":"generacion_bruta!P97","v":0},{"$f":"generacion_bruta!Q97","v":62.844877000000011},{"$f":"generacion_bruta!R97","v":4.2959290000000001},{"$f":"generacion_bruta!S97","v":0},{"$f":"generacion_bruta!T97","v":0},{"$f":"generacion_bruta!U97","v":413.82789350000002},{"$f":"generacion_bruta!V97","v":2480.1083994999999}]
[null,"Residuos renovables",{"$f":"generacion_bruta!C98","v":0},{"$f":"generacion_bruta!D98","v":0},{"$f":"generacion_bruta!E98","v":0},{"$f":"generacion_bruta!F98","v":151.09772950000001},{"$f":"generacion_bruta!G98","v":0},{"$f":"generacion_bruta!H98","v":0},{"$f":"generacion_bruta!I98","v":33.142119999999998},{"$f":"generacion_bruta!J98","v":0},{"$f":"generacion_bruta!K98","v":0},{"$f":"generacion_bruta!L98","v":136.54451},{"$f":"generacion_bruta!M98","v":0},{"$f":"generacion_bruta!N98","v":0},{"$f":"generacion_bruta!O98","v":187.9840255},{"$f":"generacion_bruta!P98","v":0},{"$f":"generacion_bruta!Q98","v":62.844877000000011},{"$f":"generacion_bruta!R98","v":4.2959290000000001},{"$f":"generacion_bruta!S98","v":0},{"$f":"generacion_bruta!T98","v":0},{"$f":"generacion_bruta!U98","v":242.13994250000002},{"$f":"generacion_bruta!V98","v":818.04913350000015}]
[2016,"Hidráulica",{"$f":"generacion_bruta!C112","v":697.52119182501315},{"$f":"generacion_bruta!D112","v":3016.2235307942442},{"$f":"generacion_bruta!E112","v":1960.1864628731582},{"$f":"generacion_bruta!F112","v":0},{"$f":"generacion_bruta!G112","v":591.22438052394409},{"$f":"generacion_bruta!H112","v":3.4723920000000006},{"$f":"generacion_bruta!I112","v":238.61459538488108},{"$f":"generacion_bruta!J112","v":828.82660616137139},{"$f":"generacion_bruta!K112","v":11213.747331264416},{"$f":"generacion_bruta!L112","v":3956.2968410921681},{"$f":"generacion_bruta!M112","v":0},{"$f":"generacion_bruta!N112","v":2468.803022723826},{"$f":"generacion_bruta!O112","v":9814.3827635769594},{"$f":"generacion_bruta!P112","v":174.43203634539535},{"$f":"generacion_bruta!Q112","v":157.29714861660881},{"$f":"generacion_bruta!R112","v":0},{"$f":"generacion_bruta!S112","v":100.6500049901841},{"$f":"generacion_bruta!T112","v":450.3620598618939},{"$f":"generacion_bruta!U112","v":370.58480973793758},{"$f":"generacion_bruta!V112","v":36042.625177771988}]
[null,"Turbinación bombeo",{"$f":"generacion_bruta!C113","v":258.10476807999999},{"$f":"generacion_bruta!D113","v":317.108091},{"$f":"generacion_bruta!E113","v":25.5490438},{"$f":"generacion_bruta!F113","v":0},{"$f":"generacion_bruta!G113","v":1403.096403},{"$f":"generacion_bruta!H113","v":0},{"$f":"generacion_bruta!I113","v":428.06466799999998},{"$f":"generacion_bruta!J113","v":45.317059999999998},{"$f":"generacion_bruta!K113","v":356.19632406999995},{"$f":"generacion_bruta!L113","v":223.81004966200001},{"$f":"generacion_bruta!M113","v":0},{"$f":"generacion_bruta!N113","v":49.886690616000003},{"$f":"generacion_bruta!O113","v":27.195812},{"$f":"generacion_bruta!P113","v":0},{"$f":"generacion_bruta!Q113","v":0},{"$f":"generacion_bruta!R113","v":0},{"$f":"generacion_bruta!S113","v":0},{"$f":"generacion_bruta!T113","v":0},{"$f":"generacion_bruta!U113","v":0},{"$f":"generacion_bruta!V113","v":3134.3289102279996}]
[null,"Nuclear ",{"$f":"generacion_bruta!C114","v":0},{"$f":"generacion_bruta!D114","v":0},{"$f":"generacion_bruta!E114","v":0},{"$f":"generacion_bruta!F114","v":0},{"$f":"generacion_bruta!G114","v":9178.2630000000008},{"$f":"generacion_bruta!H114","v":0},{"$f":"generacion_bruta!I114","v":0},{"$f":"generacion_bruta!J114","v":8002.6419999999998},{"$f":"generacion_bruta!K114","v":0},{"$f":"generacion_bruta!L114","v":23743.210999999999},{"$f":"generacion_bruta!M114","v":0},{"$f":"generacion_bruta!N114","v":15174.856},{"$f":"generacion_bruta!O114","v":0},{"$f":"generacion_bruta!P114","v":0},{"$f":"generacion_bruta!Q114","v":0},{"$f":"generacion_bruta!R114","v":0},{"$f":"generacion_bruta!S114","v":0},{"$f":"generacion_bruta!T114","v":0},{"$f":"generacion_bruta!U114","v":0},{"$f":"generacion_bruta!V114","v":56098.971999999994}]
[null,"Carbón ",{"$f":"generacion_bruta!C115","v":8273.4480000000003},{"$f":"generacion_bruta!D115","v":3317.6030000000001},{"$f":"generacion_bruta!E115","v":7573.0619999999999},{"$f":"generacion_bruta!F115","v":2303.7689999999998},{"$f":"generacion_bruta!G115","v":0},{"$f":"generacion_bruta!H115","v":0},{"$f":"generacion_bruta!I115","v":0},{"$f":"generacion_bruta!J115","v":7.6999999999999999E-2},{"$f":"generacion_bruta!K115","v":6554.3149999999996},{"$f":"generacion_bruta!L115","v":0},{"$f":"generacion_bruta!M115","v":0},{"$f":"generacion_bruta!N115","v":0},{"$f":"generacion_bruta!O115","v":9468.9989999999998},{"$f":"generacion_bruta!P115","v":0},{"$f":"generacion_bruta!Q115","v":0},{"$f":"generacion_bruta!R115","v":0},{"$f":"generacion_bruta!S115","v":0},{"$f":"generacion_bruta!T115","v":0},{"$f":"generacion_bruta!U115","v":0},{"$f":"generacion_bruta!V115","v":37491.273000000001}]
[null,"Fuel / gas ",{"$f":"generacion_bruta!C116","v":0},{"$f":"generacion_bruta!D116","v":0},{"$f":"generacion_bruta!E116","v":0},{"$f":"generacion_bruta!F116","v":1311.771},{"$f":"generacion_bruta!G116","v":0},{"$f":"generacion_bruta!H116","v":5043.4610000000002},{"$f":"generacion_bruta!I116","v":0},{"$f":"generacion_bruta!J116","v":0},{"$f":"generacion_bruta!K116","v":0},{"$f":"generacion_bruta!L116","v":0},{"$f":"generacion_bruta!M116","v":210.73599999999999},{"$f":"generacion_bruta!N116","v":0},{"$f":"generacion_bruta!O116","v":0},{"$f":"generacion_bruta!P116","v":0},{"$f":"generacion_bruta!Q116","v":0},{"$f":"generacion_bruta!R116","v":198.57},{"$f":"generacion_bruta!S116","v":0},{"$f":"generacion_bruta!T116","v":0},{"$f":"generacion_bruta!U116","v":0},{"$f":"generacion_bruta!V116","v":6764.5379999999996}]
[null,"Ciclo combinado ",{"$f":"generacion_bruta!C117","v":6185.6090000000004},{"$f":"generacion_bruta!D117","v":175.51},{"$f":"generacion_bruta!E117","v":354.81700000000001},{"$f":"generacion_bruta!F117","v":542.54999999999995},{"$f":"generacion_bruta!G117","v":4695.0190000000002},{"$f":"generacion_bruta!H117","v":3031.7},{"$f":"generacion_bruta!I117","v":0},{"$f":"generacion_bruta!J117","v":1266.46},{"$f":"generacion_bruta!K117","v":0},{"$f":"generacion_bruta!L117","v":6989.7060000000001},{"$f":"generacion_bruta!M117","v":0},{"$f":"generacion_bruta!N117","v":0},{"$f":"generacion_bruta!O117","v":670.21500000000003},{"$f":"generacion_bruta!P117","v":1015.822},{"$f":"generacion_bruta!Q117","v":0},{"$f":"generacion_bruta!R117","v":0},{"$f":"generacion_bruta!S117","v":1114.8620000000001},{"$f":"generacion_bruta!T117","v":1287.6859999999999},{"$f":"generacion_bruta!U117","v":1930.442},{"$f":"generacion_bruta!V117","v":29260.398000000001}]
[null,"Hidroeólica",{"$f":"generacion_bruta!C118","v":0},{"$f":"generacion_bruta!D118","v":0},{"$f":"generacion_bruta!E118","v":0},{"$f":"generacion_bruta!F118","v":0},{"$f":"generacion_bruta!G118","v":0},{"$f":"generacion_bruta!H118","v":18.102639},{"$f":"generacion_bruta!I118","v":0},{"$f":"generacion_bruta!J118","v":0},{"$f":"generacion_bruta!K118","v":0},{"$f":"generacion_bruta!L118","v":0},{"$f":"generacion_bruta!M118","v":0},{"$f":"generacion_bruta!N118","v":0},{"$f":"generacion_bruta!O118","v":0},{"$f":"generacion_bruta!P118","v":0},{"$f":"generacion_bruta!Q118","v":0},{"$f":"generacion_bruta!R118","v":0},{"$f":"generacion_bruta!S118","v":0},{"$f":"generacion_bruta!T118","v":0},{"$f":"generacion_bruta!U118","v":0},{"$f":"generacion_bruta!V118","v":18.102639}]
[null,"Eólica",{"$f":"generacion_bruta!C119","v":7060.264592999999},{"$f":"generacion_bruta!D119","v":4225.9592520000006},{"$f":"generacion_bruta!E119","v":798.14569499999993},{"$f":"generacion_bruta!F119","v":5.4160579999999996},{"$f":"generacion_bruta!G119","v":2224.6882860000001},{"$f":"generacion_bruta!H119","v":393.085554},{"$f":"generacion_bruta!I119","v":70.502808999999999},{"$f":"generacion_bruta!J119","v":7680.5372219999999},{"$f":"generacion_bruta!K119","v":10939.943732999996},{"$f":"generacion_bruta!L119","v":2683.9419450000005},{"$f":"generacion_bruta!M119","v":0},{"$f":"generacion_bruta!N119","v":0},{"$f":"generacion_bruta!O119","v":7318.713076},{"$f":"generacion_bruta!P119","v":933.70978099999991},{"$f":"generacion_bruta!Q119","v":0},{"$f":"generacion_bruta!R119","v":0},{"$f":"generacion_bruta!S119","v":457.42115200000001},{"$f":"generacion_bruta!T119","v":2571.923076},{"$f":"generacion_bruta!U119","v":332.41806700000001},{"$f":"generacion_bruta!V119","v":47696.670298999998}]
[null,"Solar fotovoltaica",{"$f":"generacion_bruta!C120","v":1525.6835510000001},{"$f":"generacion_bruta!D120","v":295.29593900000003},{"$f":"generacion_bruta!E120","v":0.58737000000000017},{"$f":"generacion_bruta!F120","v":120.53466100000001},{"$f":"generacion_bruta!G120","v":514.06146799999999},{"$f":"generacion_bruta!H120","v":277.67476099999999},{"$f":"generacion_bruta!I120","v":2.0952619999999995},{"$f":"generacion_bruta!J120","v":1624.757124},{"$f":"generacion_bruta!K120","v":829.74446899999998},{"$f":"generacion_bruta!L120","v":413.62143100000003},{"$f":"generacion_bruta!M120","v":0},{"$f":"generacion_bruta!N120","v":1061.7441229999999},{"$f":"generacion_bruta!O120","v":20.147258000000001},{"$f":"generacion_bruta!P120","v":131.42565399999998},{"$f":"generacion_bruta!Q120","v":88.527027000000018},{"$f":"generacion_bruta!R120","v":7.8081999999999985E-2},{"$f":"generacion_bruta!S120","v":747.01913599999989},{"$f":"generacion_bruta!T120","v":294.94099799999998},{"$f":"generacion_bruta!U120","v":29.661534},{"$f":"generacion_bruta!V120","v":7977.5998479999998}]
[null,"Solar térmica",{"$f":"generacion_bruta!C121","v":2194.6310090000002},{"$f":"generacion_bruta!D121","v":0},{"$f":"generacion_bruta!E121","v":0},{"$f":"generacion_bruta!F121","v":0},{"$f":"generacion_bruta!G121","v":70.150952999999987},{"$f":"generacion_bruta!H121","v":0},{"$f":"generacion_bruta!I121","v":0},{"$f":"generacion_bruta!J121","v":721.87999799999989},{"$f":"generacion_bruta!K121","v":0},{"$f":"generacion_bruta!L121","v":70.319427000000005},{"$f":"generacion_bruta!M121","v":0},{"$f":"generacion_bruta!N121","v":1973.4576519999996},{"$f":"generacion_bruta!O121","v":0},{"$f":"generacion_bruta!P121","v":0},{"$f":"generacion_bruta!Q121","v":0},{"$f":"generacion_bruta!R121","v":0},{"$f":"generacion_bruta!S121","v":40.762663000000003},{"$f":"generacion_bruta!T121","v":0},{"$f":"generacion_bruta!U121","v":0},{"$f":"generacion_bruta!V121","v":5071.2017019999994}]
[null,"Otras renovables",{"$f":"generacion_bruta!C122","v":1367.7726660000001},{"$f":"generacion_bruta!D122","v":53.330301999999996},{"$f":"generacion_bruta!E122","v":245.26598100000001},{"$f":"generacion_bruta!F122","v":1.3097150000000002},{"$f":"generacion_bruta!G122","v":38.907041999999997},{"$f":"generacion_bruta!H122","v":9.3357749999999999},{"$f":"generacion_bruta!I122","v":76.573036999999999},{"$f":"generacion_bruta!J122","v":238.410359},{"$f":"generacion_bruta!K122","v":246.51016000000001},{"$f":"generacion_bruta!L122","v":174.026421},{"$f":"generacion_bruta!M122","v":0},{"$f":"generacion_bruta!N122","v":235.61053699999999},{"$f":"generacion_bruta!O122","v":232.03411600000001},{"$f":"generacion_bruta!P122","v":7.5938380000000008},{"$f":"generacion_bruta!Q122","v":137.921649},{"$f":"generacion_bruta!R122","v":0},{"$f":"generacion_bruta!S122","v":55.348952999999995},{"$f":"generacion_bruta!T122","v":273.71682199999998},{"$f":"generacion_bruta!U122","v":30.889806},{"$f":"generacion_bruta!V122","v":3424.5571789999999}]
[null,"Cogeneración",{"$f":"generacion_bruta!C123","v":5102.7432629999994},{"$f":"generacion_bruta!D123","v":2498.9124570000004},{"$f":"generacion_bruta!E123","v":369.74585599999995},{"$f":"generacion_bruta!F123","v":34.701317000000003},{"$f":"generacion_bruta!G123","v":1579.4028090000002},{"$f":"generacion_bruta!H123","v":0},{"$f":"generacion_bruta!I123","v":831.30987799999991},{"$f":"generacion_bruta!J123","v":988.74107900000001},{"$f":"generacion_bruta!K123","v":1857.9172750000002},{"$f":"generacion_bruta!L123","v":4689.1943710000005},{"$f":"generacion_bruta!M123","v":0},{"$f":"generacion_bruta!N123","v":50.701282999999997},{"$f":"generacion_bruta!O123","v":2801.9919390000005},{"$f":"generacion_bruta!P123","v":65.604553999999993},{"$f":"generacion_bruta!Q123","v":709.29025899999988},{"$f":"generacion_bruta!R123","v":0},{"$f":"generacion_bruta!S123","v":1446.6507910000003},{"$f":"generacion_bruta!T123","v":850.04065999999989},{"$f":"generacion_bruta!U123","v":2029.6682369999999},{"$f":"generacion_bruta!V123","v":25906.616027999997}]
[null,"Residuos no renovables",{"$f":"generacion_bruta!C124","v":181.57978},{"$f":"generacion_bruta!D124","v":366.54158700000005},{"$f":"generacion_bruta!E124","v":707.87568999999996},{"$f":"generacion_bruta!F124","v":130.80518350000003},{"$f":"generacion_bruta!G124","v":344.80093499999998},{"$f":"generacion_bruta!H124","v":0},{"$f":"generacion_bruta!I124","v":39.092220499999989},{"$f":"generacion_bruta!J124","v":0},{"$f":"generacion_bruta!K124","v":0},{"$f":"generacion_bruta!L124","v":136.45888200000007},{"$f":"generacion_bruta!M124","v":0},{"$f":"generacion_bruta!N124","v":0},{"$f":"generacion_bruta!O124","v":169.11742650000005},{"$f":"generacion_bruta!P124","v":0},{"$f":"generacion_bruta!Q124","v":67.762206999999989},{"$f":"generacion_bruta!R124","v":4.8499524999999997},{"$f":"generacion_bruta!S124","v":0},{"$f":"generacion_bruta!T124","v":0},{"$f":"generacion_bruta!U124","v":458.07991750000008},{"$f":"generacion_bruta!V124","v":2606.963781500001}]
[null,"Residuos renovables",{"$f":"generacion_bruta!C125","v":0},{"$f":"generacion_bruta!D125","v":0},{"$f":"generacion_bruta!E125","v":0},{"$f":"generacion_bruta!F125","v":130.80506650000001},{"$f":"generacion_bruta!G125","v":0},{"$f":"generacion_bruta!H125","v":0},{"$f":"generacion_bruta!I125","v":39.092220500000003},{"$f":"generacion_bruta!J125","v":0},{"$f":"generacion_bruta!K125","v":0},{"$f":"generacion_bruta!L125","v":134.04391799999996},{"$f":"generacion_bruta!M125","v":0},{"$f":"generacion_bruta!N125","v":0},{"$f":"generacion_bruta!O125","v":169.11742649999999},{"$f":"generacion_bruta!P125","v":0},{"$f":"generacion_bruta!Q125","v":67.762206999999989},{"$f":"generacion_bruta!R125","v":4.8500524999999994},{"$f":"generacion_bruta!S125","v":0},{"$f":"generacion_bruta!T125","v":0},{"$f":"generacion_bruta!U125","v":239.72413850000001},{"$f":"generacion_bruta!V125","v":785.39502949999985}]
[2017,"Hidráulica",{"$f":"generacion_bruta!C139","v":559.71545457412026},{"$f":"generacion_bruta!D139","v":2411.7984502803165},{"$f":"generacion_bruta!E139","v":981.08891605015231},{"$f":"generacion_bruta!F139","v":0},{"$f":"generacion_bruta!G139","v":377.66336783387374},{"$f":"generacion_bruta!H139","v":3.2814869999999994},{"$f":"generacion_bruta!I139","v":160.9890271958615},{"$f":"generacion_bruta!J139","v":409.45361876135587},{"$f":"generacion_bruta!K139","v":4138.0131616681483},{"$f":"generacion_bruta!L139","v":3720.1531577415562},{"$f":"generacion_bruta!M139","v":0},{"$f":"generacion_bruta!N139","v":1358.7081152609228},{"$f":"generacion_bruta!O139","v":3307.9626575400189},{"$f":"generacion_bruta!P139","v":101.29040035448864},{"$f":"generacion_bruta!Q139","v":135.68231056841577},{"$f":"generacion_bruta!R139","v":0},{"$f":"generacion_bruta!S139","v":72.456900064248416},{"$f":"generacion_bruta!T139","v":339.68020902254887},{"$f":"generacion_bruta!U139","v":285.8442551199754},{"$f":"generacion_bruta!V139","v":18363.781489036006}]
[null,"Turbinación bombeo",{"$f":"generacion_bruta!C140","v":146.520704104},{"$f":"generacion_bruta!D140","v":148.83827499999998},{"$f":"generacion_bruta!E140","v":12.6857136},{"$f":"generacion_bruta!F140","v":0},{"$f":"generacion_bruta!G140","v":1011.231914},{"$f":"generacion_bruta!H140","v":0},{"$f":"generacion_bruta!I140","v":400.06473499999998},{"$f":"generacion_bruta!J140","v":41.517760000000003},{"$f":"generacion_bruta!K140","v":331.88220213200003},{"$f":"generacion_bruta!L140","v":113.54520564400001},{"$f":"generacion_bruta!M140","v":0},{"$f":"generacion_bruta!N140","v":19.640066483999998},{"$f":"generacion_bruta!O140","v":23.067281999999999},{"$f":"generacion_bruta!P140","v":0},{"$f":"generacion_bruta!Q140","v":0},{"$f":"generacion_bruta!R140","v":0},{"$f":"generacion_bruta!S140","v":0},{"$f":"generacion_bruta!T140","v":0},{"$f":"generacion_bruta!U140","v":0},{"$f":"generacion_bruta!V140","v":2248.9938579639997}]
[null,"Nuclear ",{"$f":"generacion_bruta!C141","v":0},{"$f":"generacion_bruta!D141","v":0},{"$f":"generacion_bruta!E141","v":0},{"$f":"generacion_bruta!F141","v":0},{"$f":"generacion_bruta!G141","v":7050.4989999999998},{"$f":"generacion_bruta!H141","v":0},{"$f":"generacion_bruta!I141","v":0},{"$f":"generacion_bruta!J141","v":7980.991},{"$f":"generacion_bruta!K141","v":0},{"$f":"generacion_bruta!L141","v":24232.649000000001},{"$f":"generacion_bruta!M141","v":0},{"$f":"generacion_bruta!N141","v":16344.782999999999},{"$f":"generacion_bruta!O141","v":0},{"$f":"generacion_bruta!P141","v":0},{"$f":"generacion_bruta!Q141","v":0},{"$f":"generacion_bruta!R141","v":0},{"$f":"generacion_bruta!S141","v":0},{"$f":"generacion_bruta!T141","v":0},{"$f":"generacion_bruta!U141","v":0},{"$f":"generacion_bruta!V141","v":55608.922000000006}]
[null,"Carbón ",{"$f":"generacion_bruta!C142","v":10550.373},{"$f":"generacion_bruta!D142","v":4711.2569999999996},{"$f":"generacion_bruta!E142","v":10104.344999999999},{"$f":"generacion_bruta!F142","v":2603.3420000000001},{"$f":"generacion_bruta!G142","v":0},{"$f":"generacion_bruta!H142","v":0},{"$f":"generacion_bruta!I142","v":0},{"$f":"generacion_bruta!J142","v":0},{"$f":"generacion_bruta!K142","v":6409.8890000000001},{"$f":"generacion_bruta!L142","v":0},{"$f":"generacion_bruta!M142","v":0},{"$f":"generacion_bruta!N142","v":0},{"$f":"generacion_bruta!O142","v":10817.06},{"$f":"generacion_bruta!P142","v":0},{"$f":"generacion_bruta!Q142","v":0},{"$f":"generacion_bruta!R142","v":0},{"$f":"generacion_bruta!S142","v":0},{"$f":"generacion_bruta!T142","v":0},{"$f":"generacion_bruta!U142","v":0},{"$f":"generacion_bruta!V142","v":45196.265999999996}]
[null,"Fuel / gas ",{"$f":"generacion_bruta!C143","v":0},{"$f":"generacion_bruta!D143","v":0},{"$f":"generacion_bruta!E143","v":0},{"$f":"generacion_bruta!F143","v":1367.7539999999999},{"$f":"generacion_bruta!G143","v":0},{"$f":"generacion_bruta!H143","v":5239.8869999999997},{"$f":"generacion_bruta!I143","v":0},{"$f":"generacion_bruta!J143","v":0},{"$f":"generacion_bruta!K143","v":0},{"$f":"generacion_bruta!L143","v":0},{"$f":"generacion_bruta!M143","v":202.86199999999999},{"$f":"generacion_bruta!N143","v":0},{"$f":"generacion_bruta!O143","v":0},{"$f":"generacion_bruta!P143","v":0},{"$f":"generacion_bruta!Q143","v":0},{"$f":"generacion_bruta!R143","v":200.56399999999999},{"$f":"generacion_bruta!S143","v":0},{"$f":"generacion_bruta!T143","v":0},{"$f":"generacion_bruta!U143","v":0},{"$f":"generacion_bruta!V143","v":7011.067}]
[null,"Ciclo combinado ",{"$f":"generacion_bruta!C144","v":7767.9049999999997},{"$f":"generacion_bruta!D144","v":1099.596},{"$f":"generacion_bruta!E144","v":685.07600000000002},{"$f":"generacion_bruta!F144","v":426.18599999999998},{"$f":"generacion_bruta!G144","v":4173.6930000000002},{"$f":"generacion_bruta!H144","v":3015.7730000000001},{"$f":"generacion_bruta!I144","v":0},{"$f":"generacion_bruta!J144","v":1666.529},{"$f":"generacion_bruta!K144","v":0},{"$f":"generacion_bruta!L144","v":7892.6009999999997},{"$f":"generacion_bruta!M144","v":0},{"$f":"generacion_bruta!N144","v":0},{"$f":"generacion_bruta!O144","v":1762.76},{"$f":"generacion_bruta!P144","v":1689.8779999999999},{"$f":"generacion_bruta!Q144","v":0},{"$f":"generacion_bruta!R144","v":0},{"$f":"generacion_bruta!S144","v":3446.7950000000001},{"$f":"generacion_bruta!T144","v":1405.1110000000001},{"$f":"generacion_bruta!U144","v":2264.5839999999998},{"$f":"generacion_bruta!V144","v":37296.487000000001}]
[null,"Hidroeólica",{"$f":"generacion_bruta!C145","v":0},{"$f":"generacion_bruta!D145","v":0},{"$f":"generacion_bruta!E145","v":0},{"$f":"generacion_bruta!F145","v":0},{"$f":"generacion_bruta!G145","v":0},{"$f":"generacion_bruta!H145","v":20.398516000000001},{"$f":"generacion_bruta!I145","v":0},{"$f":"generacion_bruta!J145","v":0},{"$f":"generacion_bruta!K145","v":0},{"$f":"generacion_bruta!L145","v":0},{"$f":"generacion_bruta!M145","v":0},{"$f":"generacion_bruta!N145","v":0},{"$f":"generacion_bruta!O145","v":0},{"$f":"generacion_bruta!P145","v":0},{"$f":"generacion_bruta!Q145","v":0},{"$f":"generacion_bruta!R145","v":0},{"$f":"generacion_bruta!S145","v":0},{"$f":"generacion_bruta!T145","v":0},{"$f":"generacion_bruta!U145","v":0},{"$f":"generacion_bruta!V145","v":20.398516000000001}]
[null,"Eólica",{"$f":"generacion_bruta!C146","v":7189.7015450000008},{"$f":"generacion_bruta!D146","v":4478.1696869999996},{"$f":"generacion_bruta!E146","v":826.67378199999996},{"$f":"generacion_bruta!F146","v":2.9242759999999999},{"$f":"generacion_bruta!G146","v":2175.5139369999997},{"$f":"generacion_bruta!H146","v":395.94306799999998},{"$f":"generacion_bruta!I146","v":65.882127999999994},{"$f":"generacion_bruta!J146","v":7504.4342829999987},{"$f":"generacion_bruta!K146","v":10988.593271000002},{"$f":"generacion_bruta!L146","v":2825.1244999999999},{"$f":"generacion_bruta!M146","v":0},{"$f":"generacion_bruta!N146","v":0},{"$f":"generacion_bruta!O146","v":7001.6765260000002},{"$f":"generacion_bruta!P146","v":976.65541699999983},{"$f":"generacion_bruta!Q146","v":0},{"$f":"generacion_bruta!R146","v":0},{"$f":"generacion_bruta!S146","v":434.66199999999998},{"$f":"generacion_bruta!T146","v":2703.4053089999998},{"$f":"generacion_bruta!U146","v":327.65020500000003},{"$f":"generacion_bruta!V146","v":47897.009933999994}]
[null,"Solar fotovoltaica",{"$f":"generacion_bruta!C147","v":1579.8909049999997},{"$f":"generacion_bruta!D147","v":311.32922000000002},{"$f":"generacion_bruta!E147","v":0.59545700000000001},{"$f":"generacion_bruta!F147","v":123.20541799999999},{"$f":"generacion_bruta!G147","v":543.18397700000003},{"$f":"generacion_bruta!H147","v":273.540098},{"$f":"generacion_bruta!I147","v":1.9455499999999999},{"$f":"generacion_bruta!J147","v":1742.0169139999996},{"$f":"generacion_bruta!K147","v":895.31523300000003},{"$f":"generacion_bruta!L147","v":420.48871700000001},{"$f":"generacion_bruta!M147","v":0},{"$f":"generacion_bruta!N147","v":1118.869162},{"$f":"generacion_bruta!O147","v":20.792750000000005},{"$f":"generacion_bruta!P147","v":139.47549600000002},{"$f":"generacion_bruta!Q147","v":91.853569999999991},{"$f":"generacion_bruta!R147","v":7.5192999999999982E-2},{"$f":"generacion_bruta!S147","v":773.35944200000006},{"$f":"generacion_bruta!T147","v":317.86444300000005},{"$f":"generacion_bruta!U147","v":31.235192999999999},{"$f":"generacion_bruta!V147","v":8385.0367379999989}]
[null,"Solar térmica",{"$f":"generacion_bruta!C148","v":2319.75783},{"$f":"generacion_bruta!D148","v":0},{"$f":"generacion_bruta!E148","v":0},{"$f":"generacion_bruta!F148","v":0},{"$f":"generacion_bruta!G148","v":98.825012000000001},{"$f":"generacion_bruta!H148","v":0},{"$f":"generacion_bruta!I148","v":0},{"$f":"generacion_bruta!J148","v":742.67802899999992},{"$f":"generacion_bruta!K148","v":0},{"$f":"generacion_bruta!L148","v":87.196204999999992},{"$f":"generacion_bruta!M148","v":0},{"$f":"generacion_bruta!N148","v":2056.387518},{"$f":"generacion_bruta!O148","v":0},{"$f":"generacion_bruta!P148","v":0},{"$f":"generacion_bruta!Q148","v":0},{"$f":"generacion_bruta!R148","v":0},{"$f":"generacion_bruta!S148","v":43.106292000000003},{"$f":"generacion_bruta!T148","v":0},{"$f":"generacion_bruta!U148","v":0},{"$f":"generacion_bruta!V148","v":5347.9508860000005}]
[null,"Otras renovables",{"$f":"generacion_bruta!C149","v":1388.4176990000001},{"$f":"generacion_bruta!D149","v":57.833376000000001},{"$f":"generacion_bruta!E149","v":271.44284500000003},{"$f":"generacion_bruta!F149","v":1.6267410000000002},{"$f":"generacion_bruta!G149","v":32.430801999999993},{"$f":"generacion_bruta!H149","v":9.5652589999999993},{"$f":"generacion_bruta!I149","v":83.49489100000001},{"$f":"generacion_bruta!J149","v":265.55059599999998},{"$f":"generacion_bruta!K149","v":263.33266900000001},{"$f":"generacion_bruta!L149","v":190.72999699999997},{"$f":"generacion_bruta!M149","v":0},{"$f":"generacion_bruta!N149","v":233.85979500000005},{"$f":"generacion_bruta!O149","v":252.743776},{"$f":"generacion_bruta!P149","v":9.1094020000000011},{"$f":"generacion_bruta!Q149","v":150.12538700000002},{"$f":"generacion_bruta!R149","v":0},{"$f":"generacion_bruta!S149","v":53.861951999999995},{"$f":"generacion_bruta!T149","v":305.44717900000001},{"$f":"generacion_bruta!U149","v":44.531423000000004},{"$f":"generacion_bruta!V149","v":3614.1037890000002}]
[null,"Cogeneración",{"$f":"generacion_bruta!C150","v":5274.8242799999989},{"$f":"generacion_bruta!D150","v":2967.7755429999997},{"$f":"generacion_bruta!E150","v":392.17213300000003},{"$f":"generacion_bruta!F150","v":36.169350999999999},{"$f":"generacion_bruta!G150","v":1590.5029169999998},{"$f":"generacion_bruta!H150","v":0},{"$f":"generacion_bruta!I150","v":1165.282101},{"$f":"generacion_bruta!J150","v":1088.0439229999999},{"$f":"generacion_bruta!K150","v":2333.1516690000003},{"$f":"generacion_bruta!L150","v":5082.4916000000003},{"$f":"generacion_bruta!M150","v":0},{"$f":"generacion_bruta!N150","v":53.094291000000005},{"$f":"generacion_bruta!O150","v":2825.6477599999998},{"$f":"generacion_bruta!P150","v":74.725203999999991},{"$f":"generacion_bruta!Q150","v":704.23902400000009},{"$f":"generacion_bruta!R150","v":0},{"$f":"generacion_bruta!S150","v":1688.4060749999999},{"$f":"generacion_bruta!T150","v":903.28104199999984},{"$f":"generacion_bruta!U150","v":1990.6384190000003},{"$f":"generacion_bruta!V150","v":28170.445331999996}]
[null,"Residuos no renovables",{"$f":"generacion_bruta!C151","v":298.96065299999998},{"$f":"generacion_bruta!D151","v":413.40268900000001},{"$f":"generacion_bruta!E151","v":733.90796000000023},{"$f":"generacion_bruta!F151","v":143.878668},{"$f":"generacion_bruta!G151","v":53.738847000000007},{"$f":"generacion_bruta!H151","v":0},{"$f":"generacion_bruta!I151","v":36.843276499999995},{"$f":"generacion_bruta!J151","v":0},{"$f":"generacion_bruta!K151","v":0},{"$f":"generacion_bruta!L151","v":145.20907250000002},{"$f":"generacion_bruta!M151","v":0},{"$f":"generacion_bruta!N151","v":0},{"$f":"generacion_bruta!O151","v":178.46456799999999},{"$f":"generacion_bruta!P151","v":0},{"$f":"generacion_bruta!Q151","v":70.703084500000003},{"$f":"generacion_bruta!R151","v":4.976986000000001},{"$f":"generacion_bruta!S151","v":0},{"$f":"generacion_bruta!T151","v":0},{"$f":"generacion_bruta!U151","v":527.58214150000003},{"$f":"generacion_bruta!V151","v":2607.6679460000005}]
[null,"Residuos renovables",{"$f":"generacion_bruta!C152","v":0},{"$f":"generacion_bruta!D152","v":0},{"$f":"generacion_bruta!E152","v":0},{"$f":"generacion_bruta!F152","v":143.878668},{"$f":"generacion_bruta!G152","v":0},{"$f":"generacion_bruta!H152","v":0},{"$f":"generacion_bruta!I152","v":36.843276499999995},{"$f":"generacion_bruta!J152","v":0},{"$f":"generacion_bruta!K152","v":0},{"$f":"generacion_bruta!L152","v":141.39558050000002},{"$f":"generacion_bruta!M152","v":0},{"$f":"generacion_bruta!N152","v":0},{"$f":"generacion_bruta!O152","v":178.46456799999999},{"$f":"generacion_bruta!P152","v":0},{"$f":"generacion_bruta!Q152","v":70.703084500000003},{"$f":"generacion_bruta!R152","v":4.976986000000001},{"$f":"generacion_bruta!S152","v":0},{"$f":"generacion_bruta!T152","v":0},{"$f":"generacion_bruta!U152","v":300.74392350000005},{"$f":"generacion_bruta!V152","v":877.00608700000009}]

{"sheet":"datos_RdT","index":11,"n_rows":84,"n_cols":25,"rows_kept":84,"cut":false,"hidden":true,"merged":[]}
[null,2012]
[null,"CCAA","Andalucía","Aragón","Asturias","Baleares","C. Valenciana","Canarias","Cantabria","Castilla-La Mancha","Castilla y León","Cataluña","Ceuta","Extremadura","Galicia","La Rioja","Madrid","Melilla","Murcia","Navarra","País Vasco","TOTAL","MÓVILES","PENINSULAR","NO PENINSULAR"]
[null,"km líneas 400 kV",2693.8200784137316,1287.5479404737259,423.51116425955513,null,1010.0004715223591,null,238.86270433523271,2538.2844960363059,4571.0730318758324,2038.3571918899859,null,1676.5439580355312,1200.5927272727274,114.94905945892347,915.35602565760871,null,708.11213708924197,175.97007024489812,515.91834343434357,20108.899400000002,null,20108.899400000002,0]
[null,"km líneas 220 kV",2978.8041549494988,1848.840817032999,420.22682020202012,430.38199999999995,1116.5822599999997,163.35300000000001,276.53779292929289,1496.7306394976129,3206.3588618135204,2455.4332540781134,null,740.33786742420045,1318.5629999999999,156.33224242424242,1163.7705508559573,null,107.27374,318.82902020202016,690.27967859051978,18888.635699999995,null,18294.900699999995,593.7349999999999]
[null,"km líneas <220 kV",null,null,null,1113.1489999999997,null,1125.6969999999999,null,null,null,39.44,null,23,12.3,null,null,null,null,null,null,2313.5859999999998,null,74.740000000000236,2238.8459999999995]
[null,"Total km líneas",5672.6242333632308,3136.3887575067247,843.73798446157525,1543.5309999999995,2126.5827315223587,1289.05,515.4004972645256,4035.0151355339185,7777.4318936893524,4533.230445968099,0,2439.8818254597318,2531.4557272727275,271.2813018831659,2079.1265765135659,0,815.38587708924194,494.79909044691829,1206.1980220248633,41311.121099999997,null,38478.540099999991,2832.5809999999992]
[null,{"$f":"CONCATENATE(\"Δ\" & $B$1 & \"/\" & $B$1-1)","v":"Δ2012/2011"},1.9180841853522201,5.3135093450756177,0,0.19506324463203217,2.5144344596398138,0,0,7.9898832233856298,0.3115327520977873,7.3644100095293652E-2,null,0.19897029684903256,4.7096377080565466,6.3837387853235894,0.66154672349785226,null,1.8143089681516678,0,0,1.9983698776999015,null,2.1404917514388666,0.10619965676836873]
[null,"Posiciones 400 kV",182,84,43,null,143,null,10,104,199,122,null,84,65,8,103,null,67,27,78,1319,null,1319,0]
[null,"Posiciones 220 kV",401,211,45,69,245,40,46,136,234,575,null,80,206,30,496,null,34,48,146,3049,7,2940,109]
[null,"Posiciones <220 kV",null,null,null,435,null,363,null,null,null,3,null,null,1,null,null,null,null,null,null,802,null,4,798]
[null,"Total posiciones",583,295,88,504,388,403,56,240,433,700,0,164,272,38,599,0,101,75,224,5170,7,4263,907]
[null,{"$f":"CONCATENATE(\"Δ\" & $B$1 & \"/\" & $B$1-1)","v":"Δ2012/2011"},1.7452006980802848,3.1468531468531458,0,0,7.182320441988943,0,7.6923076923076872,12.149532710280365,2.3640661938534313,4.1666666666666741,null,12.328767123287676,2.6415094339622636,26.666666666666661,4.355400696864109,null,16.09195402298851,0,1.8181818181818077,3.7944187914073391,0,4.6391752577319645,0]
[null,"Transformadores",14420,4674,1299.1999999999998,2408,7525,1625,1500,1200,6131,10450,null,1798.875,5700,600,10348.4,null,3150,1000,4300,78629.474999999991,500,74596.474999999991,4033]
[null,{"$f":"CONCATENATE(\"Δ\" & $B$1 & \"/\" & $B$1-1)","v":"Δ2012/2011"},5.8737151248164476,14.727540500736369,0,7.1174377224199281,8.6642599277978238,0,0,null,0,11.764705882352944,null,0,0,null,0,null,0,0,34.375,7.9045443925594094,66.666666666666671,8.1163566689457447,4.1311644719855378]
[null,2013]
[null,"CCAA","Andalucía","Aragón","Asturias","Baleares","C. Valenciana","Canarias","Cantabria","Castilla-La Mancha","Castilla y León","Cataluña","Ceuta","Extremadura","Galicia","La Rioja","Madrid","Melilla","Murcia","Navarra","País Vasco","TOTAL","MÓVILES","PENINSULAR","NO PENINSULAR"]
[null,"km líneas 400 kV",2693.8200784137316,1288.1479404737258,491.67516425955512,null,1010.0004715223591,null,238.86270433523271,2538.2844960363059,4571.0730318758324,2038.3571918899859,null,2094.4059580355311,1200.5927272727274,114.94905945892347,915.35602565760871,null,708.11213708924197,175.97007024489812,559.88234343434351,{"$f":"SUM(C17:U17)+W17","v":20639.489400000002},null,{"$f":"V17-F17-H17-M17-R17","v":20639.489400000002},{"$f":"F17+H17+M17+R17","v":0}]
[null,"km líneas 220 kV",3137.746794949499,1848.840817032999,420.22682020202012,430.38199999999995,1223.0902599999997,163.35300000000001,276.53779292929289,1496.7306394976129,3206.3588618135204,2455.4332540781134,null,741.30386742420046,1318.5629999999996,156.33224242424242,1170.6565508559588,null,107.27374,318.82902020202016,690.27967859051978,{"$f":"SUM(C18:U18)+W18","v":19161.938340000001},null,{"$f":"V18-F18-H18-M18-R18","v":18568.20334},{"$f":"F18+H18+M18+R18","v":593.7349999999999}]
[null,"km líneas <220 kV",null,null,null,1113.1489999999997,null,1125.6969999999999,null,null,null,39.44,null,23,12.3,null,null,null,null,null,null,2313.5859999999998,null,{"$f":"V19-F19-H19-M19-R19","v":74.740000000000236},{"$f":"F19+H19+M19+R19","v":2238.8459999999995}]
[null,"Total km líneas",5831.5668733632301,3136.9887575067251,911.90198446157524,1543.5309999999995,2233.090731522359,1289.05,515.4004972645256,4035.0151355339185,7777.4318936893524,4533.230445968099,0,2858.7098254597313,2531.455727272727,271.2813018831659,2086.0125765135676,0,815.38587708924194,494.79909044691829,1250.1620220248633,{"$f":"SUM(V17:V19)","v":42115.013740000002},null,{"$f":"SUM(X17:X19)","v":39282.432739999997},2832.5809999999992]
[null,{"$f":"CONCATENATE(\"Δ\" & $B$15 & \"/\" & $B$15-1)","v":"Δ2013/2012"},2.8019243556657081,1.9130281555956863E-2,8.0788113437251887,0,5.0084108377836056,0,0,0,0,0,null,17.165913349966555,-2.2204460492503131E-14,0,0.33119676684374433,null,0,0,3.6448409960246009,{"$f":"(V20/V6-1)*100","v":1.9459472863349703},null,2.0891973497715988,0]
[null,"Posiciones 400 kV",195,89,52,null,143,null,10,106,199,122,null,103,71,8,103,null,67,28,78,{"$f":"SUM(C22:U22)+W22","v":1374},null,{"$f":"V22-F22-H22-M22-R22","v":1374},{"$f":"F22+H22+M22+R22","v":0}]
[null,"Posiciones 220 kV",412,213,45,69,271,40,46,137,234,583,null,87,213,30,517,null,40,49,146,3139,7,{"$f":"V23-F23-H23-M23-R23","v":3030},{"$f":"F23+H23+M23+R23","v":109}]
[null,"Posiciones <220 kV",null,null,null,437,null,363,null,null,null,3,null,null,1,null,null,null,null,null,null,804,null,{"$f":"V24-F24-H24-M24-R24","v":4},{"$f":"F24+H24+M24+R24","v":800}]
[null,"Total posiciones",607,302,97,506,414,403,56,243,433,708,0,190,285,38,620,0,107,77,224,{"$f":"SUM(V22:V24)","v":5317},{"$f":"SUM(W22:W24)","v":7},{"$f":"SUM(X22:X24)","v":4408},909]
[null,{"$f":"CONCATENATE(\"Δ\" & $B$15 & \"/\" & $B$15-1)","v":"Δ2013/2012"},4.116638078902235,2.3728813559322104,10.22727272727273,0.39682539682539542,6.7010309278350499,0,0,1.2499999999999956,0,1.1428571428571344,null,15.853658536585357,4.7794117647058876,0,3.5058430717863187,null,5.9405940594059459,2.6666666666666616,0,{"$f":"(V25/V11-1)*100","v":2.8433268858800709},0,3.4013605442176909,0.22050716648291946]
[null,"Transformadores",14420,4674,1299.1999999999998,2793,7600,1625,2100,1200,6131,10450,null,2398.875,5700,600,10348.4,null,3150,1600,4300,{"$f":"SUM(C27:U27)+W27","v":81289.474999999991},900,{"$f":"V27-F27-H27-M27-R27","v":76871.474999999991},{"$f":"F27+H27+M27+R27","v":4418}]
[null,{"$f":"CONCATENATE(\"Δ\" & $B$15 & \"/\" & $B$15-1)","v":"Δ2013/2012"},{"$f":"(C27/C13-1)*100","v":0},{"$f":"(D27/D13-1)*100","v":0},0,15.988372093023262,0.9966777408637828,0,39.999999999999993,null,0,0,null,33.354179695643118,0,null,0,null,0,60.000000000000007,0,3.3829553103336796,80,{"$f":"(X27/X13-1)*100","v":3.0497419616677623},9.5462434911976146]
[null,2014]
[null,"CCAA","Andalucía","Aragón","Asturias","Baleares","C. Valenciana","Canarias","Cantabria","Castilla-La Mancha","Castilla y León","Cataluña","Ceuta","Extremadura","Galicia","La Rioja","Madrid","Melilla","Murcia","Navarra","País Vasco","TOTAL","MÓVILES","PENINSULAR","NO PENINSULAR"]
[null,"km líneas 400 kV",2769.1495784137319,1288.1479404737258,491.67516425955512,0,1010.0004715223591,0,238.86270433523271,2578.5344960363059,4571.0730318758324,2185.196191889986,null,2285.508458035531,1201.1057272727273,114.94905945892347,915.35602565760871,null,708.11213708924197,175.97007024489812,559.88234343434351,{"$f":"SUM(C31:U31)+W31","v":21093.523400000005},null,{"$f":"V31-F31-H31-M31-R31","v":21093.523400000005},{"$f":"F31+H31+M31+R31","v":0}]
[null,"km líneas 220 kV",3168.9577949494987,1848.840817032999,420.22682020202012,431.09799999999996,1264.0182599999998,163.35300000000001,276.53779292929289,1496.7306394976129,3206.3588618135204,2463.6932540781136,null,787.37386742420051,1324.479,156.33224242424242,1177.3495508559583,null,107.27374,318.82902020202016,690.27967859051978,{"$f":"SUM(C32:U32)+W32","v":19301.732339999999},null,{"$f":"V32-F32-H32-M32-R32","v":18707.281339999998},{"$f":"F32+H32+M32+R32","v":594.45100000000002}]
[null,"km líneas <220 kV",null,null,null,1113.8839999999996,null,1125.7819999999999,null,null,null,39.44,null,23,12.3,null,null,null,null,null,null,2314.4059999999995,null,{"$f":"V33-F33-H33-M33-R33","v":74.740000000000009},{"$f":"F33+H33+M33+R33","v":2239.6659999999993}]
[null,"Total km líneas",5938.1073733632311,3136.9887575067251,911.90198446157524,1544.9819999999995,2274.0187315223588,1289.135,515.4004972645256,4075.2651355339185,7777.4318936893524,4688.3294459680992,0,3095.8823254597314,2537.8847272727276,271.2813018831659,2092.7055765135669,0,815.38587708924194,494.79909044691829,1250.1620220248633,{"$f":"SUM(V31:V33)","v":42709.66174000001},null,{"$f":"SUM(X31:X33)","v":39875.544740000005},2834.1169999999993]
[null,{"$f":"CONCATENATE(\"Δ\" & $B$29 & \"/\" & $B$29-1)","v":"Δ2014/2013"},1.8269618151280254,0,0,9.4005238637895339E-2,1.83279610730811,6.5940033358025119E-3,0,0.99751794350269041,0,3.4213791213271838,null,8.2964873834950659,0.25396454422399461,0,0.32085137335009506,null,0,0,0,{"$f":"(V34/V20-1)*100","v":1.411962023023694},null,1.5098657558345829,5.4226163347137479E-2]
[null,"Posiciones 400 kV",195,89,52,null,143,null,10,112,200,133,null,103,71,8,103,null,69,28,78,{"$f":"SUM(C36:U36)+W36","v":1394},null,{"$f":"V36-F36-H36-M36-R36","v":1394},{"$f":"F36+H36+M36+R36","v":0}]
[null,"Posiciones 220 kV",416,213,45,75,291,40,46,137,234,589,null,88,216,30,521,null,46,49,147,3190,7,{"$f":"V37-F37-H37-M37-R37","v":3075},{"$f":"F37+H37+M37+R37","v":115}]
[null,"Posiciones <220 kV",null,null,null,455,null,369,null,null,null,3,null,null,1,null,null,null,null,null,null,828,null,{"$f":"V38-F38-H38-M38-R38","v":4},{"$f":"F38+H38+M38+R38","v":824}]
[null,"Total posiciones",611,302,97,530,434,409,56,249,434,725,0,191,288,38,624,0,115,77,225,{"$f":"SUM(V36:V38)","v":5412},{"$f":"SUM(W36:W38)","v":7},{"$f":"SUM(X36:X38)","v":4473},939]
[null,{"$f":"CONCATENATE(\"Δ\" & $B$29 & \"/\" & $B$29-1)","v":"Δ2014/2013"},0.65897858319605707,0,0,4.743083003952564,4.8309178743961345,1.4888337468982549,0,2.4691358024691468,0.23094688221709792,2.4011299435028333,null,0.52631578947368585,1.0526315789473717,0,0.64516129032257119,null,7.4766355140186924,0,0.44642857142858094,{"$f":"(V39/V25-1)*100","v":1.7867218356215853},0,1.4745916515426449,3.3003300330032959]
[null,"Transformadores",14420,4674,1299.1999999999998,2793,7600,1875,2100,1200,6131,11650,null,2398.875,5700,600,11548.4,null,3150,1600,4300,{"$f":"SUM(C41:U41)+W41","v":83939.474999999991},900,{"$f":"V41-F41-H41-M41-R41","v":79271.474999999991},{"$f":"F41+H41+M41+R41","v":4668}]
[null,{"$f":"CONCATENATE(\"Δ\" & $B$29 & \"/\" & $B$29-1)","v":"Δ2014/2013"},{"$f":"(C41/C27-1)*100","v":0},{"$f":"(D41/D27-1)*100","v":0},0,0,0,15.384615384615374,0,0,0,11.483253588516739,null,0,0,null,11.595995516215062,null,0,0,0,3.2599546251221412,0,3.1220943789617595,5.6586690810321416]
[null,2015]
[null,"CCAA","Andalucía","Aragón","Asturias","Baleares","C. Valenciana","Canarias","Cantabria","Castilla-La Mancha","Castilla y León","Cataluña","Ceuta","Extremadura","Galicia","La Rioja","Madrid","Melilla","Murcia","Navarra","País Vasco","TOTAL","MÓVILES","PENINSULAR","NO PENINSULAR"]
[null,"km líneas 400 kV",2769.1495784137319,1331.4979404737257,491.67516425955512,0,1018.0094715223591,0,240.51270433523271,2578.5344960363059,4572.4840318758324,2185.196191889986,null,2285.508458035531,1201.1057272727273,114.94905945892347,915.35602565760871,null,708.11213708924197,175.97007024489812,595.77834343434347,{"$f":"SUM(C45:U45)+W45","v":21183.839400000004},null,{"$f":"V45-F45-H45-M45-R45","v":21183.839400000004},{"$f":"F45+H45+M45+R45","v":0}]
[null,"km líneas 220 kV",3201.0477949494989,1848.840817032999,420.22682020202012,431.36999999999995,1264.1482599999999,215.86700000000002,293.0877929292929,1496.7306394976129,3206.3588618135204,2481.3532540781134,null,861.24386742420052,1324.479,156.33224242424242,1177.3495508559583,null,107.27374,318.82902020202016,690.27967859051978,{"$f":"SUM(C46:U46)+W46","v":19494.818339999998},null,{"$f":"V46-F46-H46-M46-R46","v":18847.581340000001},{"$f":"F46+H46+M46+R46","v":647.23699999999997}]
[null,"km líneas <220 kV",null,null,null,1242.3240000000001,null,1131.0919999999999,null,null,null,39.44,null,23,12.3,null,null,null,null,null,null,2448.1560000000004,null,{"$f":"V47-F47-H47-M47-R47","v":74.740000000000464},{"$f":"F47+H47+M47+R47","v":2373.4160000000002}]
[null,"Total km líneas",5970.1973733632312,3180.3387575067245,911.90198446157524,1673.694,2282.157731522359,1346.9589999999998,533.60049726452564,4075.2651355339185,7778.8428936893524,4705.9894459680991,0,3169.7523254597318,2537.8847272727276,271.2813018831659,2092.7055765135669,0,815.38587708924194,494.79909044691829,1286.0580220248632,{"$f":"SUM(V45:V47)","v":43126.813740000005},null,{"$f":"SUM(X45:X47)","v":40106.160739999999},3020.6530000000002]
[null,{"$f":"CONCATENATE(\"Δ\" & $B$43 & \"/\" & $B$43-1)","v":"Δ2015/2014"},0.54040787716211902,1.3818984813466217,0,8.3309708462623089,0.35791261906410465,4.4854883313229399,3.5312344665160422,0,1.8142235371354509E-2,0.37668001371335968,null,2.3860726033581026,0,0,0,null,0,0,2.8713078279133608,{"$f":"(V48/V34-1)*100","v":0.97671576642179847},null,{"$f":"(X48/X34-1)*100","v":0.57833943461758075},6.5818030801128247]
[null,"Posiciones 400 kV",195,98,52,null,153,null,15,112,219,136,null,103,71,8,103,null,69,28,79,{"$f":"SUM(C50:U50)+W50","v":1441},null,{"$f":"V50-F50-H50-M50-R50","v":1441},{"$f":"F50+H50+M50+R50","v":0}]
[null,"Posiciones 220 kV",436,214,45,75,291,46,50,137,242,595,null,88,216,30,521,null,48,49,147,3237,7,{"$f":"V51-F51-H51-M51-R51","v":3116},{"$f":"F51+H51+M51+R51","v":121}]
[null,"Posiciones <220 kV",null,null,null,488,null,378,null,null,null,3,null,null,1,null,null,null,null,null,null,870,null,{"$f":"V52-F52-H52-M52-R52","v":4},{"$f":"F52+H52+M52+R52","v":866}]
[null,"Total posiciones",631,312,97,563,444,424,65,249,461,734,0,191,288,38,624,0,117,77,226,{"$f":"SUM(V50:V52)","v":5548},{"$f":"SUM(W50:W52)","v":7},{"$f":"SUM(X50:X52)","v":4561},987]
[null,{"$f":"CONCATENATE(\"Δ\" & $B$43 & \"/\" & $B$43-1)","v":"Δ2015/2014"},3.2733224222585955,3.3112582781456901,0,6.2264150943396324,2.3041474654377891,3.6674816625916762,16.07142857142858,0,6.2211981566820285,1.2413793103448256,null,0,0,0,0,null,1.7391304347825987,0,0.44444444444444731,{"$f":"(V53/V39-1)*100","v":2.512934220251295},0,1.9673597138385901,5.1118210862619806]
[null,"Transformadores",14420,4674,1299.1999999999998,3273,7600,2000,2100,1200,6131,11650,null,2398.875,5700,600,11548.4,null,3150,1600,4300,{"$f":"SUM(C55:U55)+W55","v":84544.474999999991},900,{"$f":"V55-F55-H55-M55-R55","v":79271.474999999991},{"$f":"F55+H55+M55+R55","v":5273}]
[null,{"$f":"CONCATENATE(\"Δ\" & $B$43 & \"/\" & $B$43-1)","v":"Δ2015/2014"},{"$f":"(C55/C41-1)*100","v":0},{"$f":"(D55/D41-1)*100","v":0},0,17.1858216970999,0,6.6666666666666652,0,0,0,0,null,0,0,0,0,null,0,0,0,0.72075742670536513,0,0,{"$f":"(Y55/Y41-1)*100","v":12.960582690659805}]
[null,2016]
[null,"CCAA","Andalucía","Aragón","Asturias","Baleares","C. Valenciana","Canarias","Cantabria","Castilla-La Mancha","Castilla y León","Cataluña","Ceuta","Extremadura","Galicia","La Rioja","Madrid","Melilla","Murcia","Navarra","País Vasco","TOTAL","MÓVILES","PENINSULAR","NO PENINSULAR"]
[null,"km líneas 400 kV",2769.1495784137319,1520.6349404737257,529.29516425955512,0,1100.5624715223591,0,240.51270433523271,2578.5344960363059,4572.4840318758324,2185.196191889986,null,2285.508458035531,1326.9377272727274,114.94905945892347,915.35602565760871,null,708.11213708924197,175.97007024489812,595.77834343434347,{"$f":"SUM(C59:U59)+W59","v":21618.981400000008},null,{"$f":"V59-F59-H59-M59-R59","v":21618.981400000008},{"$f":"F59+H59+M59+R59","v":0}]
[null,"km líneas 220 kV",3225.9940000000001,1848.84,420.226,432.22399999999993,1291.9750000000001,220.24300000000002,293.08699999999999,1496.73,3206.3588618135204,2499.21,null,861.24,1325.1790000000001,156.33224242424242,1177.3400000000001,null,123.86974000000001,318.82,690.30899999999997,{"$f":"SUM(C60:U60)+W60","v":19587.977844237765},null,{"$f":"V60-F60-H60-M60-R60","v":18935.510844237768},{"$f":"F60+H60+M60+R60","v":652.46699999999998}]
[null,"km líneas <220 kV",null,null,null,1367.8089999999995,null,1133.9219999999998,null,null,null,39.44,null,23,12.3,null,null,null,null,null,null,2576.4709999999995,null,{"$f":"V61-F61-H61-M61-R61","v":74.740000000000236},{"$f":"F61+H61+M61+R61","v":2501.7309999999993}]
[null,"Total km líneas",5995.143578413732,3369.4749404737258,949.52116425955512,1800.0329999999994,2392.5374715223593,1354.1649999999997,533.59970433523267,4075.2644960363059,7778.8428936893524,4723.8461918899857,0,3169.7484580355313,2664.4167272727277,271.2813018831659,2092.696025657609,0,831.98187708924195,494.79007024489812,1286.0873434343434,{"$f":"SUM(V59:V61)","v":43783.430244237774},null,{"$f":"SUM(X59:X61)","v":40629.23224423777},3154.1979999999994]
[null,{"$f":"CONCATENATE(\"Δ\" & $B$57 & \"/\" & $B$57-1)","v":"Δ2016/2015"},0.41784556674460127,5.9470451856920237,4.1253534304119155,7.548512452096956,4.8366393994322854,0.53498287624196283,-1.4859980398407302E-4,-1.5692171950743017E-5,0,0.3794472156580353,null,-1.2201029617742165E-4,4.9857268393736165,0,-4.5638794415880923E-4,null,2.0353553411109226,-1.8230029509624934E-3,2.2799445264620744E-3,{"$f":"(V62/V48-1)*100","v":1.5225249613763037},null,1.3042173436363935,4.4210639222710846]
[null,"Posiciones 400 kV",196,98,52,null,167,null,15,113,219,136,null,103,71,8,103,null,69,28,80,{"$f":"SUM(C64:U64)+W64","v":1458},null,{"$f":"V64-F64-H64-M64-R64","v":1458},{"$f":"F64+H64+M64+R64","v":0}]
[null,"Posiciones 220 kV",438,214,45,76,297,55,50,137,243,595,null,88,222,30,523,null,48,49,148,{"$f":"SUM(C65:U65)+W65","v":3265},7,{"$f":"V65-F65-H65-M65-R65","v":3134},{"$f":"F65+H65+M65+R65","v":131}]
[null,"Posiciones <220 kV",null,null,null,495,null,389,null,null,null,3,null,null,1,null,null,null,null,null,null,888,null,{"$f":"V66-F66-H66-M66-R66","v":4},{"$f":"F66+H66+M66+R66","v":884}]
[null,"Total posiciones",634,312,97,571,464,444,65,250,462,734,0,191,294,38,626,0,117,77,228,{"$f":"SUM(V64:V66)","v":5611},{"$f":"SUM(W64:W66)","v":7},{"$f":"SUM(X64:X66)","v":4596},1015]
[null,{"$f":"CONCATENATE(\"Δ\" & $B$57 & \"/\" & $B$57-1)","v":"Δ2016/2015"},0.47543581616482644,0,0,1.4209591474245054,4.5045045045045029,4.7169811320754818,0,0.40160642570281624,0.21691973969630851,0,null,0,2.0833333333333259,0,0.32051282051281937,null,0,0,0.88495575221239076,{"$f":"(V67/V53-1)*100","v":1.1355443403028076},0,0.76737557553168134,2.8368794326241176]
[null,"Transformadores",14420,4974,1299.1999999999998,3273,8200,2000,2100,1200,6131,11650,null,2398.875,5700,600,11548.4,null,3150,1600,4300,{"$f":"SUM(C69:U69)+W69","v":85444.474999999991},900,{"$f":"V69-F69-H69-M69-R69","v":80171.474999999991},{"$f":"F69+H69+M69+R69","v":5273}]
[null,{"$f":"CONCATENATE(\"Δ\" & $B$57 & \"/\" & $B$57-1)","v":"Δ2016/2015"},{"$f":"(C69/C55-1)*100","v":0},{"$f":"(D69/D55-1)*100","v":6.4184852374839618},0,0,7.8947368421052655,0,0,0,0,0,null,0,0,0,0,null,0,0,0,1.064528462681924,0,1.1353390358890048,0]
[null,2017]
[null,"CCAA","Andalucía","Aragón","Asturias","Baleares","C. Valenciana","Canarias","Cantabria","Castilla-La Mancha","Castilla y León","Cataluña","Ceuta","Extremadura","Galicia","La Rioja","Madrid","Melilla","Murcia","Navarra","País Vasco","TOTAL","MÓVILES","PENINSULAR","NO PENINSULAR"]
[null,"km líneas 400 kV",2769.1495784137319,1520.6349404737257,529.29516425955512,0,1100.5624715223591,0,240.51270433523271,2612.8144960363102,4620.1780318758301,2185.6651918899902,null,2285.508458035531,1326.9377272727274,114.94905945892347,942.10002565760908,null,708.11213708924197,175.97007024489812,595.77834343434347,{"$f":"SUM(C73:U73)+W73","v":21728.16840000001},null,{"$f":"V73-F73-H73-M73-R73","v":21728.16840000001},{"$f":"F73+H73+M73+R73","v":0}]
[null,"km líneas 220 kV",3225.9940000000001,1858.52,420.226,432.22399999999993,1307.6019999999999,220.24300000000002,293.08699999999999,1496.73,3206.35886181352,2502.11,null,861.24,1325.2190000000001,156.33224242424242,1177.3799999999999,null,123.86974000000001,318.82,690.423,{"$f":"SUM(C74:U74)+W74","v":19616.378844237763},null,{"$f":"V74-F74-H74-M74-R74","v":18963.911844237766},{"$f":"F74+H74+M74+R74","v":652.46699999999998}]
[null,"km líneas <220 kV",null,null,null,1376.0919999999999,null,1134.854,null,null,null,39.44,null,23,12.3,null,null,null,null,null,null,2585.6860000000001,null,{"$f":"V75-F75-H75-M75-R75","v":74.740000000000236},{"$f":"F75+H75+M75+R75","v":2510.9459999999999}]
[null,"Total km líneas",{"$f":"SUM(C73:C75)","v":5995.143578413732},{"$f":"SUM(D73:D75)","v":3379.1549404737257},949.52116425955512,1808.3159999999998,2408.1644715223592,1355.097,533.59970433523267,4109.5444960363102,7826.5368936893501,4727.2151918899899,0,3169.7484580355313,2664.4567272727277,271.2813018831659,2119.4800256576091,0,831.98187708924195,494.79007024489812,1286.2013434343435,{"$f":"SUM(V73:V75)","v":43930.233244237774},null,{"$f":"SUM(X73:X75)","v":40766.820244237773},3163.413]
[null,{"$f":"CONCATENATE(\"Δ\" & $B$71 & \"/\" & $B$71-1)","v":"Δ2017/2016"},{"$f":"(C76/C62-1)*100","v":0},{"$f":"(D76/D62-1)*100","v":0.28728511625728537},0,0.4601582304324614,0.65315591442154375,6.882470009195174E-2,0,0.84117239588610282,0.61312460801450364,7.1319002845360302E-2,null,0,1.5012666596314617E-3,0,1.279880100674613,null,0,0,8.8640946963591816E-3,{"$f":"(V76/V62-1)*100","v":0.33529350985312956},null,{"$f":"(X76/X62-1)*100","v":0.33864287460050324},0.29215033425298298]
[null,"Posiciones 400 kV",196,99,52,null,171,null,15,113,233,142,null,103,71,8,104,null,69,28,80,{"$f":"SUM(C78:U78)+W78","v":1484},null,{"$f":"V78-F78-H78-M78-R78","v":1484},{"$f":"F78+H78+M78+R78","v":0}]
[null,"Posiciones 220 kV",438,215,45,76,310,55,50,139,243,602,null,88,222,30,523,null,48,50,150,{"$f":"SUM(C79:U79)+W79","v":3291},7,{"$f":"V79-F79-H79-M79-R79","v":3160},{"$f":"F79+H79+M79+R79","v":131}]
[null,"Posiciones <220 kV",null,null,null,501,null,439,null,null,null,3,null,null,1,null,null,null,null,null,null,944,null,{"$f":"V80-F80-H80-M80-R80","v":4},{"$f":"F80+H80+M80+R80","v":940}]
[null,"Total posiciones",{"$f":"SUM(C78:C80)","v":634},{"$f":"SUM(D78:D80)","v":314},97,577,481,494,65,252,476,747,0,191,294,38,627,0,117,78,230,{"$f":"SUM(V78:V80)","v":5719},{"$f":"SUM(W78:W80)","v":7},{"$f":"SUM(X78:X80)","v":4648},1071]
[null,{"$f":"CONCATENATE(\"Δ\" & $B$71 & \"/\" & $B$71-1)","v":"Δ2017/2016"},{"$f":"(C81/C67-1)*100","v":0},{"$f":"(D81/D67-1)*100","v":0.64102564102563875},0,1.0507880910683109,3.6637931034482651,11.261261261261257,0,0.80000000000000071,3.0303030303030276,1.7711171662125436,null,0,0,0,0.15974440894568342,null,0,1.298701298701288,0.87719298245614308,{"$f":"(V81/V67-1)*100","v":1.9247905899126616},0,1.1314186248912117,5.5172413793103559]
[null,"Transformadores",14420,4974,1299.1999999999998,3273,8200,2560,2100,1200,6131,11750,null,2398.875,5700,600,11548.4,null,3150,1600,4850,{"$f":"SUM(C83:U83)+W83","v":86654.474999999991},900,{"$f":"V83-F83-H83-M83-R83","v":80821.474999999991},{"$f":"F83+H83+M83+R83","v":5833}]
[null,{"$f":"CONCATENATE(\"Δ\" & $B$71 & \"/\" & $B$71-1)","v":"Δ2017/2016"},{"$f":"(C83/C69-1)*100","v":0},{"$f":"(D83/D69-1)*100","v":0},0,0,0,28.000000000000004,0,0,0,0.85836909871244149,null,0,0,0,0,null,0,0,12.790697674418606,{"$f":"(V83/V69-1)*100","v":1.4161243310348626},0,0.81076218193565364,10.620140337568751]

{"sheet":"EVOLUCION_RdT","index":12,"n_rows":38,"n_cols":24,"rows_kept":38,"cut":false,"hidden":true,"merged":[]}
[]
[null,"evolución líneas","Andalucía","Aragón","Asturias","Baleares","C. Valenciana","Canarias","Cantabria","Castilla-La Mancha","Castilla y León","Cataluña","Ceuta","Extremadura","Galicia","La Rioja","Madrid","Melilla","Murcia","Navarra","País Vasco","TOTAL","MÓVILES","Resto nacional"]
[2012,"líneas ",{"$f":"datos_RdT!C6","v":5672.6242333632308},{"$f":"datos_RdT!D6","v":3136.3887575067247},{"$f":"datos_RdT!E6","v":843.73798446157525},{"$f":"datos_RdT!F6","v":1543.5309999999995},{"$f":"datos_RdT!G6","v":2126.5827315223587},{"$f":"datos_RdT!H6","v":1289.05},{"$f":"datos_RdT!I6","v":515.4004972645256},{"$f":"datos_RdT!J6","v":4035.0151355339185},{"$f":"datos_RdT!K6","v":7777.4318936893524},{"$f":"datos_RdT!L6","v":4533.230445968099},{"$f":"datos_RdT!M6","v":0},{"$f":"datos_RdT!N6","v":2439.8818254597318},{"$f":"datos_RdT!O6","v":2531.4557272727275},{"$f":"datos_RdT!P6","v":271.2813018831659},{"$f":"datos_RdT!Q6","v":2079.1265765135659},{"$f":"datos_RdT!R6","v":0},{"$f":"datos_RdT!S6","v":815.38587708924194},{"$f":"datos_RdT!T6","v":494.79909044691829},{"$f":"datos_RdT!U6","v":1206.1980220248633},{"$f":"SUM(C3:U3)","v":41311.121100000004},null,{"$f":"V3-Q3","v":39231.994523486435}]
[2012,"posiciones",{"$f":"datos_RdT!C11","v":583},{"$f":"datos_RdT!D11","v":295},{"$f":"datos_RdT!E11","v":88},{"$f":"datos_RdT!F11","v":504},{"$f":"datos_RdT!G11","v":388},{"$f":"datos_RdT!H11","v":403},{"$f":"datos_RdT!I11","v":56},{"$f":"datos_RdT!J11","v":240},{"$f":"datos_RdT!K11","v":433},{"$f":"datos_RdT!L11","v":700},{"$f":"datos_RdT!M11","v":0},{"$f":"datos_RdT!N11","v":164},{"$f":"datos_RdT!O11","v":272},{"$f":"datos_RdT!P11","v":38},{"$f":"datos_RdT!Q11","v":599},{"$f":"datos_RdT!R11","v":0},{"$f":"datos_RdT!S11","v":101},{"$f":"datos_RdT!T11","v":75},{"$f":"datos_RdT!U11","v":224},{"$f":"SUM(C4:U4)+W4","v":5170},{"$f":"datos_RdT!W11","v":7},{"$f":"V4-Q4","v":4571}]
[2012,"transformadores",{"$f":"datos_RdT!C13","v":14420},{"$f":"datos_RdT!D13","v":4674},{"$f":"datos_RdT!E13","v":1299.1999999999998},{"$f":"datos_RdT!F13","v":2408},{"$f":"datos_RdT!G13","v":7525},{"$f":"datos_RdT!H13","v":1625},{"$f":"datos_RdT!I13","v":1500},{"$f":"datos_RdT!J13","v":1200},{"$f":"datos_RdT!K13","v":6131},{"$f":"datos_RdT!L13","v":10450},{"$f":"datos_RdT!M13","v":0},{"$f":"datos_RdT!N13","v":1798.875},{"$f":"datos_RdT!O13","v":5700},{"$f":"datos_RdT!P13","v":600},{"$f":"datos_RdT!Q13","v":10348.4},{"$f":"datos_RdT!R13","v":0},{"$f":"datos_RdT!S13","v":3150},{"$f":"datos_RdT!T13","v":1000},{"$f":"datos_RdT!U13","v":4300},{"$f":"SUM(C5:U5)","v":78129.474999999991},{"$f":"datos_RdT!W13","v":500},{"$f":"V5-Q5","v":67781.074999999997}]
[2012,"líneas ",{"$f":"datos_RdT!C7/100","v":1.9180841853522201E-2},{"$f":"datos_RdT!D7/100","v":5.3135093450756177E-2},{"$f":"datos_RdT!E7/100","v":0},{"$f":"datos_RdT!F7/100","v":1.9506324463203217E-3},{"$f":"datos_RdT!G7/100","v":2.5144344596398138E-2},{"$f":"datos_RdT!H7/100","v":0},{"$f":"datos_RdT!I7/100","v":0},{"$f":"datos_RdT!J7/100","v":7.9898832233856298E-2},{"$f":"datos_RdT!K7/100","v":3.115327520977873E-3},{"$f":"datos_RdT!L7/100","v":7.3644100095293652E-4},{"$f":"datos_RdT!M7/100","v":0},{"$f":"datos_RdT!N7/100","v":1.9897029684903256E-3},{"$f":"datos_RdT!O7/100","v":4.7096377080565466E-2},{"$f":"datos_RdT!P7/100","v":6.3837387853235894E-2},{"$f":"datos_RdT!Q7/100","v":6.6154672349785226E-3},{"$f":"datos_RdT!R7/100","v":0},{"$f":"datos_RdT!S7/100","v":1.8143089681516678E-2},{"$f":"datos_RdT!T7/100","v":0},{"$f":"datos_RdT!U7/100","v":0},{"$f":"datos_RdT!V7/100","v":1.9983698776999015E-2}]
[2012,"posiciones",{"$f":"datos_RdT!C12/100","v":1.7452006980802848E-2},{"$f":"datos_RdT!D12/100","v":3.1468531468531458E-2},{"$f":"datos_RdT!E12/100","v":0},{"$f":"datos_RdT!F12/100","v":0},{"$f":"datos_RdT!G12/100","v":7.182320441988943E-2},{"$f":"datos_RdT!H12/100","v":0},{"$f":"datos_RdT!I12/100","v":7.6923076923076872E-2},{"$f":"datos_RdT!J12/100","v":0.12149532710280365},{"$f":"datos_RdT!K12/100","v":2.3640661938534313E-2},{"$f":"datos_RdT!L12/100","v":4.1666666666666741E-2},{"$f":"datos_RdT!M12/100","v":0},{"$f":"datos_RdT!N12/100","v":0.12328767123287676},{"$f":"datos_RdT!O12/100","v":2.6415094339622636E-2},{"$f":"datos_RdT!P12/100","v":0.26666666666666661},{"$f":"datos_RdT!Q12/100","v":4.355400696864109E-2},{"$f":"datos_RdT!R12/100","v":0},{"$f":"datos_RdT!S12/100","v":0.16091954022988511},{"$f":"datos_RdT!T12/100","v":0},{"$f":"datos_RdT!U12/100","v":1.8181818181818077E-2},{"$f":"datos_RdT!V12/100","v":3.7944187914073391E-2}]
[2012,"transformadores",{"$f":"datos_RdT!C14/100","v":5.8737151248164476E-2},{"$f":"datos_RdT!D14/100","v":0.14727540500736369},{"$f":"datos_RdT!E14/100","v":0},{"$f":"datos_RdT!F14/100","v":7.1174377224199281E-2},{"$f":"datos_RdT!G14/100","v":8.6642599277978238E-2},{"$f":"datos_RdT!H14/100","v":0},{"$f":"datos_RdT!I14/100","v":0},{"$f":"datos_RdT!J14/100","v":0},{"$f":"datos_RdT!K14/100","v":0},{"$f":"datos_RdT!L14/100","v":0.11764705882352944},{"$f":"datos_RdT!M14/100","v":0},{"$f":"datos_RdT!N14/100","v":0},{"$f":"datos_RdT!O14/100","v":0},{"$f":"datos_RdT!P14/100","v":0},{"$f":"datos_RdT!Q14/100","v":0},{"$f":"datos_RdT!R14/100","v":0},{"$f":"datos_RdT!S14/100","v":0},{"$f":"datos_RdT!T14/100","v":0},{"$f":"datos_RdT!U14/100","v":0.34375},{"$f":"datos_RdT!V14/100","v":7.9045443925594094E-2}]
[2013,"líneas ",{"$f":"datos_RdT!C20","v":5831.5668733632301},{"$f":"datos_RdT!D20","v":3136.9887575067251},{"$f":"datos_RdT!E20","v":911.90198446157524},{"$f":"datos_RdT!F20","v":1543.5309999999995},{"$f":"datos_RdT!G20","v":2233.090731522359},{"$f":"datos_RdT!H20","v":1289.05},{"$f":"datos_RdT!I20","v":515.4004972645256},{"$f":"datos_RdT!J20","v":4035.0151355339185},{"$f":"datos_RdT!K20","v":7777.4318936893524},{"$f":"datos_RdT!L20","v":4533.230445968099},{"$f":"datos_RdT!M20","v":0},{"$f":"datos_RdT!N20","v":2858.7098254597313},{"$f":"datos_RdT!O20","v":2531.455727272727},{"$f":"datos_RdT!P20","v":271.2813018831659},{"$f":"datos_RdT!Q20","v":2086.0125765135676},{"$f":"datos_RdT!R20","v":0},{"$f":"datos_RdT!S20","v":815.38587708924194},{"$f":"datos_RdT!T20","v":494.79909044691829},{"$f":"datos_RdT!U20","v":1250.1620220248633},{"$f":"SUM(C9:U9)","v":42115.013740000002},null,{"$f":"V9-Q9","v":40029.001163486435}]
[2013,"posiciones",{"$f":"datos_RdT!C25","v":607},{"$f":"datos_RdT!D25","v":302},{"$f":"datos_RdT!E25","v":97},{"$f":"datos_RdT!F25","v":506},{"$f":"datos_RdT!G25","v":414},{"$f":"datos_RdT!H25","v":403},{"$f":"datos_RdT!I25","v":56},{"$f":"datos_RdT!J25","v":243},{"$f":"datos_RdT!K25","v":433},{"$f":"datos_RdT!L25","v":708},{"$f":"datos_RdT!M25","v":0},{"$f":"datos_RdT!N25","v":190},{"$f":"datos_RdT!O25","v":285},{"$f":"datos_RdT!P25","v":38},{"$f":"datos_RdT!Q25","v":620},{"$f":"datos_RdT!R25","v":0},{"$f":"datos_RdT!S25","v":107},{"$f":"datos_RdT!T25","v":77},{"$f":"datos_RdT!U25","v":224},{"$f":"SUM(C10:U10)+W10","v":5317},{"$f":"datos_RdT!W25","v":7},{"$f":"V10-Q10","v":4697}]
[2013,"transformadores",{"$f":"datos_RdT!C27","v":14420},{"$f":"datos_RdT!D27","v":4674},{"$f":"datos_RdT!E27","v":1299.1999999999998},{"$f":"datos_RdT!F27","v":2793},{"$f":"datos_RdT!G27","v":7600},{"$f":"datos_RdT!H27","v":1625},{"$f":"datos_RdT!I27","v":2100},{"$f":"datos_RdT!J27","v":1200},{"$f":"datos_RdT!K27","v":6131},{"$f":"datos_RdT!L27","v":10450},{"$f":"datos_RdT!M27","v":0},{"$f":"datos_RdT!N27","v":2398.875},{"$f":"datos_RdT!O27","v":5700},{"$f":"datos_RdT!P27","v":600},{"$f":"datos_RdT!Q27","v":10348.4},{"$f":"datos_RdT!R27","v":0},{"$f":"datos_RdT!S27","v":3150},{"$f":"datos_RdT!T27","v":1600},{"$f":"datos_RdT!U27","v":4300},{"$f":"SUM(C11:U11)","v":80389.474999999991},{"$f":"datos_RdT!W27","v":900},{"$f":"V11-Q11","v":70041.074999999997}]
[2013,"líneas ",{"$f":"(C9/C3-1)","v":2.8019243556657081E-2},{"$f":"(D9/D3-1)","v":1.9130281555956863E-4},{"$f":"(E9/E3-1)","v":8.0788113437251896E-2},{"$f":"(F9/F3-1)","v":0},5.0084108377836056E-2,0,0,0,0,0,null,0.17165913349966555,-2.2204460492503131E-16,0,3.3119676684374433E-3,null,0,0,3.6448409960246009E-2,1.9459472863349481E-2]
[2013,"posiciones",{"$f":"(C10/C4-1)","v":4.116638078902235E-2},{"$f":"(D10/D4-1)","v":2.3728813559322104E-2},0.10227272727272729,3.9682539682539542E-3,6.7010309278350499E-2,0,0,1.2499999999999956E-2,0,1.1428571428571344E-2,null,0.15853658536585358,4.7794117647058876E-2,0,3.5058430717863187E-2,null,5.9405940594059459E-2,2.6666666666666616E-2,0,2.8433268858800709E-2]
[2013,"transformadores",{"$f":"(C11/C5-1)","v":0},{"$f":"(D11/D5-1)","v":0},0,0.15988372093023262,9.966777408637828E-3,0,0.39999999999999991,null,0,0,null,0.33354179695643116,0,null,0,null,0,0.60000000000000009,0,2.8926343099067386E-2]
[2014,"líneas ",{"$f":"datos_RdT!C34","v":5938.1073733632311},{"$f":"datos_RdT!D34","v":3136.9887575067251},{"$f":"datos_RdT!E34","v":911.90198446157524},{"$f":"datos_RdT!F34","v":1544.9819999999995},{"$f":"datos_RdT!G34","v":2274.0187315223588},{"$f":"datos_RdT!H34","v":1289.135},{"$f":"datos_RdT!I34","v":515.4004972645256},{"$f":"datos_RdT!J34","v":4075.2651355339185},{"$f":"datos_RdT!K34","v":7777.4318936893524},{"$f":"datos_RdT!L34","v":4688.3294459680992},{"$f":"datos_RdT!M34","v":0},{"$f":"datos_RdT!N34","v":3095.8823254597314},{"$f":"datos_RdT!O34","v":2537.8847272727276},{"$f":"datos_RdT!P34","v":271.2813018831659},{"$f":"datos_RdT!Q34","v":2092.7055765135669},{"$f":"datos_RdT!R34","v":0},{"$f":"datos_RdT!S34","v":815.38587708924194},{"$f":"datos_RdT!T34","v":494.79909044691829},{"$f":"datos_RdT!U34","v":1250.1620220248633},{"$f":"SUM(C15:U15)","v":42709.661740000003},null,{"$f":"V15-Q15","v":40616.956163486437}]
[2014,"posiciones",{"$f":"datos_RdT!C39","v":611},{"$f":"datos_RdT!D39","v":302},{"$f":"datos_RdT!E39","v":97},{"$f":"datos_RdT!F39","v":530},{"$f":"datos_RdT!G39","v":434},{"$f":"datos_RdT!H39","v":409},{"$f":"datos_RdT!I39","v":56},{"$f":"datos_RdT!J39","v":249},{"$f":"datos_RdT!K39","v":434},{"$f":"datos_RdT!L39","v":725},{"$f":"datos_RdT!M39","v":0},{"$f":"datos_RdT!N39","v":191},{"$f":"datos_RdT!O39","v":288},{"$f":"datos_RdT!P39","v":38},{"$f":"datos_RdT!Q39","v":624},{"$f":"datos_RdT!R39","v":0},{"$f":"datos_RdT!S39","v":115},{"$f":"datos_RdT!T39","v":77},{"$f":"datos_RdT!U39","v":225},{"$f":"SUM(C16:U16)+W16","v":5412},{"$f":"datos_RdT!W39","v":7},{"$f":"V16-Q16","v":4788}]
[2014,"transformadores",{"$f":"datos_RdT!C41","v":14420},{"$f":"datos_RdT!D41","v":4674},{"$f":"datos_RdT!E41","v":1299.1999999999998},{"$f":"datos_RdT!F41","v":2793},{"$f":"datos_RdT!G41","v":7600},{"$f":"datos_RdT!H41","v":1875},{"$f":"datos_RdT!I41","v":2100},{"$f":"datos_RdT!J41","v":1200},{"$f":"datos_RdT!K41","v":6131},{"$f":"datos_RdT!L41","v":11650},{"$f":"datos_RdT!M41","v":0},{"$f":"datos_RdT!N41","v":2398.875},{"$f":"datos_RdT!O41","v":5700},{"$f":"datos_RdT!P41","v":600},{"$f":"datos_RdT!Q41","v":11548.4},{"$f":"datos_RdT!R41","v":0},{"$f":"datos_RdT!S41","v":3150},{"$f":"datos_RdT!T41","v":1600},{"$f":"datos_RdT!U41","v":4300},{"$f":"SUM(C17:U17)","v":83039.474999999991},{"$f":"datos_RdT!W41","v":900},{"$f":"V17-Q17","v":71491.074999999997}]
[2014,"líneas ",{"$f":"(C15/C9-1)","v":1.8269618151280254E-2},{"$f":"(D15/D9-1)","v":0},0,9.4005238637895339E-4,1.83279610730811E-2,6.5940033358025119E-5,0,9.9751794350269041E-3,0,3.4213791213271838E-2,null,8.2964873834950659E-2,2.5396454422399461E-3,0,3.2085137335009506E-3,null,0,0,0,1.4119620230236718E-2]
[2014,"posiciones",{"$f":"(C16/C10-1)","v":6.5897858319605707E-3},{"$f":"(D16/D10-1)","v":0},0,4.743083003952564E-2,4.8309178743961345E-2,1.4888337468982549E-2,0,2.4691358024691468E-2,2.3094688221709792E-3,2.4011299435028333E-2,null,5.2631578947368585E-3,1.0526315789473717E-2,0,6.4516129032257119E-3,null,7.4766355140186924E-2,0,4.4642857142858094E-3,1.7867218356215853E-2]
[2014,"transformadores",{"$f":"(C17/C11-1)","v":0},{"$f":"(D17/D11-1)","v":0},0,0,0,0.15384615384615374,0,{"$f":"(J17/J11-1)","v":0},0,0.1148325358851674,null,0,0,null,0.11595995516215063,null,0,0,0,3.2964514322304073E-2]
[2015,"líneas ",{"$f":"datos_RdT!C48","v":5970.1973733632312},{"$f":"datos_RdT!D48","v":3180.3387575067245},{"$f":"datos_RdT!E48","v":911.90198446157524},{"$f":"datos_RdT!F48","v":1673.694},{"$f":"datos_RdT!G48","v":2282.157731522359},{"$f":"datos_RdT!H48","v":1346.9589999999998},{"$f":"datos_RdT!I48","v":533.60049726452564},{"$f":"datos_RdT!J48","v":4075.2651355339185},{"$f":"datos_RdT!K48","v":7778.8428936893524},{"$f":"datos_RdT!L48","v":4705.9894459680991},{"$f":"datos_RdT!M48","v":0},{"$f":"datos_RdT!N48","v":3169.7523254597318},{"$f":"datos_RdT!O48","v":2537.8847272727276},{"$f":"datos_RdT!P48","v":271.2813018831659},{"$f":"datos_RdT!Q48","v":2092.7055765135669},{"$f":"datos_RdT!R48","v":0},{"$f":"datos_RdT!S48","v":815.38587708924194},{"$f":"datos_RdT!T48","v":494.79909044691829},{"$f":"datos_RdT!U48","v":1286.0580220248632},{"$f":"SUM(C21:U21)","v":43126.813740000005},null,{"$f":"V21-Q21","v":41034.108163486439}]
[2015,"posiciones",{"$f":"datos_RdT!C53","v":631},{"$f":"datos_RdT!D53","v":312},{"$f":"datos_RdT!E53","v":97},{"$f":"datos_RdT!F53","v":563},{"$f":"datos_RdT!G53","v":444},{"$f":"datos_RdT!H53","v":424},{"$f":"datos_RdT!I53","v":65},{"$f":"datos_RdT!J53","v":249},{"$f":"datos_RdT!K53","v":461},{"$f":"datos_RdT!L53","v":734},{"$f":"datos_RdT!M53","v":0},{"$f":"datos_RdT!N53","v":191},{"$f":"datos_RdT!O53","v":288},{"$f":"datos_RdT!P53","v":38},{"$f":"datos_RdT!Q53","v":624},{"$f":"datos_RdT!R53","v":0},{"$f":"datos_RdT!S53","v":117},{"$f":"datos_RdT!T53","v":77},{"$f":"datos_RdT!U53","v":226},{"$f":"SUM(C22:U22)+W22","v":5548},{"$f":"datos_RdT!W53","v":7},{"$f":"V22-Q22","v":4924}]
[2015,"transformadores",{"$f":"datos_RdT!C55","v":14420},{"$f":"datos_RdT!D55","v":4674},{"$f":"datos_RdT!E55","v":1299.1999999999998},{"$f":"datos_RdT!F55","v":3273},{"$f":"datos_RdT!G55","v":7600},{"$f":"datos_RdT!H55","v":2000},{"$f":"datos_RdT!I55","v":2100},{"$f":"datos_RdT!J55","v":1200},{"$f":"datos_RdT!K55","v":6131},{"$f":"datos_RdT!L55","v":11650},{"$f":"datos_RdT!M55","v":0},{"$f":"datos_RdT!N55","v":2398.875},{"$f":"datos_RdT!O55","v":5700},{"$f":"datos_RdT!P55","v":600},{"$f":"datos_RdT!Q55","v":11548.4},{"$f":"datos_RdT!R55","v":0},{"$f":"datos_RdT!S55","v":3150},{"$f":"datos_RdT!T55","v":1600},{"$f":"datos_RdT!U55","v":4300},{"$f":"SUM(C23:U23)","v":83644.474999999991},{"$f":"datos_RdT!W55","v":900},{"$f":"V23-Q23","v":72096.074999999997}]
[2015,"líneas ",{"$f":"(C21/C15-1)","v":5.4040787716211902E-3},{"$f":"(D21/D15-1)","v":1.3818984813466217E-2},0,8.3309708462623089E-2,3.5791261906410465E-3,4.4854883313229399E-2,3.5312344665160422E-2,0,1.8142235371354509E-4,3.7668001371335968E-3,null,2.3860726033581026E-2,0,0,0,null,0,0,2.8713078279133608E-2,9.7671576642179847E-3]
[2015,"posiciones",{"$f":"(C22/C16-1)","v":3.2733224222585955E-2},{"$f":"(D22/D16-1)","v":3.3112582781456901E-2},0,6.2264150943396324E-2,2.3041474654377891E-2,3.6674816625916762E-2,0.16071428571428581,0,6.2211981566820285E-2,1.2413793103448256E-2,null,0,0,0,0,null,1.7391304347825987E-2,0,4.4444444444444731E-3,2.512934220251295E-2]
[2015,"transformadores",{"$f":"(C23/C17-1)","v":0},{"$f":"(D23/D17-1)","v":0},0,0.17185821697099901,0,6.6666666666666652E-2,0,0,0,0,null,0,0,0,0,null,0,0,0,7.2856915340564488E-3]
[2016,"líneas ",{"$f":"datos_RdT!C62","v":5995.143578413732},{"$f":"datos_RdT!D62","v":3369.4749404737258},{"$f":"datos_RdT!E62","v":949.52116425955512},{"$f":"datos_RdT!F62","v":1800.0329999999994},{"$f":"datos_RdT!G62","v":2392.5374715223593},{"$f":"datos_RdT!H62","v":1354.1649999999997},{"$f":"datos_RdT!I62","v":533.59970433523267},{"$f":"datos_RdT!J62","v":4075.2644960363059},{"$f":"datos_RdT!K62","v":7778.8428936893524},{"$f":"datos_RdT!L62","v":4723.8461918899857},{"$f":"datos_RdT!M62","v":0},{"$f":"datos_RdT!N62","v":3169.7484580355313},{"$f":"datos_RdT!O62","v":2664.4167272727277},{"$f":"datos_RdT!P62","v":271.2813018831659},{"$f":"datos_RdT!Q62","v":2092.696025657609},{"$f":"datos_RdT!R62","v":0},{"$f":"datos_RdT!S62","v":831.98187708924195},{"$f":"datos_RdT!T62","v":494.79007024489812},{"$f":"datos_RdT!U62","v":1286.0873434343434},43783.430244237767,null,{"$f":"V27-Q27","v":41690.734218580161}]
[2016,"posiciones",{"$f":"datos_RdT!C67","v":634},{"$f":"datos_RdT!D67","v":312},{"$f":"datos_RdT!E67","v":97},{"$f":"datos_RdT!F67","v":571},{"$f":"datos_RdT!G67","v":464},{"$f":"datos_RdT!H67","v":444},{"$f":"datos_RdT!I67","v":65},{"$f":"datos_RdT!J67","v":250},{"$f":"datos_RdT!K67","v":462},{"$f":"datos_RdT!L67","v":734},{"$f":"datos_RdT!M67","v":0},{"$f":"datos_RdT!N67","v":191},{"$f":"datos_RdT!O67","v":294},{"$f":"datos_RdT!P67","v":38},{"$f":"datos_RdT!Q67","v":626},{"$f":"datos_RdT!R67","v":0},{"$f":"datos_RdT!S67","v":117},{"$f":"datos_RdT!T67","v":77},{"$f":"datos_RdT!U67","v":228},{"$f":"SUM(C28:U28)+W28","v":5611},{"$f":"datos_RdT!W67","v":7},{"$f":"V28-Q28","v":4985}]
[2016,"transformadores",{"$f":"datos_RdT!C69","v":14420},{"$f":"datos_RdT!D69","v":4974},{"$f":"datos_RdT!E69","v":1299.1999999999998},{"$f":"datos_RdT!F69","v":3273},{"$f":"datos_RdT!G69","v":8200},{"$f":"datos_RdT!H69","v":2000},{"$f":"datos_RdT!I69","v":2100},{"$f":"datos_RdT!J69","v":1200},{"$f":"datos_RdT!K69","v":6131},{"$f":"datos_RdT!L69","v":11650},{"$f":"datos_RdT!M69","v":0},{"$f":"datos_RdT!N69","v":2398.875},{"$f":"datos_RdT!O69","v":5700},{"$f":"datos_RdT!P69","v":600},{"$f":"datos_RdT!Q69","v":11548.4},{"$f":"datos_RdT!R69","v":0},{"$f":"datos_RdT!S69","v":3150},{"$f":"datos_RdT!T69","v":1600},{"$f":"datos_RdT!U69","v":4300},{"$f":"SUM(C29:U29)","v":84544.474999999991},{"$f":"datos_RdT!W69","v":900},{"$f":"V29-Q29","v":72996.074999999997}]
[2016,"líneas ",{"$f":"(C27/C21-1)","v":4.1784556674460127E-3},{"$f":"(D27/D21-1)","v":5.9470451856920237E-2},4.1253534304119155E-2,7.548512452096956E-2,4.8366393994322854E-2,5.3498287624196283E-3,-1.4859980398407302E-6,-1.5692171950743017E-7,0,3.794472156580353E-3,null,-1.2201029617742165E-6,4.9857268393736165E-2,0,-4.5638794415880923E-6,null,2.0353553411109226E-2,-1.8230029509624934E-5,2.2799445264620744E-5,1.5225249613763037E-2]
[2016,"posiciones",{"$f":"(C28/C22-1)","v":4.7543581616482644E-3},{"$f":"(D28/D22-1)","v":0},0,1.4209591474245054E-2,4.5045045045045029E-2,4.7169811320754818E-2,0,4.0160642570281624E-3,2.1691973969630851E-3,0,null,0,2.0833333333333259E-2,0,3.2051282051281937E-3,null,0,0,8.8495575221239076E-3,1.1355443403028076E-2]
[2016,"transformadores",{"$f":"(C29/C23-1)","v":0},{"$f":"(D29/D23-1)","v":6.4184852374839618E-2},0,0,7.8947368421052655E-2,0,0,0,0,0,null,0,0,0,0,null,0,0,0,1.0759826037523679E-2]
[2017,"líneas ",{"$f":"datos_RdT!C76","v":5995.143578413732},{"$f":"datos_RdT!D76","v":3379.1549404737257},{"$f":"datos_RdT!E76","v":949.52116425955512},{"$f":"datos_RdT!F76","v":1808.3159999999998},{"$f":"datos_RdT!G76","v":2408.1644715223592},{"$f":"datos_RdT!H76","v":1355.097},{"$f":"datos_RdT!I76","v":533.59970433523267},{"$f":"datos_RdT!J76","v":4109.5444960363102},{"$f":"datos_RdT!K76","v":7826.5368936893501},{"$f":"datos_RdT!L76","v":4727.2151918899899},{"$f":"datos_RdT!M76","v":0},{"$f":"datos_RdT!N76","v":3169.7484580355313},{"$f":"datos_RdT!O76","v":2664.4567272727277},{"$f":"datos_RdT!P76","v":271.2813018831659},{"$f":"datos_RdT!Q76","v":2119.4800256576091},{"$f":"datos_RdT!R76","v":0},{"$f":"datos_RdT!S76","v":831.98187708924195},{"$f":"datos_RdT!T76","v":494.79007024489812},{"$f":"datos_RdT!U76","v":1286.2013434343435},{"$f":"datos_RdT!V76","v":43930.233244237774},null,{"$f":"V33-Q33","v":41810.753218580168}]
[2017,"posiciones",{"$f":"datos_RdT!C81","v":634},{"$f":"datos_RdT!D81","v":314},{"$f":"datos_RdT!E81","v":97},{"$f":"datos_RdT!F81","v":577},{"$f":"datos_RdT!G81","v":481},{"$f":"datos_RdT!H81","v":494},{"$f":"datos_RdT!I81","v":65},{"$f":"datos_RdT!J81","v":252},{"$f":"datos_RdT!K81","v":476},{"$f":"datos_RdT!L81","v":747},{"$f":"datos_RdT!M81","v":0},{"$f":"datos_RdT!N81","v":191},{"$f":"datos_RdT!O81","v":294},{"$f":"datos_RdT!P81","v":38},{"$f":"datos_RdT!Q81","v":627},{"$f":"datos_RdT!R81","v":0},{"$f":"datos_RdT!S81","v":117},{"$f":"datos_RdT!T81","v":78},{"$f":"datos_RdT!U81","v":230},{"$f":"datos_RdT!V81","v":5719},{"$f":"datos_RdT!W81","v":7},{"$f":"V34-Q34","v":5092}]
[2017,"transformadores",{"$f":"datos_RdT!C83","v":14420},{"$f":"datos_RdT!D83","v":4974},{"$f":"datos_RdT!E83","v":1299.1999999999998},{"$f":"datos_RdT!F83","v":3273},{"$f":"datos_RdT!G83","v":8200},{"$f":"datos_RdT!H83","v":2560},{"$f":"datos_RdT!I83","v":2100},{"$f":"datos_RdT!J83","v":1200},{"$f":"datos_RdT!K83","v":6131},{"$f":"datos_RdT!L83","v":11750},{"$f":"datos_RdT!M83","v":0},{"$f":"datos_RdT!N83","v":2398.875},{"$f":"datos_RdT!O83","v":5700},{"$f":"datos_RdT!P83","v":600},{"$f":"datos_RdT!Q83","v":11548.4},{"$f":"datos_RdT!R83","v":0},{"$f":"datos_RdT!S83","v":3150},{"$f":"datos_RdT!T83","v":1600},{"$f":"datos_RdT!U83","v":4850},{"$f":"datos_RdT!V83","v":86654.474999999991},{"$f":"datos_RdT!W83","v":900},{"$f":"V35-Q35","v":75106.074999999997}]
[2017,"líneas ",{"$f":"(C33/C27-1)","v":0},{"$f":"(D33/D27-1)","v":2.8728511625728537E-3},0,4.601582304324614E-3,6.5315591442154375E-3,6.882470009195174E-4,0,8.4117239588610282E-3,6.1312460801450364E-3,7.1319002845360302E-4,null,0,1.5012666596314617E-5,0,1.279880100674613E-2,null,0,0,8.8640946963591816E-5,3.3529350985315176E-3]
[2017,"posiciones",{"$f":"(C34/C28-1)","v":0},{"$f":"(D34/D28-1)","v":6.4102564102563875E-3},0,1.0507880910683109E-2,3.6637931034482651E-2,0.11261261261261257,0,8.0000000000000071E-3,3.0303030303030276E-2,1.7711171662125436E-2,null,0,0,0,1.5974440894568342E-3,null,0,1.298701298701288E-2,8.7719298245614308E-3,1.9247905899126616E-2]
[2017,"transformadores",{"$f":"(C35/C29-1)","v":0},{"$f":"(D35/D29-1)","v":0},0,0,0,0.28000000000000003,0,0,0,8.5836909871244149E-3,null,0,0,0,0,null,0,0,0.12790697674418605,2.4957278402876204E-2]

{"sheet":"Año","index":13,"n_rows":7,"n_cols":2,"rows_kept":7,"cut":false,"hidden":true,"merged":[]}
[]
[null,2012]
[null,2013]
[null,2014]
[null,2015]
[null,2016]
[null,2017]

{"sheet":"datos_anual","index":14,"n_rows":38,"n_cols":22,"rows_kept":38,"cut":false,"hidden":true,"merged":[]}
[]
[null,"CCAA","Andalucía","Aragón","Asturias","Baleares","C. Valenciana","Canarias","Cantabria","Castilla-La Mancha","Castilla y León","Cataluña","Ceuta","Extremadura","Galicia","La Rioja","Madrid","Melilla","Murcia","Navarra","País Vasco","España"]
[2012,"Generación neta ",{"$f":"generacion_bruta!C18","v":38034.558076939145},{"$f":"generacion_bruta!D18","v":16619.003262677419},{"$f":"generacion_bruta!E18","v":14352.795124742668},{"$f":"generacion_bruta!F18","v":5252.3505400000004},{"$f":"generacion_bruta!G18","v":20250.408167514455},{"$f":"generacion_bruta!H18","v":8892.5404590000016},{"$f":"generacion_bruta!I18","v":2627.7780263543632},{"$f":"generacion_bruta!J18","v":24866.883025895495},{"$f":"generacion_bruta!K18","v":35310.082408160772},{"$f":"generacion_bruta!L18","v":44093.24259633715},{"$f":"generacion_bruta!M18","v":212.07499999999999},{"$f":"generacion_bruta!N18","v":18509.402184477112},{"$f":"generacion_bruta!O18","v":29240.855462622596},{"$f":"generacion_bruta!P18","v":2765.1649409398856},{"$f":"generacion_bruta!Q18","v":1670.499508996345},{"$f":"generacion_bruta!R18","v":217.353072},{"$f":"generacion_bruta!S18","v":6413.7584412570177},{"$f":"generacion_bruta!T18","v":5550.9788074892567},{"$f":"generacion_bruta!U18","v":8501.5650015963256},{"$f":"SUM(C3:U3)","v":283381.29410700005}]
[null,"Consumos en bombeo",{"$f":"generacion_bruta!C19","v":-434.63200000000001},{"$f":"generacion_bruta!D19","v":-351.54199999999997},{"$f":"generacion_bruta!E19","v":-52.417999999999999},{"$f":"generacion_bruta!F19","v":0},{"$f":"generacion_bruta!G19","v":-1114.3420000000001},{"$f":"generacion_bruta!H19","v":0},{"$f":"generacion_bruta!I19","v":-795.60299999999995},{"$f":"generacion_bruta!J19","v":-156.03200000000001},{"$f":"generacion_bruta!K19","v":-1401.482},{"$f":"generacion_bruta!L19","v":-381.44099999999997},{"$f":"generacion_bruta!M19","v":0},{"$f":"generacion_bruta!N19","v":-15.193},{"$f":"generacion_bruta!O19","v":-319.86399999999998},{"$f":"generacion_bruta!P19","v":0},{"$f":"generacion_bruta!Q19","v":0},{"$f":"generacion_bruta!R19","v":0},{"$f":"generacion_bruta!S19","v":0},{"$f":"generacion_bruta!T19","v":0},{"$f":"generacion_bruta!U19","v":0},{"$f":"SUM(C4:U4)","v":-5022.549}]
[null,"Saldo Intercambios",{"$f":"generacion_bruta!C20","v":2108.9369999999999},{"$f":"generacion_bruta!D20","v":-6028.7219999999998},{"$f":"generacion_bruta!E20","v":-3960.9540000000002},{"$f":"generacion_bruta!F20","v":570.25099999999998},{"$f":"generacion_bruta!G20","v":7340.41},{"$f":"generacion_bruta!H20","v":0},{"$f":"generacion_bruta!I20","v":2567.3359999999998},{"$f":"generacion_bruta!J20","v":-12690.621999999999},{"$f":"generacion_bruta!K20","v":-20179.093000000001},{"$f":"generacion_bruta!L20","v":4039.2649999999999},{"$f":"generacion_bruta!M20","v":0},{"$f":"generacion_bruta!N20","v":-13604.637000000001},{"$f":"generacion_bruta!O20","v":-9270.3029999999999},{"$f":"generacion_bruta!P20","v":-1032.2829999999999},{"$f":"generacion_bruta!Q20","v":29330.89},{"$f":"generacion_bruta!R20","v":0},{"$f":"generacion_bruta!S20","v":2193.3490000000002},{"$f":"generacion_bruta!T20","v":-752.15},{"$f":"generacion_bruta!U20","v":8168.3720000000003},-11199.954000000009]
[null,"Demanda B.C",{"$f":"generacion_bruta!C21","v":39708.863076939146},{"$f":"generacion_bruta!D21","v":10238.73926267742},{"$f":"generacion_bruta!E21","v":10339.423124742669},{"$f":"generacion_bruta!F21","v":5822.6015400000006},{"$f":"generacion_bruta!G21","v":26476.476167514455},{"$f":"generacion_bruta!H21","v":8892.5404590000016},{"$f":"generacion_bruta!I21","v":4399.5110263543629},{"$f":"generacion_bruta!J21","v":12020.229025895496},{"$f":"generacion_bruta!K21","v":13729.507408160767},{"$f":"generacion_bruta!L21","v":47751.06659633715},{"$f":"generacion_bruta!M21","v":212.07499999999999},{"$f":"generacion_bruta!N21","v":4889.5721844771124},{"$f":"generacion_bruta!O21","v":19650.688462622595},{"$f":"generacion_bruta!P21","v":1732.8819409398857},{"$f":"generacion_bruta!Q21","v":31001.389508996344},{"$f":"generacion_bruta!R21","v":217.353072},{"$f":"generacion_bruta!S21","v":8607.1074412570179},{"$f":"generacion_bruta!T21","v":4798.8288074892571},{"$f":"generacion_bruta!U21","v":16669.937001596325},267158.79110699997]
[null,"Renovable",{"$f":"generacion_bruta!C50","v":13611.133455449832},{"$f":"generacion_bruta!D23","v":7320.7019146774173},{"$f":"generacion_bruta!E23","v":2757.00783514267},{"$f":"generacion_bruta!F23","v":122.667798},{"$f":"generacion_bruta!G23","v":3520.2253635144525},{"$f":"generacion_bruta!H23","v":628.12245899999982},{"$f":"generacion_bruta!I23","v":383.05469035436346},{"$f":"generacion_bruta!J23","v":11164.090215895498},{"$f":"generacion_bruta!K23","v":17228.306487990772},{"$f":"generacion_bruta!L23","v":6628.1535504411486},{"$f":"generacion_bruta!M23","v":0},{"$f":"generacion_bruta!N23","v":3423.1406588371128},{"$f":"generacion_bruta!O23","v":13351.938506922592},{"$f":"generacion_bruta!P23","v":1286.1811999398856},{"$f":"generacion_bruta!Q23","v":443.97805499634489},{"$f":"generacion_bruta!R23","v":8.3113999999999993E-2},{"$f":"generacion_bruta!S23","v":1356.1069682570183},{"$f":"generacion_bruta!T23","v":3757.6114994892564},{"$f":"generacion_bruta!U23","v":891.30478359632434},{"$f":"SUM(C7:U7)","v":87873.808556504693}]
[null,"No renovable",{"$f":"generacion_bruta!C51","v":21079.411289727999},{"$f":"generacion_bruta!D24","v":9298.3013480000009},{"$f":"generacion_bruta!E24","v":11595.787289599999},{"$f":"generacion_bruta!F24","v":5129.682742},{"$f":"generacion_bruta!G24","v":16730.182804},{"$f":"generacion_bruta!H24","v":8264.4179999999997},{"$f":"generacion_bruta!I24","v":2244.723336},{"$f":"generacion_bruta!J24","v":13702.792810000001},{"$f":"generacion_bruta!K24","v":18081.775920169999},{"$f":"generacion_bruta!L24","v":37465.089045895998},{"$f":"generacion_bruta!M24","v":212.07499999999999},{"$f":"generacion_bruta!N24","v":15086.26152564},{"$f":"generacion_bruta!O24","v":15888.9169557},{"$f":"generacion_bruta!P24","v":1478.983741},{"$f":"generacion_bruta!Q24","v":1226.5214539999999},{"$f":"generacion_bruta!R24","v":217.269958},{"$f":"generacion_bruta!S24","v":5057.6514729999999},{"$f":"generacion_bruta!T24","v":1793.3673079999999},{"$f":"generacion_bruta!U24","v":7610.2602180000004},{"$f":"SUM(C8:U8)","v":192163.47221873401}]
[2013,"Generación neta ",{"$f":"generacion_bruta!C45","v":34690.544745177831},{"$f":"generacion_bruta!D45","v":16784.274775950784},{"$f":"generacion_bruta!E45","v":13645.939433496729},{"$f":"generacion_bruta!F45","v":4405.0283459999991},{"$f":"generacion_bruta!G45","v":18832.584055799241},{"$f":"generacion_bruta!H45","v":8623.6832979999999},{"$f":"generacion_bruta!I45","v":2261.0702015213728},{"$f":"generacion_bruta!J45","v":22832.347446225001},{"$f":"generacion_bruta!K45","v":30891.434042465949},{"$f":"generacion_bruta!L45","v":45146.477276843514},{"$f":"generacion_bruta!M45","v":201.959},{"$f":"generacion_bruta!N45","v":20897.475772112226},{"$f":"generacion_bruta!O45","v":33085.095230834195},{"$f":"generacion_bruta!P45","v":1938.9037479909264},{"$f":"generacion_bruta!Q45","v":1632.4875044031969},{"$f":"generacion_bruta!R45","v":209.66712000000001},{"$f":"generacion_bruta!S45","v":5880.9623422798131},{"$f":"generacion_bruta!T45","v":5377.4295743842913},{"$f":"generacion_bruta!U45","v":6429.8689635149367},273767.232877]
[null,"Consumos en bombeo",{"$f":"generacion_bruta!C46","v":-470.70499999999998},{"$f":"generacion_bruta!D46","v":-367.52},{"$f":"generacion_bruta!E46","v":-77.28},{"$f":"generacion_bruta!F46","v":0},{"$f":"generacion_bruta!G46","v":-1520.008},{"$f":"generacion_bruta!H46","v":0},{"$f":"generacion_bruta!I46","v":-758.74900000000002},{"$f":"generacion_bruta!J46","v":-206.83},{"$f":"generacion_bruta!K46","v":-1728.923},{"$f":"generacion_bruta!L46","v":-335.16800000000001},{"$f":"generacion_bruta!M46","v":0},{"$f":"generacion_bruta!N46","v":-56.837000000000003},{"$f":"generacion_bruta!O46","v":-435.82600000000002},{"$f":"generacion_bruta!P46","v":0},{"$f":"generacion_bruta!Q46","v":0},{"$f":"generacion_bruta!R46","v":0},{"$f":"generacion_bruta!S46","v":0},{"$f":"generacion_bruta!T46","v":0},{"$f":"generacion_bruta!U46","v":0},-5957.8459999999995]
[null,"Saldo Intercambios",{"$f":"generacion_bruta!C47","v":3967.8980000000001},{"$f":"generacion_bruta!D47","v":-6311.9009999999998},{"$f":"generacion_bruta!E47","v":-3153.97},{"$f":"generacion_bruta!F47","v":1268.509},{"$f":"generacion_bruta!G47","v":8582.518},{"$f":"generacion_bruta!H47","v":0},{"$f":"generacion_bruta!I47","v":2883.1439999999998},{"$f":"generacion_bruta!J47","v":-10994.532999999999},{"$f":"generacion_bruta!K47","v":-15481.299000000001},{"$f":"generacion_bruta!L47","v":1461.7570000000001},{"$f":"generacion_bruta!M47","v":0},{"$f":"generacion_bruta!N47","v":-15974.308999999999},{"$f":"generacion_bruta!O47","v":-12778.904},{"$f":"generacion_bruta!P47","v":-234.66900000000001},{"$f":"generacion_bruta!Q47","v":28075.127},{"$f":"generacion_bruta!R47","v":0},{"$f":"generacion_bruta!S47","v":2433.7069999999999},{"$f":"generacion_bruta!T47","v":-601.34299999999996},{"$f":"generacion_bruta!U47","v":10126.138000000001},-6732.1299999999956]
[null,"Demanda B.C",{"$f":"generacion_bruta!C48","v":38187.73774517783},{"$f":"generacion_bruta!D48","v":10104.853775950784},{"$f":"generacion_bruta!E48","v":10414.689433496729},{"$f":"generacion_bruta!F48","v":5673.5373459999992},{"$f":"generacion_bruta!G48","v":25895.09405579924},{"$f":"generacion_bruta!H48","v":8623.6832979999999},{"$f":"generacion_bruta!I48","v":4385.4652015213724},{"$f":"generacion_bruta!J48","v":11630.984446225},{"$f":"generacion_bruta!K48","v":13681.21204246595},{"$f":"generacion_bruta!L48","v":46273.066276843514},{"$f":"generacion_bruta!M48","v":201.959},{"$f":"generacion_bruta!N48","v":4866.3297721122271},{"$f":"generacion_bruta!O48","v":19870.365230834192},{"$f":"generacion_bruta!P48","v":1704.2347479909263},{"$f":"generacion_bruta!Q48","v":29707.614504403198},{"$f":"generacion_bruta!R48","v":209.66712000000001},{"$f":"generacion_bruta!S48","v":8314.6693422798126},{"$f":"generacion_bruta!T48","v":4776.0865743842915},{"$f":"generacion_bruta!U48","v":16556.006963514938},261077.25687700004]
[null,"Renovable",{"$f":"generacion_bruta!C50","v":13611.133455449832},{"$f":"generacion_bruta!D50","v":9679.4181479507861},{"$f":"generacion_bruta!E50","v":3973.7925046967293},{"$f":"generacion_bruta!F50","v":129.00139100000001},{"$f":"generacion_bruta!G50","v":3696.3358007992406},{"$f":"generacion_bruta!H50","v":660.87129800000002},{"$f":"generacion_bruta!I50","v":503.50777152137277},{"$f":"generacion_bruta!J50","v":12195.579811225001},{"$f":"generacion_bruta!K50","v":21720.178151065953},{"$f":"generacion_bruta!L50","v":9365.3839155115038},{"$f":"generacion_bruta!M50","v":0},{"$f":"generacion_bruta!N50","v":5736.1307043122233},{"$f":"generacion_bruta!O50","v":20011.788871834193},{"$f":"generacion_bruta!P50","v":1393.5198929909263},{"$f":"generacion_bruta!Q50","v":546.15845240319686},{"$f":"generacion_bruta!R50","v":8.2323000000000007E-2},{"$f":"generacion_bruta!S50","v":1578.264160279813},{"$f":"generacion_bruta!T50","v":4034.5761753842908},{"$f":"generacion_bruta!U50","v":1110.3751235149371},{"$f":"generacion_bruta!V50","v":109946.09795093998}]
[null,"No renovable",{"$f":"generacion_bruta!C51","v":21079.411289727999},{"$f":"generacion_bruta!D51","v":7104.8566279999995},{"$f":"generacion_bruta!E51","v":9672.1469287999989},{"$f":"generacion_bruta!F51","v":4276.0269549999994},{"$f":"generacion_bruta!G51","v":15136.248254999999},{"$f":"generacion_bruta!H51","v":7962.8119999999999},{"$f":"generacion_bruta!I51","v":1757.5624300000004},{"$f":"generacion_bruta!J51","v":10636.767635},{"$f":"generacion_bruta!K51","v":9171.2558914000001},{"$f":"generacion_bruta!L51","v":35781.093361332001},{"$f":"generacion_bruta!M51","v":201.959},{"$f":"generacion_bruta!N51","v":15161.345067799999},{"$f":"generacion_bruta!O51","v":13073.306359},{"$f":"generacion_bruta!P51","v":545.38385499999993},{"$f":"generacion_bruta!Q51","v":1086.329052},{"$f":"generacion_bruta!R51","v":209.58479700000001},{"$f":"generacion_bruta!S51","v":4302.6981820000001},{"$f":"generacion_bruta!T51","v":1342.8533990000001},{"$f":"generacion_bruta!U51","v":5319.4938400000001},{"$f":"generacion_bruta!V51","v":163821.13492605998}]
[2014,"Generación neta ",{"$f":"generacion_bruta!C72","v":31996.93892673936},{"$f":"generacion_bruta!D72","v":16533.562998845235},{"$f":"generacion_bruta!E72","v":13240.983253359971},{"$f":"generacion_bruta!F72","v":4287.1608610000003},{"$f":"generacion_bruta!G72","v":19960.815391500277},{"$f":"generacion_bruta!H72","v":8579.9686590000001},{"$f":"generacion_bruta!I72","v":1874.6405102376493},{"$f":"generacion_bruta!J72","v":22532.923787772292},{"$f":"generacion_bruta!K72","v":33914.995580039787},{"$f":"generacion_bruta!L72","v":41626.278954681969},{"$f":"generacion_bruta!M72","v":212.25299999999999},{"$f":"generacion_bruta!N72","v":21522.305791616964},{"$f":"generacion_bruta!O72","v":31287.529034026426},{"$f":"generacion_bruta!P72","v":1462.9330094950128},{"$f":"generacion_bruta!Q72","v":1305.4503008805523},{"$f":"generacion_bruta!R72","v":209.863147},{"$f":"generacion_bruta!S72","v":5367.0421564068711},{"$f":"generacion_bruta!T72","v":4771.9240567836523},{"$f":"generacion_bruta!U72","v":6179.4868886139784},266867.056308]
[null,"Consumos en bombeo",{"$f":"generacion_bruta!C73","v":-480.846},{"$f":"generacion_bruta!D73","v":-440.73599999999999},{"$f":"generacion_bruta!E73","v":-78.977999999999994},{"$f":"generacion_bruta!F73","v":0},{"$f":"generacion_bruta!G73","v":-1576.3030000000001},{"$f":"generacion_bruta!H73","v":0},{"$f":"generacion_bruta!I73","v":-851.23099999999999},{"$f":"generacion_bruta!J73","v":-100.736},{"$f":"generacion_bruta!K73","v":-1107.249},{"$f":"generacion_bruta!L73","v":-361.03100000000001},{"$f":"generacion_bruta!M73","v":0},{"$f":"generacion_bruta!N73","v":-70.938999999999993},{"$f":"generacion_bruta!O73","v":-261.54199999999997},{"$f":"generacion_bruta!P73","v":0},{"$f":"generacion_bruta!Q73","v":0},{"$f":"generacion_bruta!R73","v":0},{"$f":"generacion_bruta!S73","v":0},{"$f":"generacion_bruta!T73","v":0},{"$f":"generacion_bruta!U73","v":0},-5329.5910000000003]
[null,"Saldo Intercambios",{"$f":"generacion_bruta!C74","v":6021.9880000000003},{"$f":"generacion_bruta!D74","v":-6003.143},{"$f":"generacion_bruta!E74","v":-2849.3580000000002},{"$f":"generacion_bruta!F74","v":1298.2660000000001},{"$f":"generacion_bruta!G74","v":7501.3590000000004},{"$f":"generacion_bruta!H74","v":0},{"$f":"generacion_bruta!I74","v":3298.2020000000002},{"$f":"generacion_bruta!J74","v":-10781.332},{"$f":"generacion_bruta!K74","v":-19250.760999999999},{"$f":"generacion_bruta!L74","v":4357.0429999999997},{"$f":"generacion_bruta!M74","v":0},{"$f":"generacion_bruta!N74","v":-16813.589},{"$f":"generacion_bruta!O74","v":-11276.998},{"$f":"generacion_bruta!P74","v":227.452},{"$f":"generacion_bruta!Q74","v":27142.168000000001},{"$f":"generacion_bruta!R74","v":0},{"$f":"generacion_bruta!S74","v":3101.6260000000002},{"$f":"generacion_bruta!T74","v":8.0660000000000007},{"$f":"generacion_bruta!U74","v":10612.884},-3406.1269999999968]
[null,"Demanda B.C",{"$f":"generacion_bruta!C75","v":37538.080926739356},{"$f":"generacion_bruta!D75","v":10089.683998845234},{"$f":"generacion_bruta!E75","v":10312.647253359972},{"$f":"generacion_bruta!F75","v":5585.4268609999999},{"$f":"generacion_bruta!G75","v":25885.871391500277},{"$f":"generacion_bruta!H75","v":8579.9686590000001},{"$f":"generacion_bruta!I75","v":4321.6115102376498},{"$f":"generacion_bruta!J75","v":11650.855787772291},{"$f":"generacion_bruta!K75","v":13556.985580039785},{"$f":"generacion_bruta!L75","v":45622.290954681965},{"$f":"generacion_bruta!M75","v":212.25299999999999},{"$f":"generacion_bruta!N75","v":4637.7777916169653},{"$f":"generacion_bruta!O75","v":19748.989034026425},{"$f":"generacion_bruta!P75","v":1690.3850094950128},{"$f":"generacion_bruta!Q75","v":28447.618300880553},{"$f":"generacion_bruta!R75","v":209.863147},{"$f":"generacion_bruta!S75","v":8468.6681564068713},{"$f":"generacion_bruta!T75","v":4779.9900567836521},{"$f":"generacion_bruta!U75","v":16792.370888613979},258131.33830800001]
[null,"Renovable",{"$f":"generacion_bruta!C77","v":12505.584305627362},{"$f":"generacion_bruta!D77","v":9000.8469878452343},{"$f":"generacion_bruta!E77","v":3681.1858762599682},{"$f":"generacion_bruta!F77","v":130.558628},{"$f":"generacion_bruta!G77","v":3868.9184735002736},{"$f":"generacion_bruta!H77","v":685.61165900000003},{"$f":"generacion_bruta!I77","v":435.93597123764926},{"$f":"generacion_bruta!J77","v":11996.884005772292},{"$f":"generacion_bruta!K77","v":23729.025424499781},{"$f":"generacion_bruta!L77","v":8742.847150957974},{"$f":"generacion_bruta!M77","v":0},{"$f":"generacion_bruta!N77","v":6263.0973138969684},{"$f":"generacion_bruta!O77","v":19019.241538426424},{"$f":"generacion_bruta!P77","v":1243.5314844950128},{"$f":"generacion_bruta!Q77","v":568.92204988055232},{"$f":"generacion_bruta!R77","v":8.3833000000000019E-2},{"$f":"generacion_bruta!S77","v":1534.0904074068706},{"$f":"generacion_bruta!T77","v":3692.1335737836516},{"$f":"generacion_bruta!U77","v":944.36435261397821},108042.863036204]
[null,"No renovable",{"$f":"generacion_bruta!C78","v":19491.354621112001},{"$f":"generacion_bruta!D78","v":7532.7160110000004},{"$f":"generacion_bruta!E78","v":9559.7973771000015},{"$f":"generacion_bruta!F78","v":4156.6022329999996},{"$f":"generacion_bruta!G78","v":16091.896918000002},{"$f":"generacion_bruta!H78","v":7894.357},{"$f":"generacion_bruta!I78","v":1438.7045390000001},{"$f":"generacion_bruta!J78","v":10536.039782000002},{"$f":"generacion_bruta!K78","v":10185.970155540001},{"$f":"generacion_bruta!L78","v":32883.431803724001},{"$f":"generacion_bruta!M78","v":212.25299999999999},{"$f":"generacion_bruta!N78","v":15259.20847772},{"$f":"generacion_bruta!O78","v":12268.2874956},{"$f":"generacion_bruta!P78","v":219.40152499999999},{"$f":"generacion_bruta!Q78","v":736.52825100000007},{"$f":"generacion_bruta!R78","v":209.779314},{"$f":"generacion_bruta!S78","v":3832.9517489999998},{"$f":"generacion_bruta!T78","v":1079.7904830000002},{"$f":"generacion_bruta!U78","v":5235.1225360000008},158824.19327179602]
[2015,"Generación neta ",{"$f":"generacion_bruta!C99","v":35809.828606179202},{"$f":"generacion_bruta!D99","v":15513.284918326601},{"$f":"generacion_bruta!E99","v":16700.637079645712},{"$f":"generacion_bruta!F99","v":4460.6349390000005},{"$f":"generacion_bruta!G99","v":18643.320684589406},{"$f":"generacion_bruta!H99","v":8669.3768900000014},{"$f":"generacion_bruta!I99","v":1703.8922381349439},{"$f":"generacion_bruta!J99","v":21634.106648442837},{"$f":"generacion_bruta!K99","v":31296.40265363608},{"$f":"generacion_bruta!L99","v":43124.672871136412},{"$f":"generacion_bruta!M99","v":205.43799999999999},{"$f":"generacion_bruta!N99","v":21101.737855611183},{"$f":"generacion_bruta!O99","v":29674.153069280226},{"$f":"generacion_bruta!P99","v":1862.6093431950142},{"$f":"generacion_bruta!Q99","v":1203.168388532963},{"$f":"generacion_bruta!R99","v":213.48581799999999},{"$f":"generacion_bruta!S99","v":4912.4924209587934},{"$f":"generacion_bruta!T99","v":5268.9385127210553},{"$f":"generacion_bruta!U99","v":5938.1011636095855},267936.28210100002]
[null,"Consumos en bombeo",{"$f":"generacion_bruta!C100","v":-391.21300000000002},{"$f":"generacion_bruta!D100","v":-410.178},{"$f":"generacion_bruta!E100","v":-41.476999999999997},{"$f":"generacion_bruta!F100","v":0},{"$f":"generacion_bruta!G100","v":-1352.201},{"$f":"generacion_bruta!H100","v":0},{"$f":"generacion_bruta!I100","v":-684.93299999999999},{"$f":"generacion_bruta!J100","v":-44.283999999999999},{"$f":"generacion_bruta!K100","v":-854.15499999999997},{"$f":"generacion_bruta!L100","v":-463.46499999999997},{"$f":"generacion_bruta!M100","v":0},{"$f":"generacion_bruta!N100","v":-43.286999999999999},{"$f":"generacion_bruta!O100","v":-234.90100000000001},{"$f":"generacion_bruta!P100","v":0},{"$f":"generacion_bruta!Q100","v":0},{"$f":"generacion_bruta!R100","v":0},{"$f":"generacion_bruta!S100","v":0},{"$f":"generacion_bruta!T100","v":0},{"$f":"generacion_bruta!U100","v":0},-4520.0940000000001]
[null,"Saldo Intercambios",{"$f":"generacion_bruta!C101","v":3241.8629999999998},{"$f":"generacion_bruta!D101","v":-4802.1009999999997},{"$f":"generacion_bruta!E101","v":-6191.3540000000003},{"$f":"generacion_bruta!F101","v":1335.7829999999999},{"$f":"generacion_bruta!G101","v":9454.4449999999997},{"$f":"generacion_bruta!H101","v":0},{"$f":"generacion_bruta!I101","v":3228.933},{"$f":"generacion_bruta!J101","v":-10018.83},{"$f":"generacion_bruta!K101","v":-16577.612000000001},{"$f":"generacion_bruta!L101","v":3985.8760000000002},{"$f":"generacion_bruta!M101","v":0},{"$f":"generacion_bruta!N101","v":-16222.839},{"$f":"generacion_bruta!O101","v":-9721.0550000000003},{"$f":"generacion_bruta!P101","v":-137.49199999999999},{"$f":"generacion_bruta!Q101","v":27670.776000000002},{"$f":"generacion_bruta!R101","v":0},{"$f":"generacion_bruta!S101","v":4007.7049999999999},{"$f":"generacion_bruta!T101","v":-425.81599999999997},{"$f":"generacion_bruta!U101","v":11038.563},-133.15500000000065]
[null,"Demanda B.C",{"$f":"generacion_bruta!C102","v":38660.478606179197},{"$f":"generacion_bruta!D102","v":10301.005918326602},{"$f":"generacion_bruta!E102","v":10467.806079645714},{"$f":"generacion_bruta!F102","v":5796.4179390000008},{"$f":"generacion_bruta!G102","v":26745.564684589404},{"$f":"generacion_bruta!H102","v":8669.3768900000014},{"$f":"generacion_bruta!I102","v":4247.8922381349439},{"$f":"generacion_bruta!J102","v":11570.992648442838},{"$f":"generacion_bruta!K102","v":13864.63565363608},{"$f":"generacion_bruta!L102","v":46647.083871136419},{"$f":"generacion_bruta!M102","v":205.43799999999999},{"$f":"generacion_bruta!N102","v":4835.6118556111833},{"$f":"generacion_bruta!O102","v":19718.197069280224},{"$f":"generacion_bruta!P102","v":1725.1173431950142},{"$f":"generacion_bruta!Q102","v":28873.944388532964},{"$f":"generacion_bruta!R102","v":213.48581799999999},{"$f":"generacion_bruta!S102","v":8920.1974209587934},{"$f":"generacion_bruta!T102","v":4843.1225127210555},{"$f":"generacion_bruta!U102","v":16976.664163609585},263283.03310099995]
[null,"Renovable",{"$f":"generacion_bruta!C104","v":12014.496503387199},{"$f":"generacion_bruta!D104","v":7746.6053013265982},{"$f":"generacion_bruta!E104","v":2754.4293090457118},{"$f":"generacion_bruta!F104","v":281.03122050000002},{"$f":"generacion_bruta!G104","v":3438.4833905894038},{"$f":"generacion_bruta!H104","v":692.41289000000006},{"$f":"generacion_bruta!I104","v":477.07403913494397},{"$f":"generacion_bruta!J104","v":10701.420501442837},{"$f":"generacion_bruta!K104","v":19721.713641896084},{"$f":"generacion_bruta!L104","v":7830.849326498419},{"$f":"generacion_bruta!M104","v":0},{"$f":"generacion_bruta!N104","v":4933.0292116311839},{"$f":"generacion_bruta!O104","v":15423.486924380219},{"$f":"generacion_bruta!P104","v":1190.334236195014},{"$f":"generacion_bruta!Q104","v":446.27656253296277},{"$f":"generacion_bruta!R104","v":4.3758889999999999},{"$f":"generacion_bruta!S104","v":1381.5847339587933},{"$f":"generacion_bruta!T104","v":3709.7151357210555},{"$f":"generacion_bruta!U104","v":1032.7116741095858},{"$f":"generacion_bruta!V104","v":93780.030491350015}]
[null,"No renovable",{"$f":"generacion_bruta!C105","v":23795.332102791999},{"$f":"generacion_bruta!D105","v":7766.6796170000007},{"$f":"generacion_bruta!E105","v":13946.2077706},{"$f":"generacion_bruta!F105","v":4179.6037185000005},{"$f":"generacion_bruta!G105","v":15204.837294000001},{"$f":"generacion_bruta!H105","v":7976.9639999999999},{"$f":"generacion_bruta!I105","v":1226.8181989999998},{"$f":"generacion_bruta!J105","v":10932.686147},{"$f":"generacion_bruta!K105","v":11574.68901174},{"$f":"generacion_bruta!L105","v":35293.823544637999},{"$f":"generacion_bruta!M105","v":205.43799999999999},{"$f":"generacion_bruta!N105","v":16168.708643979999},{"$f":"generacion_bruta!O105","v":14250.6661449},{"$f":"generacion_bruta!P105","v":672.27510699999993},{"$f":"generacion_bruta!Q105","v":756.89182600000015},{"$f":"generacion_bruta!R105","v":209.10992899999999},{"$f":"generacion_bruta!S105","v":3530.9076869999999},{"$f":"generacion_bruta!T105","v":1559.223377},{"$f":"generacion_bruta!U105","v":4905.3894894999994},{"$f":"generacion_bruta!V105","v":174156.25160964997}]
[2016,"Generación neta ",{"$f":"generacion_bruta!C126","v":32847.35782190501},{"$f":"generacion_bruta!D126","v":14266.484158794245},{"$f":"generacion_bruta!E126","v":12035.235098673158},{"$f":"generacion_bruta!F126","v":4581.6620009999997},{"$f":"generacion_bruta!G126","v":20639.614276523942},{"$f":"generacion_bruta!H126","v":8776.8321209999995},{"$f":"generacion_bruta!I126","v":1725.3446903848808},{"$f":"generacion_bruta!J126","v":21397.64844816137},{"$f":"generacion_bruta!K126","v":31998.374292334414},{"$f":"generacion_bruta!L126","v":43214.630285754167},{"$f":"generacion_bruta!M126","v":210.73599999999999},{"$f":"generacion_bruta!N126","v":21015.059308339827},{"$f":"generacion_bruta!O126","v":30691.913817576959},{"$f":"generacion_bruta!P126","v":2328.5878633453954},{"$f":"generacion_bruta!Q126","v":1228.5604976166087},{"$f":"generacion_bruta!R126","v":208.34808699999999},{"$f":"generacion_bruta!S126","v":3962.7146999901843},{"$f":"generacion_bruta!T126","v":5728.6696158618934},{"$f":"generacion_bruta!U126","v":5421.4685097379379},262279.24159399996]
[null,"Consumos en bombeo",{"$f":"generacion_bruta!C127","v":-370.58300000000003},{"$f":"generacion_bruta!D127","v":-421.73700000000002},{"$f":"generacion_bruta!E127","v":-38.750999999999998},{"$f":"generacion_bruta!F127","v":0},{"$f":"generacion_bruta!G127","v":-1830.7470000000001},{"$f":"generacion_bruta!H127","v":0},{"$f":"generacion_bruta!I127","v":-611.80399999999997},{"$f":"generacion_bruta!J127","v":-65.596999999999994},{"$f":"generacion_bruta!K127","v":-919.61099999999999},{"$f":"generacion_bruta!L127","v":-303.50200000000001},{"$f":"generacion_bruta!M127","v":0},{"$f":"generacion_bruta!N127","v":-84.441999999999993},{"$f":"generacion_bruta!O127","v":-172.642},{"$f":"generacion_bruta!P127","v":0},{"$f":"generacion_bruta!Q127","v":0},{"$f":"generacion_bruta!R127","v":0},{"$f":"generacion_bruta!S127","v":0},{"$f":"generacion_bruta!T127","v":0},{"$f":"generacion_bruta!U127","v":0},-4819.4160000000011]
[null,"Saldo Intercambios",{"$f":"generacion_bruta!C128","v":7129.3630000000003},{"$f":"generacion_bruta!D128","v":-3406.8420000000001},{"$f":"generacion_bruta!E128","v":-1487.886},{"$f":"generacion_bruta!F128","v":1250.5820000000001},{"$f":"generacion_bruta!G128","v":8043.8270000000002},{"$f":"generacion_bruta!H128","v":0},{"$f":"generacion_bruta!I128","v":3090.931},{"$f":"generacion_bruta!J128","v":-9620.9509999999991},{"$f":"generacion_bruta!K128","v":-17052.596000000001},{"$f":"generacion_bruta!L128","v":3999.8829999999998},{"$f":"generacion_bruta!M128","v":0},{"$f":"generacion_bruta!N128","v":-15961.991},{"$f":"generacion_bruta!O128","v":-10557.892},{"$f":"generacion_bruta!P128","v":-596.53399999999999},{"$f":"generacion_bruta!Q128","v":27740.175999999999},{"$f":"generacion_bruta!R128","v":0},{"$f":"generacion_bruta!S128","v":5090.3980000000001},{"$f":"generacion_bruta!T128","v":-780.10500000000002},{"$f":"generacion_bruta!U128","v":10786.96},7667.3229999999985]
[null,"Demanda B.C",{"$f":"generacion_bruta!C129","v":39606.137821905009},{"$f":"generacion_bruta!D129","v":10437.905158794245},{"$f":"generacion_bruta!E129","v":10508.598098673157},{"$f":"generacion_bruta!F129","v":5832.244001},{"$f":"generacion_bruta!G129","v":26852.694276523944},{"$f":"generacion_bruta!H129","v":8776.8321209999995},{"$f":"generacion_bruta!I129","v":4204.4716903848803},{"$f":"generacion_bruta!J129","v":11711.100448161369},{"$f":"generacion_bruta!K129","v":14026.167292334412},{"$f":"generacion_bruta!L129","v":46911.011285754168},{"$f":"generacion_bruta!M129","v":210.73599999999999},{"$f":"generacion_bruta!N129","v":4968.626308339828},{"$f":"generacion_bruta!O129","v":19961.379817576959},{"$f":"generacion_bruta!P129","v":1732.0538633453953},{"$f":"generacion_bruta!Q129","v":28968.736497616606},{"$f":"generacion_bruta!R129","v":208.34808699999999},{"$f":"generacion_bruta!S129","v":9053.1126999901844},{"$f":"generacion_bruta!T129","v":4948.5646158618929},{"$f":"generacion_bruta!U129","v":16208.428509737936},265127.14859399997]
[null,"Renovable",{"$f":"generacion_bruta!C131","v":12845.873010825013},{"$f":"generacion_bruta!D131","v":7590.8090237942451},{"$f":"generacion_bruta!E131","v":3004.1855088731586},{"$f":"generacion_bruta!F131","v":258.06550050000004},{"$f":"generacion_bruta!G131","v":3439.0321295239437},{"$f":"generacion_bruta!H131","v":701.67112100000008},{"$f":"generacion_bruta!I131","v":426.87792388488106},{"$f":"generacion_bruta!J131","v":11094.411309161371},{"$f":"generacion_bruta!K131","v":23229.945693264417},{"$f":"generacion_bruta!L131","v":7432.2499830921679},{"$f":"generacion_bruta!M131","v":0},{"$f":"generacion_bruta!N131","v":5739.6153347238251},{"$f":"generacion_bruta!O131","v":17554.39464007696},{"$f":"generacion_bruta!P131","v":1247.1613093453952},{"$f":"generacion_bruta!Q131","v":451.50803161660883},{"$f":"generacion_bruta!R131","v":4.9281344999999996},{"$f":"generacion_bruta!S131","v":1401.2019089901839},{"$f":"generacion_bruta!T131","v":3590.942955861894},{"$f":"generacion_bruta!U131","v":1003.2783552379376},101016.15187427204]
[null,"No renovable",{"$f":"generacion_bruta!C132","v":20001.484811080001},{"$f":"generacion_bruta!D132","v":6675.6751350000004},{"$f":"generacion_bruta!E132","v":9031.0495898000008},{"$f":"generacion_bruta!F132","v":4323.5965004999998},{"$f":"generacion_bruta!G132","v":17200.582147000001},{"$f":"generacion_bruta!H132","v":8075.1610000000001},{"$f":"generacion_bruta!I132","v":1298.4667664999999},{"$f":"generacion_bruta!J132","v":10303.237139000001},{"$f":"generacion_bruta!K132","v":8768.4285990699991},{"$f":"generacion_bruta!L132","v":35782.380302661993},{"$f":"generacion_bruta!M132","v":210.73599999999999},{"$f":"generacion_bruta!N132","v":15275.443973616},{"$f":"generacion_bruta!O132","v":13137.519177500002},{"$f":"generacion_bruta!P132","v":1081.4265539999999},{"$f":"generacion_bruta!Q132","v":777.05246599999987},{"$f":"generacion_bruta!R132","v":203.41995249999999},{"$f":"generacion_bruta!S132","v":2561.5127910000001},{"$f":"generacion_bruta!T132","v":2137.7266599999998},{"$f":"generacion_bruta!U132","v":4418.1901545000001},161263.08971972798]
[2017,"Generación neta ",{"$f":"generacion_bruta!C153","v":37076.067070678124},{"$f":"generacion_bruta!D153","v":16600.000240280315},{"$f":"generacion_bruta!E153","v":14007.987806650151},{"$f":"generacion_bruta!F153","v":4848.9651219999996},{"$f":"generacion_bruta!G153","v":17107.282773833875},{"$f":"generacion_bruta!H153","v":8958.3884280000002},{"$f":"generacion_bruta!I153","v":1951.3449851958617},{"$f":"generacion_bruta!J153","v":21441.215123761358},{"$f":"generacion_bruta!K153","v":25360.177205800148},{"$f":"generacion_bruta!L153","v":44851.58403538556},{"$f":"generacion_bruta!M153","v":202.86199999999999},{"$f":"generacion_bruta!N153","v":21185.341947744924},{"$f":"generacion_bruta!O153","v":26368.639887540019},{"$f":"generacion_bruta!P153","v":2991.1339193544882},{"$f":"generacion_bruta!Q153","v":1223.3064605684158},{"$f":"generacion_bruta!R153","v":210.59316500000003},{"$f":"generacion_bruta!S153","v":6512.6476610642485},{"$f":"generacion_bruta!T153","v":5974.7891820225486},{"$f":"generacion_bruta!U153","v":5772.8095601199757},{"$f":"generacion_bruta!V153","v":262645.13657500001}]
[null,"Consumos en bombeo",{"$f":"generacion_bruta!C154","v":-223.79900000000001},{"$f":"generacion_bruta!D154","v":-205.80600000000001},{"$f":"generacion_bruta!E154","v":-21.576000000000001},{"$f":"generacion_bruta!F154","v":0},{"$f":"generacion_bruta!G154","v":-1345.953},{"$f":"generacion_bruta!H154","v":0},{"$f":"generacion_bruta!I154","v":-666.73699999999997},{"$f":"generacion_bruta!J154","v":-67.900000000000006},{"$f":"generacion_bruta!K154","v":-748.06899999999996},{"$f":"generacion_bruta!L154","v":-165.142},{"$f":"generacion_bruta!M154","v":0},{"$f":"generacion_bruta!N154","v":-35.523000000000003},{"$f":"generacion_bruta!O154","v":-194.73400000000001},{"$f":"generacion_bruta!P154","v":0},{"$f":"generacion_bruta!Q154","v":0},{"$f":"generacion_bruta!R154","v":0},{"$f":"generacion_bruta!S154","v":0},{"$f":"generacion_bruta!T154","v":0},{"$f":"generacion_bruta!U154","v":0},{"$f":"generacion_bruta!V154","v":-3675.239}]
[null,"Saldo Intercambios",{"$f":"generacion_bruta!C155","v":3420.0233047113588},{"$f":"generacion_bruta!D155","v":-5782.6252773148217},{"$f":"generacion_bruta!E155","v":-3403.4609458173045},{"$f":"generacion_bruta!F155","v":1179.300653},{"$f":"generacion_bruta!G155","v":11261.932353120375},{"$f":"generacion_bruta!H155","v":0},{"$f":"generacion_bruta!I155","v":3083.6877204885518},{"$f":"generacion_bruta!J155","v":-9660.376389474246},{"$f":"generacion_bruta!K155","v":-10501.938401043128},{"$f":"generacion_bruta!L155","v":2965.8505361916395},{"$f":"generacion_bruta!M155","v":0},{"$f":"generacion_bruta!N155","v":-16082.275384511258},{"$f":"generacion_bruta!O155","v":-6315.6648379066428},{"$f":"generacion_bruta!P155","v":-1277.2392094602571},{"$f":"generacion_bruta!Q155","v":27544.339992875521},{"$f":"generacion_bruta!R155","v":0},{"$f":"generacion_bruta!S155","v":2886.8591966738813},{"$f":"generacion_bruta!T155","v":-918.24036228370551},{"$f":"generacion_bruta!U155","v":10770.407320750004},{"$f":"generacion_bruta!V155","v":9170.5802699999676}]
[null,"Demanda B.C",{"$f":"generacion_bruta!C156","v":40272.291375389483},{"$f":"generacion_bruta!D156","v":10611.568962965492},{"$f":"generacion_bruta!E156","v":10582.950860832847},{"$f":"generacion_bruta!F156","v":6028.2657749999998},{"$f":"generacion_bruta!G156","v":27023.262126954251},{"$f":"generacion_bruta!H156","v":8958.3884280000002},{"$f":"generacion_bruta!I156","v":4368.2957056844134},{"$f":"generacion_bruta!J156","v":11712.93873428711},{"$f":"generacion_bruta!K156","v":14110.169804757021},{"$f":"generacion_bruta!L156","v":47652.192571577201},{"$f":"generacion_bruta!M156","v":202.86199999999999},{"$f":"generacion_bruta!N156","v":5067.5435632336648},{"$f":"generacion_bruta!O156","v":19858.241049633376},{"$f":"generacion_bruta!P156","v":1713.894709894231},{"$f":"generacion_bruta!Q156","v":28767.646453443936},{"$f":"generacion_bruta!R156","v":210.59316500000003},{"$f":"generacion_bruta!S156","v":9399.5068577381298},{"$f":"generacion_bruta!T156","v":5056.5488197388431},{"$f":"generacion_bruta!U156","v":16543.216880869979},{"$f":"generacion_bruta!V156","v":268140.47784499999}]
[null,"Renovable",{"$f":"generacion_bruta!C158","v":13037.483433574122},{"$f":"generacion_bruta!D158","v":7259.1307332803153},{"$f":"generacion_bruta!E158","v":2079.8010000501522},{"$f":"generacion_bruta!F158","v":271.63510300000002},{"$f":"generacion_bruta!G158","v":3227.6170958338735},{"$f":"generacion_bruta!H158","v":702.72842799999989},{"$f":"generacion_bruta!I158","v":349.15487269586151},{"$f":"generacion_bruta!J158","v":10664.133440761354},{"$f":"generacion_bruta!K158","v":16285.254334668149},{"$f":"generacion_bruta!L158","v":7385.0881572415565},{"$f":"generacion_bruta!M158","v":0},{"$f":"generacion_bruta!N158","v":4767.8245902609233},{"$f":"generacion_bruta!O158","v":10761.640277540018},{"$f":"generacion_bruta!P158","v":1226.5307153544886},{"$f":"generacion_bruta!Q158","v":448.36435206841577},{"$f":"generacion_bruta!R158","v":5.0521790000000006},{"$f":"generacion_bruta!S158","v":1377.4465860642483},{"$f":"generacion_bruta!T158","v":3666.3971400225482},{"$f":"generacion_bruta!U158","v":990.00499961997548},{"$f":"generacion_bruta!V158","v":84505.287439036008}]
[null,"No renovable",{"$f":"generacion_bruta!C159","v":24038.583637103995},{"$f":"generacion_bruta!D159","v":9340.8695069999994},{"$f":"generacion_bruta!E159","v":11928.186806599999},{"$f":"generacion_bruta!F159","v":4577.330019},{"$f":"generacion_bruta!G159","v":13879.665677999999},{"$f":"generacion_bruta!H159","v":8255.66},{"$f":"generacion_bruta!I159","v":1602.1901124999999},{"$f":"generacion_bruta!J159","v":10777.081682999999},{"$f":"generacion_bruta!K159","v":9074.9228711320011},{"$f":"generacion_bruta!L159","v":37466.495878144},{"$f":"generacion_bruta!M159","v":202.86199999999999},{"$f":"generacion_bruta!N159","v":16417.517357484001},{"$f":"generacion_bruta!O159","v":15606.999609999999},{"$f":"generacion_bruta!P159","v":1764.603204},{"$f":"generacion_bruta!Q159","v":774.94210850000013},{"$f":"generacion_bruta!R159","v":205.540986},{"$f":"generacion_bruta!S159","v":5135.2010749999999},{"$f":"generacion_bruta!T159","v":2308.3920419999999},{"$f":"generacion_bruta!U159","v":4782.8045604999998},{"$f":"generacion_bruta!V159","v":178139.849135964}]