{"text_format":"1","workbook":"xlsx","n_sheets":8,"sheets":["AVISO LEGAL","Balance peninsular","Balance Baleares","Balance Canarias","Balance Ceuta","Balance Melilla","Balance","Año"],"not_rendered":{"charts":0,"images":1,"macros":1,"external_links":0,"defined_names":5,"comments":0,"pivot_tables":0},"unopened":[],"bounds":{"document_bytes":16777216,"sheet_cells":100000,"rows_first":2000,"rows_last":500,"rows_between":2000,"halvings":0,"cell_chars":16384,"cell_head_chars":4096},"cells_cut":0,"cells_raw":0,"read":"whole","date_system":"1900"}

{"sheet":"AVISO LEGAL","index":0,"n_rows":0,"n_cols":0,"rows_kept":0,"cut":false,"hidden":false,"merged":[]}

{"sheet":"Balance peninsular","index":1,"n_rows":34,"n_cols":15,"rows_kept":34,"cut":false,"hidden":false,"merged":[[33,1,33,14],[31,1,31,14],[30,1,30,14],[32,1,32,14],[5,2,5,9],[5,11,5,12],[28,1,28,14],[29,1,29,14]]}
[null,null,null,null,null,null,null,null,null,null,null,null,null,null,25]
[]
[null,null,null,null,null,null,null,null,null,null,null,null,"www.ree.es"]
[null,null,null,null,null,null,null,null,null,null,null,null,"Fecha de actualización:",null,"2014-04-10"]
[]
[null,null,null,null,null,null,null,null,null,null,null,"Seleccione un año"]
[]
[null,null,"Ene.","Feb.","Mar.","Abr.","May.","Jun.","Jul.","Ago.","Sep.","Oct.","Nov.","Dic.",{"$f":"OFFSET(Año!B2,($O$1-1),0)","v":2014}]
[]
[null,"Hidráulica",{"$f":"OFFSET(Balance!C3,0,($O$1-1)*12)","v":3955.5709999999999},{"$f":"OFFSET(Balance!D3,0,($O$1-1)*12)","v":5426.8620000000001},{"$f":"OFFSET(Balance!E3,0,($O$1-1)*12)","v":4952.13},{"$f":"OFFSET(Balance!F3,0,($O$1-1)*12)","v":"-"},{"$f":"OFFSET(Balance!G3,0,($O$1-1)*12)","v":"-"},{"$f":"OFFSET(Balance!H3,0,($O$1-1)*12)","v":"-"},{"$f":"OFFSET(Balance!I3,0,($O$1-1)*12)","v":"-"},{"$f":"OFFSET(Balance!J3,0,($O$1-1)*12)","v":"-"},{"$f":"OFFSET(Balance!K3,0,($O$1-1)*12)","v":"-"},{"$f":"OFFSET(Balance!L3,0,($O$1-1)*12)","v":"-"},{"$f":"OFFSET(Balance!M3,0,($O$1-1)*12)","v":"-"},{"$f":"OFFSET(Balance!N3,0,($O$1-1)*12)","v":"-"},{"$f":"IF(SUM(C10:N10)=0,\"-\",SUM(C10:N10))","v":14334.563000000002}]
[null,"Nuclear",{"$f":"OFFSET(Balance!C4,0,($O$1-1)*12)","v":4742.4070000000002},{"$f":"OFFSET(Balance!D4,0,($O$1-1)*12)","v":4924.299},{"$f":"OFFSET(Balance!E4,0,($O$1-1)*12)","v":5522.0649999999996},{"$f":"OFFSET(Balance!F4,0,($O$1-1)*12)","v":"-"},{"$f":"OFFSET(Balance!G4,0,($O$1-1)*12)","v":"-"},{"$f":"OFFSET(Balance!H4,0,($O$1-1)*12)","v":"-"},{"$f":"OFFSET(Balance!I4,0,($O$1-1)*12)","v":"-"},{"$f":"OFFSET(Balance!J4,0,($O$1-1)*12)","v":"-"},{"$f":"OFFSET(Balance!K4,0,($O$1-1)*12)","v":"-"},{"$f":"OFFSET(Balance!L4,0,($O$1-1)*12)","v":"-"},{"$f":"OFFSET(Balance!M4,0,($O$1-1)*12)","v":"-"},{"$f":"OFFSET(Balance!N4,0,($O$1-1)*12)","v":"-"},{"$f":"IF(SUM(C11:N11)=0,\"-\",SUM(C11:N11))","v":15188.771000000001}]
[null,"Carbón",{"$f":"OFFSET(Balance!C5,0,($O$1-1)*12)","v":2278.8879999999999},{"$f":"OFFSET(Balance!D5,0,($O$1-1)*12)","v":816.16600000000005},{"$f":"OFFSET(Balance!E5,0,($O$1-1)*12)","v":1156.8800000000001},{"$f":"OFFSET(Balance!F5,0,($O$1-1)*12)","v":"-"},{"$f":"OFFSET(Balance!G5,0,($O$1-1)*12)","v":"-"},{"$f":"OFFSET(Balance!H5,0,($O$1-1)*12)","v":"-"},{"$f":"OFFSET(Balance!I5,0,($O$1-1)*12)","v":"-"},{"$f":"OFFSET(Balance!J5,0,($O$1-1)*12)","v":"-"},{"$f":"OFFSET(Balance!K5,0,($O$1-1)*12)","v":"-"},{"$f":"OFFSET(Balance!L5,0,($O$1-1)*12)","v":"-"},{"$f":"OFFSET(Balance!M5,0,($O$1-1)*12)","v":"-"},{"$f":"OFFSET(Balance!N5,0,($O$1-1)*12)","v":"-"},4251.9340000000002]
[null,"Fuel + Gas",{"$f":"OFFSET(Balance!C6,0,($O$1-1)*12)","v":0},{"$f":"OFFSET(Balance!D6,0,($O$1-1)*12)","v":0},{"$f":"OFFSET(Balance!E6,0,($O$1-1)*12)","v":0},{"$f":"OFFSET(Balance!F6,0,($O$1-1)*12)","v":"-"},{"$f":"OFFSET(Balance!G6,0,($O$1-1)*12)","v":"-"},{"$f":"OFFSET(Balance!H6,0,($O$1-1)*12)","v":"-"},{"$f":"OFFSET(Balance!I6,0,($O$1-1)*12)","v":"-"},{"$f":"OFFSET(Balance!J6,0,($O$1-1)*12)","v":"-"},{"$f":"OFFSET(Balance!K6,0,($O$1-1)*12)","v":"-"},{"$f":"OFFSET(Balance!L6,0,($O$1-1)*12)","v":"-"},{"$f":"OFFSET(Balance!M6,0,($O$1-1)*12)","v":"-"},{"$f":"OFFSET(Balance!N6,0,($O$1-1)*12)","v":"-"},"-"]
[null,"Ciclo combinado (2)",{"$f":"OFFSET(Balance!C7,0,($O$1-1)*12)","v":1610.1010000000001},{"$f":"OFFSET(Balance!D7,0,($O$1-1)*12)","v":1323.0219999999999},{"$f":"OFFSET(Balance!E7,0,($O$1-1)*12)","v":1246.404},{"$f":"OFFSET(Balance!F7,0,($O$1-1)*12)","v":"-"},{"$f":"OFFSET(Balance!G7,0,($O$1-1)*12)","v":"-"},{"$f":"OFFSET(Balance!H7,0,($O$1-1)*12)","v":"-"},{"$f":"OFFSET(Balance!I7,0,($O$1-1)*12)","v":"-"},{"$f":"OFFSET(Balance!J7,0,($O$1-1)*12)","v":"-"},{"$f":"OFFSET(Balance!K7,0,($O$1-1)*12)","v":"-"},{"$f":"OFFSET(Balance!L7,0,($O$1-1)*12)","v":"-"},{"$f":"OFFSET(Balance!M7,0,($O$1-1)*12)","v":"-"},{"$f":"OFFSET(Balance!N7,0,($O$1-1)*12)","v":"-"},4179.527]
[null,"Régimen ordinario",{"$f":"OFFSET(Balance!C8,0,($O$1-1)*12)","v":0},{"$f":"OFFSET(Balance!D8,0,($O$1-1)*12)","v":0},{"$f":"OFFSET(Balance!E8,0,($O$1-1)*12)","v":0},{"$f":"OFFSET(Balance!F8,0,($O$1-1)*12)","v":0},{"$f":"OFFSET(Balance!G8,0,($O$1-1)*12)","v":0},{"$f":"OFFSET(Balance!H8,0,($O$1-1)*12)","v":0},{"$f":"OFFSET(Balance!I8,0,($O$1-1)*12)","v":0},{"$f":"OFFSET(Balance!J8,0,($O$1-1)*12)","v":0},{"$f":"OFFSET(Balance!K8,0,($O$1-1)*12)","v":0},{"$f":"OFFSET(Balance!L8,0,($O$1-1)*12)","v":0},{"$f":"OFFSET(Balance!M8,0,($O$1-1)*12)","v":0},{"$f":"OFFSET(Balance!N8,0,($O$1-1)*12)","v":0},{"$f":"SUM(O10:O14)","v":37954.795000000006}]
[null,"Consumos generación (3)",{"$f":"OFFSET(Balance!C9,0,($O$1-1)*12)","v":-464.36},{"$f":"OFFSET(Balance!D9,0,($O$1-1)*12)","v":-367.70600000000002},{"$f":"OFFSET(Balance!E9,0,($O$1-1)*12)","v":-434.95800000000003},{"$f":"OFFSET(Balance!F9,0,($O$1-1)*12)","v":"-"},{"$f":"OFFSET(Balance!G9,0,($O$1-1)*12)","v":"-"},{"$f":"OFFSET(Balance!H9,0,($O$1-1)*12)","v":"-"},{"$f":"OFFSET(Balance!I9,0,($O$1-1)*12)","v":"-"},{"$f":"OFFSET(Balance!J9,0,($O$1-1)*12)","v":"-"},{"$f":"OFFSET(Balance!K9,0,($O$1-1)*12)","v":"-"},{"$f":"OFFSET(Balance!L9,0,($O$1-1)*12)","v":"-"},{"$f":"OFFSET(Balance!M9,0,($O$1-1)*12)","v":"-"},{"$f":"OFFSET(Balance!N9,0,($O$1-1)*12)","v":"-"},-1267.0240000000001]
[null,"Resto hidráulica (4)",{"$f":"OFFSET(Balance!C10,0,($O$1-1)*12)","v":782.11300000000006},{"$f":"OFFSET(Balance!D10,0,($O$1-1)*12)","v":753.00599999999997},{"$f":"OFFSET(Balance!E10,0,($O$1-1)*12)","v":751.12400000000002},{"$f":"OFFSET(Balance!F10,0,($O$1-1)*12)","v":"-"},{"$f":"OFFSET(Balance!G10,0,($O$1-1)*12)","v":"-"},{"$f":"OFFSET(Balance!H10,0,($O$1-1)*12)","v":"-"},{"$f":"OFFSET(Balance!I10,0,($O$1-1)*12)","v":"-"},{"$f":"OFFSET(Balance!J10,0,($O$1-1)*12)","v":"-"},{"$f":"OFFSET(Balance!K10,0,($O$1-1)*12)","v":"-"},{"$f":"OFFSET(Balance!L10,0,($O$1-1)*12)","v":"-"},{"$f":"OFFSET(Balance!M10,0,($O$1-1)*12)","v":"-"},{"$f":"OFFSET(Balance!N10,0,($O$1-1)*12)","v":"-"},2286.2430000000004]
[null,"Eólica",{"$f":"OFFSET(Balance!C11,0,($O$1-1)*12)","v":6536.8239999999996},{"$f":"OFFSET(Balance!D11,0,($O$1-1)*12)","v":5882.5550000000003},{"$f":"OFFSET(Balance!E11,0,($O$1-1)*12)","v":5128.1189999999997},{"$f":"OFFSET(Balance!F11,0,($O$1-1)*12)","v":"-"},{"$f":"OFFSET(Balance!G11,0,($O$1-1)*12)","v":"-"},{"$f":"OFFSET(Balance!H11,0,($O$1-1)*12)","v":"-"},{"$f":"OFFSET(Balance!I11,0,($O$1-1)*12)","v":"-"},{"$f":"OFFSET(Balance!J11,0,($O$1-1)*12)","v":"-"},{"$f":"OFFSET(Balance!K11,0,($O$1-1)*12)","v":"-"},{"$f":"OFFSET(Balance!L11,0,($O$1-1)*12)","v":"-"},{"$f":"OFFSET(Balance!M11,0,($O$1-1)*12)","v":"-"},{"$f":"OFFSET(Balance!N11,0,($O$1-1)*12)","v":"-"},17547.498]
[null,"Solar fotovoltaica",{"$f":"OFFSET(Balance!C12,0,($O$1-1)*12)","v":349.99},{"$f":"OFFSET(Balance!D12,0,($O$1-1)*12)","v":402.50200000000001},{"$f":"OFFSET(Balance!E12,0,($O$1-1)*12)","v":699.28390000000002},{"$f":"OFFSET(Balance!F12,0,($O$1-1)*12)","v":"-"},{"$f":"OFFSET(Balance!G12,0,($O$1-1)*12)","v":"-"},{"$f":"OFFSET(Balance!H12,0,($O$1-1)*12)","v":"-"},{"$f":"OFFSET(Balance!I12,0,($O$1-1)*12)","v":"-"},{"$f":"OFFSET(Balance!J12,0,($O$1-1)*12)","v":"-"},{"$f":"OFFSET(Balance!K12,0,($O$1-1)*12)","v":"-"},{"$f":"OFFSET(Balance!L12,0,($O$1-1)*12)","v":"-"},{"$f":"OFFSET(Balance!M12,0,($O$1-1)*12)","v":"-"},{"$f":"OFFSET(Balance!N12,0,($O$1-1)*12)","v":"-"},1451.7759000000001]
[null,"Solar térmica",{"$f":"OFFSET(Balance!C13,0,($O$1-1)*12)","v":79.801000000000002},{"$f":"OFFSET(Balance!D13,0,($O$1-1)*12)","v":103.265},{"$f":"OFFSET(Balance!E13,0,($O$1-1)*12)","v":398.30599999999998},{"$f":"OFFSET(Balance!F13,0,($O$1-1)*12)","v":"-"},{"$f":"OFFSET(Balance!G13,0,($O$1-1)*12)","v":"-"},{"$f":"OFFSET(Balance!H13,0,($O$1-1)*12)","v":"-"},{"$f":"OFFSET(Balance!I13,0,($O$1-1)*12)","v":"-"},{"$f":"OFFSET(Balance!J13,0,($O$1-1)*12)","v":"-"},{"$f":"OFFSET(Balance!K13,0,($O$1-1)*12)","v":"-"},{"$f":"OFFSET(Balance!L13,0,($O$1-1)*12)","v":"-"},{"$f":"OFFSET(Balance!M13,0,($O$1-1)*12)","v":"-"},{"$f":"OFFSET(Balance!N13,0,($O$1-1)*12)","v":"-"},581.37199999999996]
[null,"Térmica renovable",{"$f":"OFFSET(Balance!C14,0,($O$1-1)*12)","v":422.98700000000002},{"$f":"OFFSET(Balance!D14,0,($O$1-1)*12)","v":329.58100000000002},{"$f":"OFFSET(Balance!E14,0,($O$1-1)*12)","v":343.96100000000001},{"$f":"OFFSET(Balance!F14,0,($O$1-1)*12)","v":"-"},{"$f":"OFFSET(Balance!G14,0,($O$1-1)*12)","v":"-"},{"$f":"OFFSET(Balance!H14,0,($O$1-1)*12)","v":"-"},{"$f":"OFFSET(Balance!I14,0,($O$1-1)*12)","v":"-"},{"$f":"OFFSET(Balance!J14,0,($O$1-1)*12)","v":"-"},{"$f":"OFFSET(Balance!K14,0,($O$1-1)*12)","v":"-"},{"$f":"OFFSET(Balance!L14,0,($O$1-1)*12)","v":"-"},{"$f":"OFFSET(Balance!M14,0,($O$1-1)*12)","v":"-"},{"$f":"OFFSET(Balance!N14,0,($O$1-1)*12)","v":"-"},1096.529]
[null,"Cogeneración y resto",{"$f":"OFFSET(Balance!C15,0,($O$1-1)*12)","v":2680.3760000000002},{"$f":"OFFSET(Balance!D15,0,($O$1-1)*12)","v":1968.6569999999999},{"$f":"OFFSET(Balance!E15,0,($O$1-1)*12)","v":1917.5160000000001},{"$f":"OFFSET(Balance!F15,0,($O$1-1)*12)","v":"-"},{"$f":"OFFSET(Balance!G15,0,($O$1-1)*12)","v":"-"},{"$f":"OFFSET(Balance!H15,0,($O$1-1)*12)","v":"-"},{"$f":"OFFSET(Balance!I15,0,($O$1-1)*12)","v":"-"},{"$f":"OFFSET(Balance!J15,0,($O$1-1)*12)","v":"-"},{"$f":"OFFSET(Balance!K15,0,($O$1-1)*12)","v":"-"},{"$f":"OFFSET(Balance!L15,0,($O$1-1)*12)","v":"-"},{"$f":"OFFSET(Balance!M15,0,($O$1-1)*12)","v":"-"},{"$f":"OFFSET(Balance!N15,0,($O$1-1)*12)","v":"-"},6566.5490000000009]
[null,"Régimen especial",{"$f":"OFFSET(Balance!C16,0,($O$1-1)*12)","v":0},{"$f":"OFFSET(Balance!D16,0,($O$1-1)*12)","v":0},{"$f":"OFFSET(Balance!E16,0,($O$1-1)*12)","v":0},{"$f":"OFFSET(Balance!F16,0,($O$1-1)*12)","v":0},{"$f":"OFFSET(Balance!G16,0,($O$1-1)*12)","v":0},{"$f":"OFFSET(Balance!H16,0,($O$1-1)*12)","v":0},{"$f":"OFFSET(Balance!I16,0,($O$1-1)*12)","v":0},{"$f":"OFFSET(Balance!J16,0,($O$1-1)*12)","v":0},{"$f":"OFFSET(Balance!K16,0,($O$1-1)*12)","v":0},{"$f":"OFFSET(Balance!L16,0,($O$1-1)*12)","v":0},{"$f":"OFFSET(Balance!M16,0,($O$1-1)*12)","v":0},{"$f":"OFFSET(Balance!N16,0,($O$1-1)*12)","v":0},{"$f":"SUM(O17:O22)","v":29529.966899999999}]
[null,"Generación neta",{"$f":"OFFSET(Balance!C17,0,($O$1-1)*12)","v":22974.698},{"$f":"OFFSET(Balance!D17,0,($O$1-1)*12)","v":21562.208999999999},{"$f":"OFFSET(Balance!E17,0,($O$1-1)*12)","v":21680.830999999998},{"$f":"OFFSET(Balance!F17,0,($O$1-1)*12)","v":"-"},{"$f":"OFFSET(Balance!G17,0,($O$1-1)*12)","v":"-"},{"$f":"OFFSET(Balance!H17,0,($O$1-1)*12)","v":"-"},{"$f":"OFFSET(Balance!I17,0,($O$1-1)*12)","v":"-"},{"$f":"OFFSET(Balance!J17,0,($O$1-1)*12)","v":"-"},{"$f":"OFFSET(Balance!K17,0,($O$1-1)*12)","v":"-"},{"$f":"OFFSET(Balance!L17,0,($O$1-1)*12)","v":"-"},{"$f":"OFFSET(Balance!M17,0,($O$1-1)*12)","v":"-"},{"$f":"OFFSET(Balance!N17,0,($O$1-1)*12)","v":"-"},{"$f":"SUM(O15:O16,O23)","v":66217.737900000007}]
[null,"Consumos en bombeo",{"$f":"OFFSET(Balance!C18,0,($O$1-1)*12)","v":-858.01400000000001},{"$f":"OFFSET(Balance!D18,0,($O$1-1)*12)","v":-633.18799999999999},{"$f":"OFFSET(Balance!E18,0,($O$1-1)*12)","v":-589.976},{"$f":"OFFSET(Balance!F18,0,($O$1-1)*12)","v":"-"},{"$f":"OFFSET(Balance!G18,0,($O$1-1)*12)","v":"-"},{"$f":"OFFSET(Balance!H18,0,($O$1-1)*12)","v":"-"},{"$f":"OFFSET(Balance!I18,0,($O$1-1)*12)","v":"-"},{"$f":"OFFSET(Balance!J18,0,($O$1-1)*12)","v":"-"},{"$f":"OFFSET(Balance!K18,0,($O$1-1)*12)","v":"-"},{"$f":"OFFSET(Balance!L18,0,($O$1-1)*12)","v":"-"},{"$f":"OFFSET(Balance!M18,0,($O$1-1)*12)","v":"-"},{"$f":"OFFSET(Balance!N18,0,($O$1-1)*12)","v":"-"},-2081.1779999999999]
[null,"Enlace Península-Baleares (5)",{"$f":"OFFSET(Balance!C19,0,($O$1-1)*12)","v":-98.644000000000005},{"$f":"OFFSET(Balance!D19,0,($O$1-1)*12)","v":-86.918999999999997},{"$f":"OFFSET(Balance!E19,0,($O$1-1)*12)","v":-88.563999999999993},{"$f":"OFFSET(Balance!F19,0,($O$1-1)*12)","v":"-"},{"$f":"OFFSET(Balance!G19,0,($O$1-1)*12)","v":"-"},{"$f":"OFFSET(Balance!H19,0,($O$1-1)*12)","v":"-"},{"$f":"OFFSET(Balance!I19,0,($O$1-1)*12)","v":"-"},{"$f":"OFFSET(Balance!J19,0,($O$1-1)*12)","v":"-"},{"$f":"OFFSET(Balance!K19,0,($O$1-1)*12)","v":"-"},{"$f":"OFFSET(Balance!L19,0,($O$1-1)*12)","v":"-"},{"$f":"OFFSET(Balance!M19,0,($O$1-1)*12)","v":"-"},{"$f":"OFFSET(Balance!N19,0,($O$1-1)*12)","v":"-"},{"$f":"IF(SUM(C26:N26)=0,\"-\",SUM(C26:N26))","v":-274.12699999999995}]
[null,"Saldo intercambios internacionales (6)",{"$f":"OFFSET(Balance!C20,0,($O$1-1)*12)","v":28.102},{"$f":"OFFSET(Balance!D20,0,($O$1-1)*12)","v":-490.541},{"$f":"OFFSET(Balance!E20,0,($O$1-1)*12)","v":-238.625},{"$f":"OFFSET(Balance!F20,0,($O$1-1)*12)","v":"-"},{"$f":"OFFSET(Balance!G20,0,($O$1-1)*12)","v":"-"},{"$f":"OFFSET(Balance!H20,0,($O$1-1)*12)","v":"-"},{"$f":"OFFSET(Balance!I20,0,($O$1-1)*12)","v":"-"},{"$f":"OFFSET(Balance!J20,0,($O$1-1)*12)","v":"-"},{"$f":"OFFSET(Balance!K20,0,($O$1-1)*12)","v":"-"},{"$f":"OFFSET(Balance!L20,0,($O$1-1)*12)","v":"-"},{"$f":"OFFSET(Balance!M20,0,($O$1-1)*12)","v":"-"},{"$f":"OFFSET(Balance!N20,0,($O$1-1)*12)","v":"-"},-701.06400000000008]
[null,"Demanda transporte (b.c.)",{"$f":"OFFSET(Balance!C21,0,($O$1-1)*12)","v":22046.142},{"$f":"OFFSET(Balance!D21,0,($O$1-1)*12)","v":20351.561000000002},{"$f":"OFFSET(Balance!E21,0,($O$1-1)*12)","v":20763.666000000001},{"$f":"OFFSET(Balance!F21,0,($O$1-1)*12)","v":"-"},{"$f":"OFFSET(Balance!G21,0,($O$1-1)*12)","v":"-"},{"$f":"OFFSET(Balance!H21,0,($O$1-1)*12)","v":"-"},{"$f":"OFFSET(Balance!I21,0,($O$1-1)*12)","v":"-"},{"$f":"OFFSET(Balance!J21,0,($O$1-1)*12)","v":"-"},{"$f":"OFFSET(Balance!K21,0,($O$1-1)*12)","v":"-"},{"$f":"OFFSET(Balance!L21,0,($O$1-1)*12)","v":"-"},{"$f":"OFFSET(Balance!M21,0,($O$1-1)*12)","v":"-"},{"$f":"OFFSET(Balance!N21,0,($O$1-1)*12)","v":"-"},{"$f":"SUM(O24:O27)","v":63161.368900000009}]
[null,"(1) Asignación de unidades de producción según combustible principal."]
[null,"(2) Incluye funcionamiento en ciclo abierto."]
[null,"(3) Consumos en generación correspondientes a la producción hidráulica, nuclear, carbón, fuel+gas y ciclo combinado."]
[null,"(4) Incluye todas aquellas unidades menores de 50 MW que no pertenecen a ninguna unidad de gestión hidráulica (UGH)."]
[null,"(5) Valor positivo: entrada de energía en el sistema; valor negativo: salida de energía del sistema. Enlace funcionando al mínimo técnico de seguridad hasta el 13/08/2012. "]
[null,"(6) Valor positivo: saldo importador; valor negativo: saldo exportador."]

{"sheet":"Balance Baleares","index":2,"n_rows":30,"n_cols":15,"rows_kept":30,"cut":false,"hidden":false,"merged":[[29,1,29,14],[25,1,25,14],[26,1,26,14],[27,1,27,14],[5,11,5,12],[28,1,28,14]]}
[null,null,null,null,null,null,null,null,null,null,null,null,null,null,9]
[]
[null,null,null,null,null,null,null,null,null,null,null,null,"www.ree.es"]
[null,null,null,null,null,null,null,null,null,null,null,null,"Fecha de actualización:",null,"2014-04-10"]
[]
[null,null,null,null,null,null,null,null,null,null,null,"Seleccione un año"]
[]
[null,null,"Ene.","Feb.","Mar.","Abr.","May.","Jun.","Jul.","Ago.","Sep.","Oct.","Nov.","Dic.",{"$f":"OFFSET(Año!B18,($O$1-1),0)","v":2014}]
[]
[null,"Carbón",{"$f":"OFFSET(Balance!C24,0,($O$1-1)*12)","v":201469},{"$f":"OFFSET(Balance!D24,0,($O$1-1)*12)","v":165889},{"$f":"OFFSET(Balance!E24,0,($O$1-1)*12)","v":173138},{"$f":"OFFSET(Balance!F24,0,($O$1-1)*12)","v":"-"},{"$f":"OFFSET(Balance!G24,0,($O$1-1)*12)","v":"-"},{"$f":"OFFSET(Balance!H24,0,($O$1-1)*12)","v":"-"},{"$f":"OFFSET(Balance!I24,0,($O$1-1)*12)","v":"-"},{"$f":"OFFSET(Balance!J24,0,($O$1-1)*12)","v":"-"},{"$f":"OFFSET(Balance!K24,0,($O$1-1)*12)","v":"-"},{"$f":"OFFSET(Balance!L24,0,($O$1-1)*12)","v":"-"},{"$f":"OFFSET(Balance!M24,0,($O$1-1)*12)","v":"-"},{"$f":"OFFSET(Balance!N24,0,($O$1-1)*12)","v":"-"},{"$f":"IF(SUM(C10:N10)=0,\"-\",SUM(C10:N10))","v":540496}]
[null,"Motores diesel",{"$f":"OFFSET(Balance!C25,0,($O$1-1)*12)","v":60148},{"$f":"OFFSET(Balance!D25,0,($O$1-1)*12)","v":56565},{"$f":"OFFSET(Balance!E25,0,($O$1-1)*12)","v":41875},{"$f":"OFFSET(Balance!F25,0,($O$1-1)*12)","v":"-"},{"$f":"OFFSET(Balance!G25,0,($O$1-1)*12)","v":"-"},{"$f":"OFFSET(Balance!H25,0,($O$1-1)*12)","v":"-"},{"$f":"OFFSET(Balance!I25,0,($O$1-1)*12)","v":"-"},{"$f":"OFFSET(Balance!J25,0,($O$1-1)*12)","v":"-"},{"$f":"OFFSET(Balance!K25,0,($O$1-1)*12)","v":"-"},{"$f":"OFFSET(Balance!L25,0,($O$1-1)*12)","v":"-"},{"$f":"OFFSET(Balance!M25,0,($O$1-1)*12)","v":"-"},{"$f":"OFFSET(Balance!N25,0,($O$1-1)*12)","v":"-"},158588]
[null,"Turbina de gas",{"$f":"OFFSET(Balance!C26,0,($O$1-1)*12)","v":29186},{"$f":"OFFSET(Balance!D26,0,($O$1-1)*12)","v":25184},{"$f":"OFFSET(Balance!E26,0,($O$1-1)*12)","v":40439},{"$f":"OFFSET(Balance!F26,0,($O$1-1)*12)","v":"-"},{"$f":"OFFSET(Balance!G26,0,($O$1-1)*12)","v":"-"},{"$f":"OFFSET(Balance!H26,0,($O$1-1)*12)","v":"-"},{"$f":"OFFSET(Balance!I26,0,($O$1-1)*12)","v":"-"},{"$f":"OFFSET(Balance!J26,0,($O$1-1)*12)","v":"-"},{"$f":"OFFSET(Balance!K26,0,($O$1-1)*12)","v":"-"},{"$f":"OFFSET(Balance!L26,0,($O$1-1)*12)","v":"-"},{"$f":"OFFSET(Balance!M26,0,($O$1-1)*12)","v":"-"},{"$f":"OFFSET(Balance!N26,0,($O$1-1)*12)","v":"-"},94809]
[null,"Fuel + Gas",{"$f":"OFFSET(Balance!C27,0,($O$1-1)*12)","v":89334},{"$f":"OFFSET(Balance!D27,0,($O$1-1)*12)","v":81749},{"$f":"OFFSET(Balance!E27,0,($O$1-1)*12)","v":82314},{"$f":"OFFSET(Balance!F27,0,($O$1-1)*12)","v":"-"},{"$f":"OFFSET(Balance!G27,0,($O$1-1)*12)","v":"-"},{"$f":"OFFSET(Balance!H27,0,($O$1-1)*12)","v":"-"},{"$f":"OFFSET(Balance!I27,0,($O$1-1)*12)","v":"-"},{"$f":"OFFSET(Balance!J27,0,($O$1-1)*12)","v":"-"},{"$f":"OFFSET(Balance!K27,0,($O$1-1)*12)","v":"-"},{"$f":"OFFSET(Balance!L27,0,($O$1-1)*12)","v":"-"},{"$f":"OFFSET(Balance!M27,0,($O$1-1)*12)","v":"-"},{"$f":"OFFSET(Balance!N27,0,($O$1-1)*12)","v":"-"},{"$f":"SUM(O11:O12)","v":253397}]
[null,"Ciclo combinado (2)",{"$f":"OFFSET(Balance!C28,0,($O$1-1)*12)","v":35577},{"$f":"OFFSET(Balance!D28,0,($O$1-1)*12)","v":47718},{"$f":"OFFSET(Balance!E28,0,($O$1-1)*12)","v":49413},{"$f":"OFFSET(Balance!F28,0,($O$1-1)*12)","v":"-"},{"$f":"OFFSET(Balance!G28,0,($O$1-1)*12)","v":"-"},{"$f":"OFFSET(Balance!H28,0,($O$1-1)*12)","v":"-"},{"$f":"OFFSET(Balance!I28,0,($O$1-1)*12)","v":"-"},{"$f":"OFFSET(Balance!J28,0,($O$1-1)*12)","v":"-"},{"$f":"OFFSET(Balance!K28,0,($O$1-1)*12)","v":"-"},{"$f":"OFFSET(Balance!L28,0,($O$1-1)*12)","v":"-"},{"$f":"OFFSET(Balance!M28,0,($O$1-1)*12)","v":"-"},{"$f":"OFFSET(Balance!N28,0,($O$1-1)*12)","v":"-"},{"$f":"IF(SUM(C14:N14)=0,\"-\",SUM(C14:N14))","v":132708}]
[null,"Generación auxiliar (3)",{"$f":"OFFSET(Balance!C29,0,($O$1-1)*12)","v":0},{"$f":"OFFSET(Balance!D29,0,($O$1-1)*12)","v":0},{"$f":"OFFSET(Balance!E29,0,($O$1-1)*12)","v":0},{"$f":"OFFSET(Balance!F29,0,($O$1-1)*12)","v":"-"},{"$f":"OFFSET(Balance!G29,0,($O$1-1)*12)","v":"-"},{"$f":"OFFSET(Balance!H29,0,($O$1-1)*12)","v":"-"},{"$f":"OFFSET(Balance!I29,0,($O$1-1)*12)","v":"-"},{"$f":"OFFSET(Balance!J29,0,($O$1-1)*12)","v":"-"},{"$f":"OFFSET(Balance!K29,0,($O$1-1)*12)","v":"-"},{"$f":"OFFSET(Balance!L29,0,($O$1-1)*12)","v":"-"},{"$f":"OFFSET(Balance!M29,0,($O$1-1)*12)","v":"-"},{"$f":"OFFSET(Balance!N29,0,($O$1-1)*12)","v":"-"},{"$f":"IF(SUM(C15:N15)=0,\"-\",SUM(C15:N15))","v":"-"}]
[null,"Régimen ordinario",{"$f":"OFFSET(Balance!C30,0,($O$1-1)*12)","v":0},{"$f":"OFFSET(Balance!D30,0,($O$1-1)*12)","v":0},{"$f":"OFFSET(Balance!E30,0,($O$1-1)*12)","v":0},{"$f":"OFFSET(Balance!F30,0,($O$1-1)*12)","v":0},{"$f":"OFFSET(Balance!G30,0,($O$1-1)*12)","v":0},{"$f":"OFFSET(Balance!H30,0,($O$1-1)*12)","v":0},{"$f":"OFFSET(Balance!I30,0,($O$1-1)*12)","v":0},{"$f":"OFFSET(Balance!J30,0,($O$1-1)*12)","v":0},{"$f":"OFFSET(Balance!K30,0,($O$1-1)*12)","v":0},{"$f":"OFFSET(Balance!L30,0,($O$1-1)*12)","v":0},{"$f":"OFFSET(Balance!M30,0,($O$1-1)*12)","v":0},{"$f":"OFFSET(Balance!N30,0,($O$1-1)*12)","v":0},{"$f":"SUM(O10,O13:O15)","v":926601}]
[null,"Consumos generación (4)",{"$f":"OFFSET(Balance!C31,0,($O$1-1)*12)","v":-23518},{"$f":"OFFSET(Balance!D31,0,($O$1-1)*12)","v":-21305},{"$f":"OFFSET(Balance!E31,0,($O$1-1)*12)","v":-14406},{"$f":"OFFSET(Balance!F31,0,($O$1-1)*12)","v":"-"},{"$f":"OFFSET(Balance!G31,0,($O$1-1)*12)","v":"-"},{"$f":"OFFSET(Balance!H31,0,($O$1-1)*12)","v":"-"},{"$f":"OFFSET(Balance!I31,0,($O$1-1)*12)","v":"-"},{"$f":"OFFSET(Balance!J31,0,($O$1-1)*12)","v":"-"},{"$f":"OFFSET(Balance!K31,0,($O$1-1)*12)","v":"-"},{"$f":"OFFSET(Balance!L31,0,($O$1-1)*12)","v":"-"},{"$f":"OFFSET(Balance!M31,0,($O$1-1)*12)","v":"-"},{"$f":"OFFSET(Balance!N31,0,($O$1-1)*12)","v":"-"},-59229]
[null,"Eólica",{"$f":"OFFSET(Balance!C32,0,($O$1-1)*12)","v":581},{"$f":"OFFSET(Balance!D32,0,($O$1-1)*12)","v":629},{"$f":"OFFSET(Balance!E32,0,($O$1-1)*12)","v":650},{"$f":"OFFSET(Balance!F32,0,($O$1-1)*12)","v":"-"},{"$f":"OFFSET(Balance!G32,0,($O$1-1)*12)","v":"-"},{"$f":"OFFSET(Balance!H32,0,($O$1-1)*12)","v":"-"},{"$f":"OFFSET(Balance!I32,0,($O$1-1)*12)","v":"-"},{"$f":"OFFSET(Balance!J32,0,($O$1-1)*12)","v":"-"},{"$f":"OFFSET(Balance!K32,0,($O$1-1)*12)","v":"-"},{"$f":"OFFSET(Balance!L32,0,($O$1-1)*12)","v":"-"},{"$f":"OFFSET(Balance!M32,0,($O$1-1)*12)","v":"-"},{"$f":"OFFSET(Balance!N32,0,($O$1-1)*12)","v":"-"},1860]
[null,"Solar fotovoltaica",{"$f":"OFFSET(Balance!C33,0,($O$1-1)*12)","v":5801},{"$f":"OFFSET(Balance!D33,0,($O$1-1)*12)","v":8300},{"$f":"OFFSET(Balance!E33,0,($O$1-1)*12)","v":10872.681},{"$f":"OFFSET(Balance!F33,0,($O$1-1)*12)","v":"-"},{"$f":"OFFSET(Balance!G33,0,($O$1-1)*12)","v":"-"},{"$f":"OFFSET(Balance!H33,0,($O$1-1)*12)","v":"-"},{"$f":"OFFSET(Balance!I33,0,($O$1-1)*12)","v":"-"},{"$f":"OFFSET(Balance!J33,0,($O$1-1)*12)","v":"-"},{"$f":"OFFSET(Balance!K33,0,($O$1-1)*12)","v":"-"},{"$f":"OFFSET(Balance!L33,0,($O$1-1)*12)","v":"-"},{"$f":"OFFSET(Balance!M33,0,($O$1-1)*12)","v":"-"},{"$f":"OFFSET(Balance!N33,0,($O$1-1)*12)","v":"-"},24973.681]
[null,"Térmica renovable",{"$f":"OFFSET(Balance!C34,0,($O$1-1)*12)","v":123},{"$f":"OFFSET(Balance!D34,0,($O$1-1)*12)","v":172},{"$f":"OFFSET(Balance!E34,0,($O$1-1)*12)","v":229},{"$f":"OFFSET(Balance!F34,0,($O$1-1)*12)","v":"-"},{"$f":"OFFSET(Balance!G34,0,($O$1-1)*12)","v":"-"},{"$f":"OFFSET(Balance!H34,0,($O$1-1)*12)","v":"-"},{"$f":"OFFSET(Balance!I34,0,($O$1-1)*12)","v":"-"},{"$f":"OFFSET(Balance!J34,0,($O$1-1)*12)","v":"-"},{"$f":"OFFSET(Balance!K34,0,($O$1-1)*12)","v":"-"},{"$f":"OFFSET(Balance!L34,0,($O$1-1)*12)","v":"-"},{"$f":"OFFSET(Balance!M34,0,($O$1-1)*12)","v":"-"},{"$f":"OFFSET(Balance!N34,0,($O$1-1)*12)","v":"-"},524]
[null,"Cogeneración y resto",{"$f":"OFFSET(Balance!C35,0,($O$1-1)*12)","v":17963},{"$f":"OFFSET(Balance!D35,0,($O$1-1)*12)","v":14698},{"$f":"OFFSET(Balance!E35,0,($O$1-1)*12)","v":19928},{"$f":"OFFSET(Balance!F35,0,($O$1-1)*12)","v":"-"},{"$f":"OFFSET(Balance!G35,0,($O$1-1)*12)","v":"-"},{"$f":"OFFSET(Balance!H35,0,($O$1-1)*12)","v":"-"},{"$f":"OFFSET(Balance!I35,0,($O$1-1)*12)","v":"-"},{"$f":"OFFSET(Balance!J35,0,($O$1-1)*12)","v":"-"},{"$f":"OFFSET(Balance!K35,0,($O$1-1)*12)","v":"-"},{"$f":"OFFSET(Balance!L35,0,($O$1-1)*12)","v":"-"},{"$f":"OFFSET(Balance!M35,0,($O$1-1)*12)","v":"-"},{"$f":"OFFSET(Balance!N35,0,($O$1-1)*12)","v":"-"},52589]
[null,"Régimen especial",{"$f":"OFFSET(Balance!C36,0,($O$1-1)*12)","v":0},{"$f":"OFFSET(Balance!D36,0,($O$1-1)*12)","v":0},{"$f":"OFFSET(Balance!E36,0,($O$1-1)*12)","v":0},{"$f":"OFFSET(Balance!F36,0,($O$1-1)*12)","v":0},{"$f":"OFFSET(Balance!G36,0,($O$1-1)*12)","v":0},{"$f":"OFFSET(Balance!H36,0,($O$1-1)*12)","v":0},{"$f":"OFFSET(Balance!I36,0,($O$1-1)*12)","v":0},{"$f":"OFFSET(Balance!J36,0,($O$1-1)*12)","v":0},{"$f":"OFFSET(Balance!K36,0,($O$1-1)*12)","v":0},{"$f":"OFFSET(Balance!L36,0,($O$1-1)*12)","v":0},{"$f":"OFFSET(Balance!M36,0,($O$1-1)*12)","v":0},{"$f":"OFFSET(Balance!N36,0,($O$1-1)*12)","v":0},{"$f":"SUM(O18:O21)","v":79946.680999999997}]
[null,"Generación neta",{"$f":"OFFSET(Balance!C37,0,($O$1-1)*12)","v":327330},{"$f":"OFFSET(Balance!D37,0,($O$1-1)*12)","v":297850},{"$f":"OFFSET(Balance!E37,0,($O$1-1)*12)","v":322139},{"$f":"OFFSET(Balance!F37,0,($O$1-1)*12)","v":"-"},{"$f":"OFFSET(Balance!G37,0,($O$1-1)*12)","v":"-"},{"$f":"OFFSET(Balance!H37,0,($O$1-1)*12)","v":"-"},{"$f":"OFFSET(Balance!I37,0,($O$1-1)*12)","v":"-"},{"$f":"OFFSET(Balance!J37,0,($O$1-1)*12)","v":"-"},{"$f":"OFFSET(Balance!K37,0,($O$1-1)*12)","v":"-"},{"$f":"OFFSET(Balance!L37,0,($O$1-1)*12)","v":"-"},{"$f":"OFFSET(Balance!M37,0,($O$1-1)*12)","v":"-"},{"$f":"OFFSET(Balance!N37,0,($O$1-1)*12)","v":"-"},{"$f":"SUM(O16:O17,O22)","v":947318.68099999998}]
[null,"Enlace Península-Baleares (5)",{"$f":"OFFSET(Balance!C38,0,($O$1-1)*12)","v":98644},{"$f":"OFFSET(Balance!D38,0,($O$1-1)*12)","v":86919},{"$f":"OFFSET(Balance!E38,0,($O$1-1)*12)","v":88564},{"$f":"OFFSET(Balance!F38,0,($O$1-1)*12)","v":"-"},{"$f":"OFFSET(Balance!G38,0,($O$1-1)*12)","v":"-"},{"$f":"OFFSET(Balance!H38,0,($O$1-1)*12)","v":"-"},{"$f":"OFFSET(Balance!I38,0,($O$1-1)*12)","v":"-"},{"$f":"OFFSET(Balance!J38,0,($O$1-1)*12)","v":"-"},{"$f":"OFFSET(Balance!K38,0,($O$1-1)*12)","v":"-"},{"$f":"OFFSET(Balance!L38,0,($O$1-1)*12)","v":"-"},{"$f":"OFFSET(Balance!M38,0,($O$1-1)*12)","v":"-"},{"$f":"OFFSET(Balance!N38,0,($O$1-1)*12)","v":"-"},274127]
[null,"Demanda transporte (b.c.)",{"$f":"OFFSET(Balance!C39,0,($O$1-1)*12)","v":425974},{"$f":"OFFSET(Balance!D39,0,($O$1-1)*12)","v":384769},{"$f":"OFFSET(Balance!E39,0,($O$1-1)*12)","v":410703},{"$f":"OFFSET(Balance!F39,0,($O$1-1)*12)","v":"-"},{"$f":"OFFSET(Balance!G39,0,($O$1-1)*12)","v":"-"},{"$f":"OFFSET(Balance!H39,0,($O$1-1)*12)","v":"-"},{"$f":"OFFSET(Balance!I39,0,($O$1-1)*12)","v":"-"},{"$f":"OFFSET(Balance!J39,0,($O$1-1)*12)","v":"-"},{"$f":"OFFSET(Balance!K39,0,($O$1-1)*12)","v":"-"},{"$f":"OFFSET(Balance!L39,0,($O$1-1)*12)","v":"-"},{"$f":"OFFSET(Balance!M39,0,($O$1-1)*12)","v":"-"},{"$f":"OFFSET(Balance!N39,0,($O$1-1)*12)","v":"-"},{"$f":"SUM(O23:O24)","v":1221445.6809999999}]
[null,"(1) Asignación de unidades de producción según combustible principal."]
[null,"(2) Incluye funcionamiento en ciclo abierto."]
[null,"(3) Grupos de emergencia que se instalan de forma transitoria en determinadas zonas para cubrir un déficit de generación."]
[null,"(4) Consumos en generación correspondientes a la producción con carbón, fuel+gas, ciclo combinado y generación auxiliar."]
[null,"(5) Valor positivo: entrada de energía en el sistema; valor negativo: salida de energía del sistema. Enlace funcionando al mínimo técnico de seguridad hasta el 13/08/2012. "]

{"sheet":"Balance Canarias","index":3,"n_rows":30,"n_cols":15,"rows_kept":30,"cut":false,"hidden":false,"merged":[[27,1,27,14],[28,1,28,14],[29,1,29,14],[26,1,26,14],[5,11,5,12]]}
[null,null,null,null,null,null,null,null,null,null,null,null,null,null,9]
[]
[null,null,null,null,null,null,null,null,null,null,null,null,"www.ree.es"]
[null,null,null,null,null,null,null,null,null,null,null,null,"Fecha de actualización:",null,"2014-04-10"]
[]
[null,null,null,null,null,null,null,null,null,null,null,"Seleccione un año"]
[]
[null,null,"Ene.","Feb.","Mar.","Abr.","May.","Jun.","Jul.","Ago.","Sep.","Oct.","Nov.","Dic.",{"$f":"OFFSET(Año!B18,($O$1-1),0)","v":2014}]
[]
[null,"Hidráulica",{"$f":"OFFSET(Balance!C42,0,($O$1-1)*12)","v":0},{"$f":"OFFSET(Balance!D42,0,($O$1-1)*12)","v":0},{"$f":"OFFSET(Balance!E42,0,($O$1-1)*12)","v":0},{"$f":"OFFSET(Balance!F42,0,($O$1-1)*12)","v":"-"},{"$f":"OFFSET(Balance!G42,0,($O$1-1)*12)","v":"-"},{"$f":"OFFSET(Balance!H42,0,($O$1-1)*12)","v":"-"},{"$f":"OFFSET(Balance!I42,0,($O$1-1)*12)","v":"-"},{"$f":"OFFSET(Balance!J42,0,($O$1-1)*12)","v":"-"},{"$f":"OFFSET(Balance!K42,0,($O$1-1)*12)","v":"-"},{"$f":"OFFSET(Balance!L42,0,($O$1-1)*12)","v":"-"},{"$f":"OFFSET(Balance!M42,0,($O$1-1)*12)","v":"-"},{"$f":"OFFSET(Balance!N42,0,($O$1-1)*12)","v":"-"},{"$f":"IF(SUM(C10:N10)=0,\"-\",SUM(C10:N10))","v":"-"}]
[null,"Motores diesel",{"$f":"OFFSET(Balance!C43,0,($O$1-1)*12)","v":192252},{"$f":"OFFSET(Balance!D43,0,($O$1-1)*12)","v":175927},{"$f":"OFFSET(Balance!E43,0,($O$1-1)*12)","v":196807},{"$f":"OFFSET(Balance!F43,0,($O$1-1)*12)","v":"-"},{"$f":"OFFSET(Balance!G43,0,($O$1-1)*12)","v":"-"},{"$f":"OFFSET(Balance!H43,0,($O$1-1)*12)","v":"-"},{"$f":"OFFSET(Balance!I43,0,($O$1-1)*12)","v":"-"},{"$f":"OFFSET(Balance!J43,0,($O$1-1)*12)","v":"-"},{"$f":"OFFSET(Balance!K43,0,($O$1-1)*12)","v":"-"},{"$f":"OFFSET(Balance!L43,0,($O$1-1)*12)","v":"-"},{"$f":"OFFSET(Balance!M43,0,($O$1-1)*12)","v":"-"},{"$f":"OFFSET(Balance!N43,0,($O$1-1)*12)","v":"-"},{"$f":"IF(SUM(C11:N11)=0,\"-\",SUM(C11:N11))","v":564986}]
[null,"Turbina de gas",{"$f":"OFFSET(Balance!C44,0,($O$1-1)*12)","v":27123},{"$f":"OFFSET(Balance!D44,0,($O$1-1)*12)","v":34292},{"$f":"OFFSET(Balance!E44,0,($O$1-1)*12)","v":16049},{"$f":"OFFSET(Balance!F44,0,($O$1-1)*12)","v":"-"},{"$f":"OFFSET(Balance!G44,0,($O$1-1)*12)","v":"-"},{"$f":"OFFSET(Balance!H44,0,($O$1-1)*12)","v":"-"},{"$f":"OFFSET(Balance!I44,0,($O$1-1)*12)","v":"-"},{"$f":"OFFSET(Balance!J44,0,($O$1-1)*12)","v":"-"},{"$f":"OFFSET(Balance!K44,0,($O$1-1)*12)","v":"-"},{"$f":"OFFSET(Balance!L44,0,($O$1-1)*12)","v":"-"},{"$f":"OFFSET(Balance!M44,0,($O$1-1)*12)","v":"-"},{"$f":"OFFSET(Balance!N44,0,($O$1-1)*12)","v":"-"},77464]
[null,"Turbina de  vapor",{"$f":"OFFSET(Balance!C45,0,($O$1-1)*12)","v":237022},{"$f":"OFFSET(Balance!D45,0,($O$1-1)*12)","v":194104},{"$f":"OFFSET(Balance!E45,0,($O$1-1)*12)","v":150873},{"$f":"OFFSET(Balance!F45,0,($O$1-1)*12)","v":"-"},{"$f":"OFFSET(Balance!G45,0,($O$1-1)*12)","v":"-"},{"$f":"OFFSET(Balance!H45,0,($O$1-1)*12)","v":"-"},{"$f":"OFFSET(Balance!I45,0,($O$1-1)*12)","v":"-"},{"$f":"OFFSET(Balance!J45,0,($O$1-1)*12)","v":"-"},{"$f":"OFFSET(Balance!K45,0,($O$1-1)*12)","v":"-"},{"$f":"OFFSET(Balance!L45,0,($O$1-1)*12)","v":"-"},{"$f":"OFFSET(Balance!M45,0,($O$1-1)*12)","v":"-"},{"$f":"OFFSET(Balance!N45,0,($O$1-1)*12)","v":"-"},581999]
[null,"Fuel + Gas",{"$f":"OFFSET(Balance!C46,0,($O$1-1)*12)","v":456397},{"$f":"OFFSET(Balance!D46,0,($O$1-1)*12)","v":404323},{"$f":"OFFSET(Balance!E46,0,($O$1-1)*12)","v":363729},{"$f":"OFFSET(Balance!F46,0,($O$1-1)*12)","v":"-"},{"$f":"OFFSET(Balance!G46,0,($O$1-1)*12)","v":"-"},{"$f":"OFFSET(Balance!H46,0,($O$1-1)*12)","v":"-"},{"$f":"OFFSET(Balance!I46,0,($O$1-1)*12)","v":"-"},{"$f":"OFFSET(Balance!J46,0,($O$1-1)*12)","v":"-"},{"$f":"OFFSET(Balance!K46,0,($O$1-1)*12)","v":"-"},{"$f":"OFFSET(Balance!L46,0,($O$1-1)*12)","v":"-"},{"$f":"OFFSET(Balance!M46,0,($O$1-1)*12)","v":"-"},{"$f":"OFFSET(Balance!N46,0,($O$1-1)*12)","v":"-"},{"$f":"SUM(O11:O13)","v":1224449}]
[null,"Ciclo combinado (2)",{"$f":"OFFSET(Balance!C47,0,($O$1-1)*12)","v":255129},{"$f":"OFFSET(Balance!D47,0,($O$1-1)*12)","v":234399},{"$f":"OFFSET(Balance!E47,0,($O$1-1)*12)","v":307706},{"$f":"OFFSET(Balance!F47,0,($O$1-1)*12)","v":"-"},{"$f":"OFFSET(Balance!G47,0,($O$1-1)*12)","v":"-"},{"$f":"OFFSET(Balance!H47,0,($O$1-1)*12)","v":"-"},{"$f":"OFFSET(Balance!I47,0,($O$1-1)*12)","v":"-"},{"$f":"OFFSET(Balance!J47,0,($O$1-1)*12)","v":"-"},{"$f":"OFFSET(Balance!K47,0,($O$1-1)*12)","v":"-"},{"$f":"OFFSET(Balance!L47,0,($O$1-1)*12)","v":"-"},{"$f":"OFFSET(Balance!M47,0,($O$1-1)*12)","v":"-"},{"$f":"OFFSET(Balance!N47,0,($O$1-1)*12)","v":"-"},797234]
[null,"Generación auxiliar (3)",{"$f":"OFFSET(Balance!C48,0,($O$1-1)*12)","v":0},{"$f":"OFFSET(Balance!D48,0,($O$1-1)*12)","v":0},{"$f":"OFFSET(Balance!E48,0,($O$1-1)*12)","v":0},{"$f":"OFFSET(Balance!F48,0,($O$1-1)*12)","v":"-"},{"$f":"OFFSET(Balance!G48,0,($O$1-1)*12)","v":"-"},{"$f":"OFFSET(Balance!H48,0,($O$1-1)*12)","v":"-"},{"$f":"OFFSET(Balance!I48,0,($O$1-1)*12)","v":"-"},{"$f":"OFFSET(Balance!J48,0,($O$1-1)*12)","v":"-"},{"$f":"OFFSET(Balance!K48,0,($O$1-1)*12)","v":"-"},{"$f":"OFFSET(Balance!L48,0,($O$1-1)*12)","v":"-"},{"$f":"OFFSET(Balance!M48,0,($O$1-1)*12)","v":"-"},{"$f":"OFFSET(Balance!N48,0,($O$1-1)*12)","v":"-"},"-"]
[null,"Régimen ordinario",{"$f":"OFFSET(Balance!C49,0,($O$1-1)*12)","v":0},{"$f":"OFFSET(Balance!D49,0,($O$1-1)*12)","v":0},{"$f":"OFFSET(Balance!E49,0,($O$1-1)*12)","v":0},{"$f":"OFFSET(Balance!F49,0,($O$1-1)*12)","v":0},{"$f":"OFFSET(Balance!G49,0,($O$1-1)*12)","v":0},{"$f":"OFFSET(Balance!H49,0,($O$1-1)*12)","v":0},{"$f":"OFFSET(Balance!I49,0,($O$1-1)*12)","v":0},{"$f":"OFFSET(Balance!J49,0,($O$1-1)*12)","v":0},{"$f":"OFFSET(Balance!K49,0,($O$1-1)*12)","v":0},{"$f":"OFFSET(Balance!L49,0,($O$1-1)*12)","v":0},{"$f":"OFFSET(Balance!M49,0,($O$1-1)*12)","v":0},{"$f":"OFFSET(Balance!N49,0,($O$1-1)*12)","v":0},{"$f":"SUM(O14:O16)","v":2021683}]
[null,"Consumos generación (4)",{"$f":"OFFSET(Balance!C50,0,($O$1-1)*12)","v":-37527},{"$f":"OFFSET(Balance!D50,0,($O$1-1)*12)","v":-33919},{"$f":"OFFSET(Balance!E50,0,($O$1-1)*12)","v":-29753},{"$f":"OFFSET(Balance!F50,0,($O$1-1)*12)","v":"-"},{"$f":"OFFSET(Balance!G50,0,($O$1-1)*12)","v":"-"},{"$f":"OFFSET(Balance!H50,0,($O$1-1)*12)","v":"-"},{"$f":"OFFSET(Balance!I50,0,($O$1-1)*12)","v":"-"},{"$f":"OFFSET(Balance!J50,0,($O$1-1)*12)","v":"-"},{"$f":"OFFSET(Balance!K50,0,($O$1-1)*12)","v":"-"},{"$f":"OFFSET(Balance!L50,0,($O$1-1)*12)","v":"-"},{"$f":"OFFSET(Balance!M50,0,($O$1-1)*12)","v":"-"},{"$f":"OFFSET(Balance!N50,0,($O$1-1)*12)","v":"-"},-101199]
[null,"Resto hidráulica",{"$f":"OFFSET(Balance!C51,0,($O$1-1)*12)","v":305},{"$f":"OFFSET(Balance!D51,0,($O$1-1)*12)","v":276},{"$f":"OFFSET(Balance!E51,0,($O$1-1)*12)","v":420},{"$f":"OFFSET(Balance!F51,0,($O$1-1)*12)","v":"-"},{"$f":"OFFSET(Balance!G51,0,($O$1-1)*12)","v":"-"},{"$f":"OFFSET(Balance!H51,0,($O$1-1)*12)","v":"-"},{"$f":"OFFSET(Balance!I51,0,($O$1-1)*12)","v":"-"},{"$f":"OFFSET(Balance!J51,0,($O$1-1)*12)","v":"-"},{"$f":"OFFSET(Balance!K51,0,($O$1-1)*12)","v":"-"},{"$f":"OFFSET(Balance!L51,0,($O$1-1)*12)","v":"-"},{"$f":"OFFSET(Balance!M51,0,($O$1-1)*12)","v":"-"},{"$f":"OFFSET(Balance!N51,0,($O$1-1)*12)","v":"-"},1001]
[null,"Eólica",{"$f":"OFFSET(Balance!C52,0,($O$1-1)*12)","v":30987},{"$f":"OFFSET(Balance!D52,0,($O$1-1)*12)","v":34303},{"$f":"OFFSET(Balance!E52,0,($O$1-1)*12)","v":45473},{"$f":"OFFSET(Balance!F52,0,($O$1-1)*12)","v":"-"},{"$f":"OFFSET(Balance!G52,0,($O$1-1)*12)","v":"-"},{"$f":"OFFSET(Balance!H52,0,($O$1-1)*12)","v":"-"},{"$f":"OFFSET(Balance!I52,0,($O$1-1)*12)","v":"-"},{"$f":"OFFSET(Balance!J52,0,($O$1-1)*12)","v":"-"},{"$f":"OFFSET(Balance!K52,0,($O$1-1)*12)","v":"-"},{"$f":"OFFSET(Balance!L52,0,($O$1-1)*12)","v":"-"},{"$f":"OFFSET(Balance!M52,0,($O$1-1)*12)","v":"-"},{"$f":"OFFSET(Balance!N52,0,($O$1-1)*12)","v":"-"},110763]
[null,"Solar fotovoltaica",{"$f":"OFFSET(Balance!C53,0,($O$1-1)*12)","v":18547},{"$f":"OFFSET(Balance!D53,0,($O$1-1)*12)","v":19879},{"$f":"OFFSET(Balance!E53,0,($O$1-1)*12)","v":26997.775000000001},{"$f":"OFFSET(Balance!F53,0,($O$1-1)*12)","v":"-"},{"$f":"OFFSET(Balance!G53,0,($O$1-1)*12)","v":"-"},{"$f":"OFFSET(Balance!H53,0,($O$1-1)*12)","v":"-"},{"$f":"OFFSET(Balance!I53,0,($O$1-1)*12)","v":"-"},{"$f":"OFFSET(Balance!J53,0,($O$1-1)*12)","v":"-"},{"$f":"OFFSET(Balance!K53,0,($O$1-1)*12)","v":"-"},{"$f":"OFFSET(Balance!L53,0,($O$1-1)*12)","v":"-"},{"$f":"OFFSET(Balance!M53,0,($O$1-1)*12)","v":"-"},{"$f":"OFFSET(Balance!N53,0,($O$1-1)*12)","v":"-"},65423.775000000001]
[null,"Térmica renovable",{"$f":"OFFSET(Balance!C54,0,($O$1-1)*12)","v":787},{"$f":"OFFSET(Balance!D54,0,($O$1-1)*12)","v":707},{"$f":"OFFSET(Balance!E54,0,($O$1-1)*12)","v":695},{"$f":"OFFSET(Balance!F54,0,($O$1-1)*12)","v":"-"},{"$f":"OFFSET(Balance!G54,0,($O$1-1)*12)","v":"-"},{"$f":"OFFSET(Balance!H54,0,($O$1-1)*12)","v":"-"},{"$f":"OFFSET(Balance!I54,0,($O$1-1)*12)","v":"-"},{"$f":"OFFSET(Balance!J54,0,($O$1-1)*12)","v":"-"},{"$f":"OFFSET(Balance!K54,0,($O$1-1)*12)","v":"-"},{"$f":"OFFSET(Balance!L54,0,($O$1-1)*12)","v":"-"},{"$f":"OFFSET(Balance!M54,0,($O$1-1)*12)","v":"-"},{"$f":"OFFSET(Balance!N54,0,($O$1-1)*12)","v":"-"},2189]
[null,"Cogeneración y resto",{"$f":"OFFSET(Balance!C55,0,($O$1-1)*12)","v":0},{"$f":"OFFSET(Balance!D55,0,($O$1-1)*12)","v":0},{"$f":"OFFSET(Balance!E55,0,($O$1-1)*12)","v":0},{"$f":"OFFSET(Balance!F55,0,($O$1-1)*12)","v":"-"},{"$f":"OFFSET(Balance!G55,0,($O$1-1)*12)","v":"-"},{"$f":"OFFSET(Balance!H55,0,($O$1-1)*12)","v":"-"},{"$f":"OFFSET(Balance!I55,0,($O$1-1)*12)","v":"-"},{"$f":"OFFSET(Balance!J55,0,($O$1-1)*12)","v":"-"},{"$f":"OFFSET(Balance!K55,0,($O$1-1)*12)","v":"-"},{"$f":"OFFSET(Balance!L55,0,($O$1-1)*12)","v":"-"},{"$f":"OFFSET(Balance!M55,0,($O$1-1)*12)","v":"-"},{"$f":"OFFSET(Balance!N55,0,($O$1-1)*12)","v":"-"},"-"]
[null,"Régimen especial",{"$f":"OFFSET(Balance!C56,0,($O$1-1)*12)","v":0},{"$f":"OFFSET(Balance!D56,0,($O$1-1)*12)","v":0},{"$f":"OFFSET(Balance!E56,0,($O$1-1)*12)","v":0},{"$f":"OFFSET(Balance!F56,0,($O$1-1)*12)","v":0},{"$f":"OFFSET(Balance!G56,0,($O$1-1)*12)","v":0},{"$f":"OFFSET(Balance!H56,0,($O$1-1)*12)","v":0},{"$f":"OFFSET(Balance!I56,0,($O$1-1)*12)","v":0},{"$f":"OFFSET(Balance!J56,0,($O$1-1)*12)","v":0},{"$f":"OFFSET(Balance!K56,0,($O$1-1)*12)","v":0},{"$f":"OFFSET(Balance!L56,0,($O$1-1)*12)","v":0},{"$f":"OFFSET(Balance!M56,0,($O$1-1)*12)","v":0},{"$f":"OFFSET(Balance!N56,0,($O$1-1)*12)","v":0},{"$f":"SUM(O19:O23)","v":179376.77499999999}]
[null,"Generación neta",{"$f":"OFFSET(Balance!C57,0,($O$1-1)*12)","v":724625},{"$f":"OFFSET(Balance!D57,0,($O$1-1)*12)","v":659968},{"$f":"OFFSET(Balance!E57,0,($O$1-1)*12)","v":715268},{"$f":"OFFSET(Balance!F57,0,($O$1-1)*12)","v":"-"},{"$f":"OFFSET(Balance!G57,0,($O$1-1)*12)","v":"-"},{"$f":"OFFSET(Balance!H57,0,($O$1-1)*12)","v":"-"},{"$f":"OFFSET(Balance!I57,0,($O$1-1)*12)","v":"-"},{"$f":"OFFSET(Balance!J57,0,($O$1-1)*12)","v":"-"},{"$f":"OFFSET(Balance!K57,0,($O$1-1)*12)","v":"-"},{"$f":"OFFSET(Balance!L57,0,($O$1-1)*12)","v":"-"},{"$f":"OFFSET(Balance!M57,0,($O$1-1)*12)","v":"-"},{"$f":"OFFSET(Balance!N57,0,($O$1-1)*12)","v":"-"},{"$f":"SUM(O17:O18,O24)","v":2099860.7749999999}]
[null,"Demanda transporte (b.c.)",{"$f":"OFFSET(Balance!C58,0,($O$1-1)*12)","v":724625},{"$f":"OFFSET(Balance!D58,0,($O$1-1)*12)","v":659968},{"$f":"OFFSET(Balance!E58,0,($O$1-1)*12)","v":715268},{"$f":"OFFSET(Balance!F58,0,($O$1-1)*12)","v":"-"},{"$f":"OFFSET(Balance!G58,0,($O$1-1)*12)","v":"-"},{"$f":"OFFSET(Balance!H58,0,($O$1-1)*12)","v":"-"},{"$f":"OFFSET(Balance!I58,0,($O$1-1)*12)","v":"-"},{"$f":"OFFSET(Balance!J58,0,($O$1-1)*12)","v":"-"},{"$f":"OFFSET(Balance!K58,0,($O$1-1)*12)","v":"-"},{"$f":"OFFSET(Balance!L58,0,($O$1-1)*12)","v":"-"},{"$f":"OFFSET(Balance!M58,0,($O$1-1)*12)","v":"-"},{"$f":"OFFSET(Balance!N58,0,($O$1-1)*12)","v":"-"},{"$f":"O25","v":2099860.7749999999}]
[null,"(1) Asignación de unidades de producción según combustible principal."]
[null,"(2) Utiliza fue y gasoil como combustible principal. Incluye funcionamiento en ciclo abierto."]
[null,"(3) Grupos de emergencia que se instalan de forma transitoria en determinadas zonas para cubrir un déficit de generación."]
[null,"(4) Consumos en generación correspondientes a la producción hidráulica, fuel+gas, ciclo combinado y generación auxiliar."]

{"sheet":"Balance Ceuta","index":4,"n_rows":18,"n_cols":15,"rows_kept":18,"cut":false,"hidden":false,"merged":[[16,1,16,14],[5,11,5,12],[17,1,17,14]]}
[null,null,null,null,null,null,null,null,null,null,null,null,null,null,8]
[]
[null,null,null,null,null,null,null,null,null,null,null,null,"www.ree.es"]
[null,null,null,null,null,null,null,null,null,null,null,null,"Fecha de actualización:",null,"2014-04-10"]
[]
[null,null,null,null,null,null,null,null,null,null,null,"Seleccione un año"]
[]
[null,null,"Ene.","Feb.","Mar.","Abr.","May.","Jun.","Jul.","Ago.","Sep.","Oct.","Nov.","Dic.",{"$f":"OFFSET(Año!B19,($O$1-1),0)","v":2014}]
[]
[null,"Motores diesel",{"$f":"OFFSET(Balance!C61,0,($O$1-1)*12)","v":20378},{"$f":"OFFSET(Balance!D61,0,($O$1-1)*12)","v":18663},{"$f":"OFFSET(Balance!E61,0,($O$1-1)*12)","v":19729},{"$f":"OFFSET(Balance!F61,0,($O$1-1)*12)","v":"-"},{"$f":"OFFSET(Balance!G61,0,($O$1-1)*12)","v":"-"},{"$f":"OFFSET(Balance!H61,0,($O$1-1)*12)","v":"-"},{"$f":"OFFSET(Balance!I61,0,($O$1-1)*12)","v":"-"},{"$f":"OFFSET(Balance!J61,0,($O$1-1)*12)","v":"-"},{"$f":"OFFSET(Balance!K61,0,($O$1-1)*12)","v":"-"},{"$f":"OFFSET(Balance!L61,0,($O$1-1)*12)","v":"-"},{"$f":"OFFSET(Balance!M61,0,($O$1-1)*12)","v":"-"},{"$f":"OFFSET(Balance!N61,0,($O$1-1)*12)","v":"-"},{"$f":"IF(SUM(C10:N10)=0,\"-\",SUM(C10:N10))","v":58770}]
[null,"Turbina de gas",{"$f":"OFFSET(Balance!C62,0,($O$1-1)*12)","v":3},{"$f":"OFFSET(Balance!D62,0,($O$1-1)*12)","v":0},{"$f":"OFFSET(Balance!E62,0,($O$1-1)*12)","v":83},{"$f":"OFFSET(Balance!F62,0,($O$1-1)*12)","v":"-"},{"$f":"OFFSET(Balance!G62,0,($O$1-1)*12)","v":"-"},{"$f":"OFFSET(Balance!H62,0,($O$1-1)*12)","v":"-"},{"$f":"OFFSET(Balance!I62,0,($O$1-1)*12)","v":"-"},{"$f":"OFFSET(Balance!J62,0,($O$1-1)*12)","v":"-"},{"$f":"OFFSET(Balance!K62,0,($O$1-1)*12)","v":"-"},{"$f":"OFFSET(Balance!L62,0,($O$1-1)*12)","v":"-"},{"$f":"OFFSET(Balance!M62,0,($O$1-1)*12)","v":"-"},{"$f":"OFFSET(Balance!N62,0,($O$1-1)*12)","v":"-"},86]
[null,"Fuel + Gas",{"$f":"OFFSET(Balance!C63,0,($O$1-1)*12)","v":20381},{"$f":"OFFSET(Balance!D63,0,($O$1-1)*12)","v":18663},{"$f":"OFFSET(Balance!E63,0,($O$1-1)*12)","v":19812},{"$f":"OFFSET(Balance!F63,0,($O$1-1)*12)","v":"-"},{"$f":"OFFSET(Balance!G63,0,($O$1-1)*12)","v":"-"},{"$f":"OFFSET(Balance!H63,0,($O$1-1)*12)","v":"-"},{"$f":"OFFSET(Balance!I63,0,($O$1-1)*12)","v":"-"},{"$f":"OFFSET(Balance!J63,0,($O$1-1)*12)","v":"-"},{"$f":"OFFSET(Balance!K63,0,($O$1-1)*12)","v":"-"},{"$f":"OFFSET(Balance!L63,0,($O$1-1)*12)","v":"-"},{"$f":"OFFSET(Balance!M63,0,($O$1-1)*12)","v":"-"},{"$f":"OFFSET(Balance!N63,0,($O$1-1)*12)","v":"-"},{"$f":"SUM(O10:O11)","v":58856}]
[null,"Régimen ordinario",{"$f":"OFFSET(Balance!C64,0,($O$1-1)*12)","v":0},{"$f":"OFFSET(Balance!D64,0,($O$1-1)*12)","v":0},{"$f":"OFFSET(Balance!E64,0,($O$1-1)*12)","v":0},{"$f":"OFFSET(Balance!F64,0,($O$1-1)*12)","v":0},{"$f":"OFFSET(Balance!G64,0,($O$1-1)*12)","v":0},{"$f":"OFFSET(Balance!H64,0,($O$1-1)*12)","v":0},{"$f":"OFFSET(Balance!I64,0,($O$1-1)*12)","v":0},{"$f":"OFFSET(Balance!J64,0,($O$1-1)*12)","v":0},{"$f":"OFFSET(Balance!K64,0,($O$1-1)*12)","v":0},{"$f":"OFFSET(Balance!L64,0,($O$1-1)*12)","v":0},{"$f":"OFFSET(Balance!M64,0,($O$1-1)*12)","v":0},{"$f":"OFFSET(Balance!N64,0,($O$1-1)*12)","v":0},{"$f":"SUM(O12)","v":58856}]
[null,"Consumos generación (2)",{"$f":"OFFSET(Balance!C65,0,($O$1-1)*12)","v":-1575},{"$f":"OFFSET(Balance!D65,0,($O$1-1)*12)","v":-1447},{"$f":"OFFSET(Balance!E65,0,($O$1-1)*12)","v":-1171},{"$f":"OFFSET(Balance!F65,0,($O$1-1)*12)","v":"-"},{"$f":"OFFSET(Balance!G65,0,($O$1-1)*12)","v":"-"},{"$f":"OFFSET(Balance!H65,0,($O$1-1)*12)","v":"-"},{"$f":"OFFSET(Balance!I65,0,($O$1-1)*12)","v":"-"},{"$f":"OFFSET(Balance!J65,0,($O$1-1)*12)","v":"-"},{"$f":"OFFSET(Balance!K65,0,($O$1-1)*12)","v":"-"},{"$f":"OFFSET(Balance!L65,0,($O$1-1)*12)","v":"-"},{"$f":"OFFSET(Balance!M65,0,($O$1-1)*12)","v":"-"},{"$f":"OFFSET(Balance!N65,0,($O$1-1)*12)","v":"-"},-4193]
[null,"Generación neta",{"$f":"OFFSET(Balance!C66,0,($O$1-1)*12)","v":18806},{"$f":"OFFSET(Balance!D66,0,($O$1-1)*12)","v":17216},{"$f":"OFFSET(Balance!E66,0,($O$1-1)*12)","v":18641},{"$f":"OFFSET(Balance!F66,0,($O$1-1)*12)","v":"-"},{"$f":"OFFSET(Balance!G66,0,($O$1-1)*12)","v":"-"},{"$f":"OFFSET(Balance!H66,0,($O$1-1)*12)","v":"-"},{"$f":"OFFSET(Balance!I66,0,($O$1-1)*12)","v":"-"},{"$f":"OFFSET(Balance!J66,0,($O$1-1)*12)","v":"-"},{"$f":"OFFSET(Balance!K66,0,($O$1-1)*12)","v":"-"},{"$f":"OFFSET(Balance!L66,0,($O$1-1)*12)","v":"-"},{"$f":"OFFSET(Balance!M66,0,($O$1-1)*12)","v":"-"},{"$f":"OFFSET(Balance!N66,0,($O$1-1)*12)","v":"-"},{"$f":"SUM(O13:O14)","v":54663}]
[null,"Demanda transporte (b.c.)",{"$f":"OFFSET(Balance!C67,0,($O$1-1)*12)","v":18806},{"$f":"OFFSET(Balance!D67,0,($O$1-1)*12)","v":17216},{"$f":"OFFSET(Balance!E67,0,($O$1-1)*12)","v":18641},{"$f":"OFFSET(Balance!F67,0,($O$1-1)*12)","v":"-"},{"$f":"OFFSET(Balance!G67,0,($O$1-1)*12)","v":"-"},{"$f":"OFFSET(Balance!H67,0,($O$1-1)*12)","v":"-"},{"$f":"OFFSET(Balance!I67,0,($O$1-1)*12)","v":"-"},{"$f":"OFFSET(Balance!J67,0,($O$1-1)*12)","v":"-"},{"$f":"OFFSET(Balance!K67,0,($O$1-1)*12)","v":"-"},{"$f":"OFFSET(Balance!L67,0,($O$1-1)*12)","v":"-"},{"$f":"OFFSET(Balance!M67,0,($O$1-1)*12)","v":"-"},{"$f":"OFFSET(Balance!N67,0,($O$1-1)*12)","v":"-"},{"$f":"O15","v":54663}]
[null,"(1) Asignación de unidades de producción según combustible principal."]
[null,"(2) Consumos en generación correspondientes a la producción con carbón, fuel+gas, ciclo combinado y generación auxiliar."]

{"sheet":"Balance Melilla","index":5,"n_rows":21,"n_cols":15,"rows_kept":21,"cut":false,"hidden":false,"merged":[[19,1,19,14],[5,11,5,12],[20,1,20,14]]}
[null,null,null,null,null,null,null,null,null,null,null,null,null,null,8]
[]
[null,null,null,null,null,null,null,null,null,null,null,null,"www.ree.es"]
[null,null,null,null,null,null,null,null,null,null,null,null,"Fecha de actualización:",null,"2014-04-10"]
[]
[null,null,null,null,null,null,null,null,null,null,null,"Seleccione un año"]
[]
[null,null,"Ene.","Feb.","Mar.","Abr.","May.","Jun.","Jul.","Ago.","Sep.","Oct.","Nov.","Dic.",{"$f":"OFFSET(Año!B19,($O$1-1),0)","v":2014}]
[]
[null,"Motores diesel",{"$f":"OFFSET(Balance!C70,0,($O$1-1)*12)","v":18284},{"$f":"OFFSET(Balance!D70,0,($O$1-1)*12)","v":16212},{"$f":"OFFSET(Balance!E70,0,($O$1-1)*12)","v":17756},{"$f":"OFFSET(Balance!F70,0,($O$1-1)*12)","v":"-"},{"$f":"OFFSET(Balance!G70,0,($O$1-1)*12)","v":"-"},{"$f":"OFFSET(Balance!H70,0,($O$1-1)*12)","v":"-"},{"$f":"OFFSET(Balance!I70,0,($O$1-1)*12)","v":"-"},{"$f":"OFFSET(Balance!J70,0,($O$1-1)*12)","v":"-"},{"$f":"OFFSET(Balance!K70,0,($O$1-1)*12)","v":"-"},{"$f":"OFFSET(Balance!L70,0,($O$1-1)*12)","v":"-"},{"$f":"OFFSET(Balance!M70,0,($O$1-1)*12)","v":"-"},{"$f":"OFFSET(Balance!N70,0,($O$1-1)*12)","v":"-"},{"$f":"IF(SUM(C10:N10)=0,\"-\",SUM(C10:N10))","v":52252}]
[null,"Turbina de gas",{"$f":"OFFSET(Balance!C71,0,($O$1-1)*12)","v":3},{"$f":"OFFSET(Balance!D71,0,($O$1-1)*12)","v":47},{"$f":"OFFSET(Balance!E71,0,($O$1-1)*12)","v":5},{"$f":"OFFSET(Balance!F71,0,($O$1-1)*12)","v":"-"},{"$f":"OFFSET(Balance!G71,0,($O$1-1)*12)","v":"-"},{"$f":"OFFSET(Balance!H71,0,($O$1-1)*12)","v":"-"},{"$f":"OFFSET(Balance!I71,0,($O$1-1)*12)","v":"-"},{"$f":"OFFSET(Balance!J71,0,($O$1-1)*12)","v":"-"},{"$f":"OFFSET(Balance!K71,0,($O$1-1)*12)","v":"-"},{"$f":"OFFSET(Balance!L71,0,($O$1-1)*12)","v":"-"},{"$f":"OFFSET(Balance!M71,0,($O$1-1)*12)","v":"-"},{"$f":"OFFSET(Balance!N71,0,($O$1-1)*12)","v":"-"},55]
[null,"Fuel + Gas",{"$f":"OFFSET(Balance!C72,0,($O$1-1)*12)","v":18287},{"$f":"OFFSET(Balance!D72,0,($O$1-1)*12)","v":16259},{"$f":"OFFSET(Balance!E72,0,($O$1-1)*12)","v":17761},{"$f":"OFFSET(Balance!F72,0,($O$1-1)*12)","v":"-"},{"$f":"OFFSET(Balance!G72,0,($O$1-1)*12)","v":"-"},{"$f":"OFFSET(Balance!H72,0,($O$1-1)*12)","v":"-"},{"$f":"OFFSET(Balance!I72,0,($O$1-1)*12)","v":"-"},{"$f":"OFFSET(Balance!J72,0,($O$1-1)*12)","v":"-"},{"$f":"OFFSET(Balance!K72,0,($O$1-1)*12)","v":"-"},{"$f":"OFFSET(Balance!L72,0,($O$1-1)*12)","v":"-"},{"$f":"OFFSET(Balance!M72,0,($O$1-1)*12)","v":"-"},{"$f":"OFFSET(Balance!N72,0,($O$1-1)*12)","v":"-"},{"$f":"SUM(O10:O11)","v":52307}]
[null,"Régimen ordinario",{"$f":"OFFSET(Balance!C73,0,($O$1-1)*12)","v":0},{"$f":"OFFSET(Balance!D73,0,($O$1-1)*12)","v":0},{"$f":"OFFSET(Balance!E73,0,($O$1-1)*12)","v":0},{"$f":"OFFSET(Balance!F73,0,($O$1-1)*12)","v":0},{"$f":"OFFSET(Balance!G73,0,($O$1-1)*12)","v":0},{"$f":"OFFSET(Balance!H73,0,($O$1-1)*12)","v":0},{"$f":"OFFSET(Balance!I73,0,($O$1-1)*12)","v":0},{"$f":"OFFSET(Balance!J73,0,($O$1-1)*12)","v":0},{"$f":"OFFSET(Balance!K73,0,($O$1-1)*12)","v":0},{"$f":"OFFSET(Balance!L73,0,($O$1-1)*12)","v":0},{"$f":"OFFSET(Balance!M73,0,($O$1-1)*12)","v":0},{"$f":"OFFSET(Balance!N73,0,($O$1-1)*12)","v":0},{"$f":"SUM(O12)","v":52307}]
[null,"Consumos generación (2)",{"$f":"OFFSET(Balance!C74,0,($O$1-1)*12)","v":-1165},{"$f":"OFFSET(Balance!D74,0,($O$1-1)*12)","v":-1014},{"$f":"OFFSET(Balance!E74,0,($O$1-1)*12)","v":-1049},{"$f":"OFFSET(Balance!F74,0,($O$1-1)*12)","v":"-"},{"$f":"OFFSET(Balance!G74,0,($O$1-1)*12)","v":"-"},{"$f":"OFFSET(Balance!H74,0,($O$1-1)*12)","v":"-"},{"$f":"OFFSET(Balance!I74,0,($O$1-1)*12)","v":"-"},{"$f":"OFFSET(Balance!J74,0,($O$1-1)*12)","v":"-"},{"$f":"OFFSET(Balance!K74,0,($O$1-1)*12)","v":"-"},{"$f":"OFFSET(Balance!L74,0,($O$1-1)*12)","v":"-"},{"$f":"OFFSET(Balance!M74,0,($O$1-1)*12)","v":"-"},{"$f":"OFFSET(Balance!N74,0,($O$1-1)*12)","v":"-"},-3228]
[null,"Solar fotovoltaica",{"$f":"OFFSET(Balance!C75,0,($O$1-1)*12)","v":0},{"$f":"OFFSET(Balance!D75,0,($O$1-1)*12)","v":0},{"$f":"OFFSET(Balance!E75,0,($O$1-1)*12)","v":0},{"$f":"OFFSET(Balance!F75,0,($O$1-1)*12)","v":"-"},{"$f":"OFFSET(Balance!G75,0,($O$1-1)*12)","v":"-"},{"$f":"OFFSET(Balance!H75,0,($O$1-1)*12)","v":"-"},{"$f":"OFFSET(Balance!I75,0,($O$1-1)*12)","v":"-"},{"$f":"OFFSET(Balance!J75,0,($O$1-1)*12)","v":"-"},{"$f":"OFFSET(Balance!K75,0,($O$1-1)*12)","v":"-"},{"$f":"OFFSET(Balance!L75,0,($O$1-1)*12)","v":"-"},{"$f":"OFFSET(Balance!M75,0,($O$1-1)*12)","v":"-"},{"$f":"OFFSET(Balance!N75,0,($O$1-1)*12)","v":"-"},"-"]
[null,"Cogeneración y resto",{"$f":"OFFSET(Balance!C76,0,($O$1-1)*12)","v":818},{"$f":"OFFSET(Balance!D76,0,($O$1-1)*12)","v":739},{"$f":"OFFSET(Balance!E76,0,($O$1-1)*12)","v":816},{"$f":"OFFSET(Balance!F76,0,($O$1-1)*12)","v":"-"},{"$f":"OFFSET(Balance!G76,0,($O$1-1)*12)","v":"-"},{"$f":"OFFSET(Balance!H76,0,($O$1-1)*12)","v":"-"},{"$f":"OFFSET(Balance!I76,0,($O$1-1)*12)","v":"-"},{"$f":"OFFSET(Balance!J76,0,($O$1-1)*12)","v":"-"},{"$f":"OFFSET(Balance!K76,0,($O$1-1)*12)","v":"-"},{"$f":"OFFSET(Balance!L76,0,($O$1-1)*12)","v":"-"},{"$f":"OFFSET(Balance!M76,0,($O$1-1)*12)","v":"-"},{"$f":"OFFSET(Balance!N76,0,($O$1-1)*12)","v":"-"},2373]
[null,"Régimen especial",{"$f":"OFFSET(Balance!C77,0,($O$1-1)*12)","v":818},{"$f":"OFFSET(Balance!D77,0,($O$1-1)*12)","v":739},{"$f":"OFFSET(Balance!E77,0,($O$1-1)*12)","v":816},{"$f":"OFFSET(Balance!F77,0,($O$1-1)*12)","v":0},{"$f":"OFFSET(Balance!G77,0,($O$1-1)*12)","v":0},{"$f":"OFFSET(Balance!H77,0,($O$1-1)*12)","v":0},{"$f":"OFFSET(Balance!I77,0,($O$1-1)*12)","v":0},{"$f":"OFFSET(Balance!J77,0,($O$1-1)*12)","v":0},{"$f":"OFFSET(Balance!K77,0,($O$1-1)*12)","v":0},{"$f":"OFFSET(Balance!L77,0,($O$1-1)*12)","v":0},{"$f":"OFFSET(Balance!M77,0,($O$1-1)*12)","v":0},{"$f":"OFFSET(Balance!N77,0,($O$1-1)*12)","v":0},{"$f":"SUM(O15:O16)","v":2373}]
[null,"Generación neta",{"$f":"OFFSET(Balance!C78,0,($O$1-1)*12)","v":17940},{"$f":"OFFSET(Balance!D78,0,($O$1-1)*12)","v":15984},{"$f":"OFFSET(Balance!E78,0,($O$1-1)*12)","v":17528},{"$f":"OFFSET(Balance!F78,0,($O$1-1)*12)","v":"-"},{"$f":"OFFSET(Balance!G78,0,($O$1-1)*12)","v":"-"},{"$f":"OFFSET(Balance!H78,0,($O$1-1)*12)","v":"-"},{"$f":"OFFSET(Balance!I78,0,($O$1-1)*12)","v":"-"},{"$f":"OFFSET(Balance!J78,0,($O$1-1)*12)","v":"-"},{"$f":"OFFSET(Balance!K78,0,($O$1-1)*12)","v":"-"},{"$f":"OFFSET(Balance!L78,0,($O$1-1)*12)","v":"-"},{"$f":"OFFSET(Balance!M78,0,($O$1-1)*12)","v":"-"},{"$f":"OFFSET(Balance!N78,0,($O$1-1)*12)","v":"-"},{"$f":"SUM(O13:O14,O17)","v":51452}]
[null,"Demanda transporte (b.c.)",{"$f":"OFFSET(Balance!C79,0,($O$1-1)*12)","v":17940},{"$f":"OFFSET(Balance!D79,0,($O$1-1)*12)","v":15984},{"$f":"OFFSET(Balance!E79,0,($O$1-1)*12)","v":17528},{"$f":"OFFSET(Balance!F79,0,($O$1-1)*12)","v":"-"},{"$f":"OFFSET(Balance!G79,0,($O$1-1)*12)","v":"-"},{"$f":"OFFSET(Balance!H79,0,($O$1-1)*12)","v":"-"},{"$f":"OFFSET(Balance!I79,0,($O$1-1)*12)","v":"-"},{"$f":"OFFSET(Balance!J79,0,($O$1-1)*12)","v":"-"},{"$f":"OFFSET(Balance!K79,0,($O$1-1)*12)","v":"-"},{"$f":"OFFSET(Balance!L79,0,($O$1-1)*12)","v":"-"},{"$f":"OFFSET(Balance!M79,0,($O$1-1)*12)","v":"-"},{"$f":"OFFSET(Balance!N79,0,($O$1-1)*12)","v":"-"},{"$f":"O18","v":51452}]
[null,"(1) Asignación de unidades de producción según combustible principal."]
[null,"(2) Consumos en generación correspondientes a la producción con carbón, fuel+gas, ciclo combinado y generación auxiliar."]

{"sheet":"Balance","index":6,"n_rows":79,"n_cols":302,"rows_kept":79,"cut":false,"hidden":true,"merged":[]}
[]
[null,"Balance eléctrico peninsular (GWh)","1990-01-01","1990-02-01","1990-03-01","1990-04-01","1990-05-01","1990-06-01","1990-07-01","1990-08-01","1990-09-01","1990-10-01","1990-11-01","1990-12-01","1991-01-01","1991-02-01","1991-03-01","1991-04-01","1991-05-01","1991-06-01","1991-07-01","1991-08-01","1991-09-01","1991-10-01","1991-11-01","1991-12-01","1992-01-01","1992-02-01","1992-03-01","1992-04-01","1992-05-01","1992-06-01","1992-07-01","1992-08-01","1992-09-01","1992-10-01","1992-11-01","1992-12-01","1993-01-01","1993-02-01","1993-03-01","1993-04-01","1993-05-01","1993-06-01","1993-07-01","1993-08-01","1993-09-01","1993-10-01","1993-11-01","1993-12-01","1994-01-01","1994-02-01","1994-03-01","1994-04-01","1994-05-01","1994-06-01","1994-07-01","1994-08-01","1994-09-01","1994-10-01","1994-11-01","1994-12-01","1995-01-01","1995-02-01","1995-03-01","1995-04-01","1995-05-01","1995-06-01","1995-07-01","1995-08-01","1995-09-01","1995-10-01","1995-11-01","1995-12-01","1996-01-01","1996-02-01","1996-03-01","1996-04-01","1996-05-01","1996-06-01","1996-07-01","1996-08-01","1996-09-01","1996-10-01","1996-11-01","1996-12-01","1997-01-01","1997-02-01","1997-03-01","1997-04-01","1997-05-01","1997-06-01","1997-07-01","1997-08-01","1997-09-01","1997-10-01","1997-11-01","1997-12-01","1998-01-01","1998-02-01","1998-03-01","1998-04-01","1998-05-01","1998-06-01","1998-07-01","1998-08-01","1998-09-01","1998-10-01","1998-11-01","1998-12-01","1999-01-01","1999-02-01","1999-03-01","1999-04-01","1999-05-01","1999-06-01","1999-07-01","1999-08-01","1999-09-01","1999-10-01","1999-11-01","1999-12-01","2000-01-01","2000-02-01","2000-03-01","2000-04-01","2000-05-01","2000-06-01","2000-07-01","2000-08-01","2000-09-01","2000-10-01","2000-11-01","2000-12-01","2001-01-01","2001-02-01","2001-03-01","2001-04-01","2001-05-01","2001-06-01","2001-07-01","2001-08-01","2001-09-01","2001-10-01","2001-11-01","2001-12-01","2002-01-01","2002-02-01","2002-03-01","2002-04-01","2002-05-01","2002-06-01","2002-07-01","2002-08-01","2002-09-01","2002-10-01","2002-11-01","2002-12-01","2003-01-01","2003-02-01","2003-03-01","2003-04-01","2003-05-01","2003-06-01","2003-07-01","2003-08-01","2003-09-01","2003-10-01","2003-11-01","2003-12-01","2004-01-01","2004-02-01","2004-03-01","2004-04-01","2004-05-01","2004-06-01","2004-07-01","2004-08-01","2004-09-01","2004-10-01","2004-11-01","2004-12-01","2005-01-01","2005-02-01","2005-03-01","2005-04-01","2005-05-01","2005-06-01","2005-07-01","2005-08-01","2005-09-01","2005-10-01","2005-11-01","2005-12-01","2006-01-01","2006-02-01","2006-03-01","2006-04-01","2006-05-01","2006-06-01","2006-07-01","2006-08-01","2006-09-01","2006-10-01","2006-11-01","2006-12-01","2007-01-01","2007-02-01","2007-03-01","2007-04-01","2007-05-01","2007-06-01","2007-07-01","2007-08-01","2007-09-01","2007-10-01","2007-11-01","2007-12-01","2008-01-01","2008-02-01","2008-03-01","2008-04-01","2008-05-01","2008-06-01","2008-07-01","2008-08-01","2008-09-01","2008-10-01","2008-11-01","2008-12-01","2009-01-01","2009-02-01","2009-03-01","2009-04-01","2009-05-01","2009-06-01","2009-07-01","2009-08-01","2009-09-01","2009-10-01","2009-11-01","2009-12-01","2010-01-01","2010-02-01","2010-03-01","2010-04-01","2010-05-01","2010-06-01","2010-07-01","2010-08-01","2010-09-01","2010-10-01","2010-11-01","2010-12-01","2011-01-01","2011-02-01","2011-03-01","2011-04-01","2011-05-01","2011-06-01","2011-07-01","2011-08-01","2011-09-01","2011-10-01","2011-11-01","2011-12-01","2012-01-01","2012-02-01","2012-03-01","2012-04-01","2012-05-01","2012-06-01","2012-07-01","2012-08-01","2012-09-01","2012-10-01","2012-11-01","2012-12-01","2013-01-01","2013-02-01","2013-03-01","2013-04-01","2013-05-01","2013-06-01","2013-07-01","2013-08-01","2013-09-01","2013-10-01","2013-11-01","2013-12-01","2014-01-01","2014-02-01","2014-03-01","2014-04-01","2014-05-01","2014-06-01","2014-07-01","2014-08-01","2014-09-01","2014-10-01","2014-11-01","2014-12-01"]
[null,"Hidráulica",4019.4850000000001,3371.6179999999999,2435.9369999999999,1713.703,1835.4960000000001,1800.2819999999999,1588.796,1222.68,1307.482,1479.923,1939.931,1994.7270000000001,2699.0709999999999,2105.538,3797.703,3381.1179999999999,2757.395,2063.8670000000002,1690.768,1125.643,1146.749,1547.7529999999999,2019.348,1883.1489999999999,1462.837,843.57299999999998,836.43899999999996,1637.47,1479.472,1614.3219999999999,1729.7750000000001,1248.606,1337.4259999999999,1917.5989999999999,2170.6350000000002,2761.5349999999999,2103.8290000000002,1491.069,1444.2270000000001,1141.4870000000001,1851.328,2162.8629999999998,1871.201,1299.8240000000001,1273.9110000000001,2814.2890000000002,3370.8110000000001,2577.181,3758.3580000000002,2990.2379999999998,2597.6590000000001,2227.6190000000001,2456.3649999999998,2312.3069999999998,1822.723,1273.675,1285.3030000000001,1525.1489999999999,2188.096,1785.14,2721.0230000000001,2526.5450000000001,3058.663,1854.288,1684.1420000000001,1721.0719999999999,1635.5319999999999,1108.807,943.34,1012.585,1235.375,2427.8209999999999,5937.2020000000002,5379.4290000000001,3345.0520000000001,3475.2159999999999,3619.721,2787.37,2197.1709999999998,1449.0940000000001,1684.998,1684.64,2094.4369999999999,4000.5030000000002,5453.7830000000004,3259.6550000000002,2490.6590000000001,2181.0120000000002,2121.3789999999999,2231.924,1960.299,1710.8779999999999,1612.8430000000001,1475.3119999999999,3400.5219999999999,5248.1559999999999,5704.4160000000002,3860.7829999999999,2535.2109999999998,3323.547,3865.67,3281.5729999999999,2555.7170000000001,2131.2170000000001,1850.5709999999999,1932.376,1510.2090000000001,1411.3630000000001,1458.3150000000001,1339.1020000000001,1855.825,2030.674,2685.288,2389.018,1933.4359999999999,1481.5940000000001,1596.4359999999999,1838.979,2730.1370000000002,2790.6149999999998,2544.4879999999998,1596.335,1564.165,2192.9850000000001,3342.8339999999998,2267.8020000000001,1741.932,1748.7460000000001,1879.2360000000001,1786.365,2484.8780000000002,4663.8239999999996,6277.0169999999998,5633.2830000000004,6426.9560000000001,4136.4459999999999,3152.4589999999998,2436.63,2023.886,1950.769,1596.124,1853.624,2068.797,1842.277,1573.5540000000001,1292.127,1912.289,1869.1479999999999,1990.059,2076.962,1658.874,1271.203,1284.4929999999999,1374.3969999999999,2058.8490000000002,4238.6090000000004,5552.8620000000001,4295.1850000000004,4380.38,3588.6329999999998,3438.1610000000001,2345.5729999999999,2037.0070000000001,1614.279,1790.5260000000001,2005.163,3082.5259999999998,4743.4030000000002,3522.0129999999999,3194.33,2955.0189999999998,2752.433,3100.0549999999998,2681.4679999999998,2094.3009999999999,1799.5119999999999,1634.355,1821.385,2336.366,1864.8140000000001,1623.336,1570.037,1792.9939999999999,1983.442,2227.7280000000001,1993.5319999999999,1570.316,1269.2909999999999,1044.721,997.57299999999998,1369.4259999999999,1726.934,1679.1959999999999,1277.068,2748.4279999999999,2464.165,2020.3589999999999,1538.4179999999999,1666.3869999999999,1158.239,1313.144,1725.796,3001.9450000000002,4737.0919999999996,2206.88,2839.0039999999999,3700.2139999999999,2560.7779999999998,2620.654,2165.2849999999999,2417.9490000000001,1800.336,1453.653,1771.614,1443.6869999999999,1371.8309999999999,1378.2070000000001,1042.346,1077.7570000000001,2344.817,2982.663,2846.6460000000002,2020.7180000000001,1441.0519999999999,1291.4770000000001,1139.7,1512.7940000000001,2350.0239999999999,2150.0300000000002,3197.6970000000001,2492.817,1926.912,2228.7579999999998,1861.903,1590.43,1362.1610000000001,948.49099999999999,1247.742,1864.6189999999999,2990.6689999999999,4992.7030000000004,3876.7379999999998,5462.6589999999997,4284.5550000000003,3406.1930000000002,3153.1819999999998,2701.7249999999999,1880.163,1430.318,1548.35,2300.8629999999998,3615.4180000000001,4786.0540000000001,2693.6309999999999,3452.0889999999999,3185.0839999999998,2446.7429999999999,1784.0630000000001,1399.58,1367.316,1142.4079999999999,1292.8969999999999,1977.4870000000001,2043.796,1634.34,1178.9949999999999,1273.6130000000001,1605.5160000000001,2147.4059999999999,1888.944,1552.2239999999999,1345.6369999999999,1123.5830000000001,1422.43,1874.6859999999999,2407.3519999999999,2752.0859999999998,3242.6309999999999,4281.2640000000001,4964.1059999999998,3322.1790000000001,2793.9319999999998,2388.4259999999999,1926.21,1684.0440000000001,1759.9590000000001,2553.799,2301.6480000000001,3955.5709999999999,5426.8620000000001,4952.13,"-","-","-","-","-","-","-","-","-"]
[null,"Nuclear",5413.8239999999996,4528.4139999999998,4455.5420000000004,4767.9719999999998,4073.741,3509.64,4443.8019999999997,5010.2079999999996,4103.0860000000002,3870.0329999999999,4712.4260000000004,5376.0940000000001,5329.0810000000001,4581.6639999999998,4257.9620000000004,4183.2470000000003,4758.5469999999996,4431.8090000000002,4652.5709999999999,5169.9229999999998,4478.7960000000003,4662.1139999999996,4386.0460000000003,4686.1459999999997,5419.7340000000004,4589.2510000000002,4219.2910000000002,3619.6190000000001,4251.5820000000003,4501.1909999999998,4971.29,5164.7160000000003,4226.7659999999996,5024.375,4372.0510000000004,5422.6620000000003,5417.3980000000001,4340.6080000000002,4877.1819999999998,4244.4709999999995,4070.3560000000002,4381.5829999999996,4953.1189999999997,5055.4009999999998,4586.49,4697.5860000000002,4211.63,5223.6009999999997,5098.6819999999998,4132.9430000000002,4075.8209999999999,4358.9849999999997,4738.4849999999997,4131.8490000000002,4786.08,5235.6769999999997,5081.1549999999997,4232.57,4153.7730000000001,5287.6440000000002,5352.7049999999999,4582.7650000000003,4639.5039999999999,4316.8590000000004,4959.174,4713.1769999999997,4316.634,4332.1239999999998,3987.1660000000002,4387.4350000000004,4465.8249999999998,5391.4030000000002,5401.692,4925.1779999999999,5023.4359999999997,4628.5469999999996,5324.3339999999998,3941.7939999999999,3836.9589999999998,3841.279,4061.114,5051.9470000000001,4763.4750000000004,5529.3329999999996,5230.67,4588.009,3842.0740000000001,4231.0349999999999,5209.8869999999997,4790.7209999999995,4943.0020000000004,4861.5820000000003,4357.7579999999998,4247.7749999999996,4403.8410000000003,4591.3180000000002,5063.46,5058.5810000000001,4644.4399999999996,4396.6660000000002,4826.6480000000001,5131.2510000000002,5523.2489999999998,5528.9179999999997,4731.08,4424.5870000000004,4644.4790000000003,5029.1760000000004,5395.6679999999997,4093.94,4175.665,3673.9650000000001,5107.1130000000003,4722.7669999999998,4900.9390000000003,5456.1989999999996,4923.6540000000005,5303.8239999999996,5494.5559999999996,5603.9709999999995,5684.8239999999996,5339.1890000000003,5177.2139999999999,4666.5510000000004,5099.009,5470.3180000000002,5611.1570000000002,5243.143,4221.5349999999999,4617.4639999999999,5288.3180000000002,5787.6710000000003,5733.14,4984.0559999999996,4883.009,4766.5469999999996,5752.21,5339.991,5683.6760000000004,5559.9229999999998,4918.1769999999997,4966.5249999999996,5404.6180000000004,5716.1360000000004,5769.2920000000004,4998.6260000000002,4411.5529999999999,4413.4660000000003,4981.5529999999999,5281.8119999999999,5717.326,5595.4979999999996,4788.8969999999999,5634.9589999999998,5604.31,5818.366,5743.9610000000002,5148.232,4876.1880000000001,4880.7460000000001,5000.7820000000002,4659.6949999999997,5652.2340000000004,5556.06,4338.2359999999999,4743.0739999999996,5531.6760000000004,5744.4260000000004,5691.77,5346.5749999999998,5150.5410000000002,5327.8440000000001,5039.9629999999997,5376.3869999999997,5758.75,5643.8370000000004,4917.357,4673.3720000000003,5293.9709999999995,5385.8909999999996,5819.7830000000004,5102.3209999999999,4617.4530000000004,3956.2330000000002,3800.567,3971.9070000000002,4088.6219999999998,4740.741,5363.3729999999996,4934.1610000000001,5419.9629999999997,5723.4970000000003,5660.5389999999998,5105.3509999999997,5304.1629999999996,3714.1019999999999,4506.4870000000001,5078.1019999999999,5022.9539999999997,5420.2579999999998,4523.2650000000003,4856.5680000000002,5312.5280000000002,5621.8040000000001,5566.8159999999998,4985.4340000000002,5165.5420000000004,4541.9139999999998,3650.125,3303.991,4049.712,4177.5370000000003,5113.5060000000003,5125.2370000000001,4117.4759999999997,5305.18,5569.3010000000004,5355.3940000000002,5598.5050000000001,4204.4989999999998,4899.366,4791.6620000000003,4759.0929999999998,5240.3599999999997,4677.4030000000002,4501.4260000000004,4217.47,5158.9369999999999,5665.3270000000002,4506.6459999999997,4089.0169999999998,4231.8069999999998,3854.89,3694.7280000000001,4184.4679999999998,5506.5749999999998,4575.317,4132.1850000000004,4160.6769999999997,4159.4070000000002,4687.8869999999997,4840.2870000000003,5106.848,5105.9030000000002,4610.6850000000004,4906.5460000000003,5657.7939999999999,5683.9129999999996,5318.2529999999997,5686.4530000000004,5335.8280000000004,5049.549,4938.1279999999997,4470.5680000000002,4532.5150000000003,4663.1270000000004,3796.721,4932.0749999999998,5067.6030000000001,5536.6450000000004,5233.2809999999999,4727.058,4760.8379999999997,5072.8040000000001,5413.1409999999996,5388.5519999999997,5727.6360000000004,5442.1639999999998,4691.9110000000001,3682.3180000000002,5352.1490000000003,5730.9679999999998,5563.2939999999999,5656.8320000000003,4257.9229999999998,4563.2730000000001,4803.7449999999999,4622.2380000000003,5436.0410000000002,4654.8329999999996,4171.6710000000003,4517.174,5382.6379999999999,5276.4560000000001,4974.5929999999998,4557.3950000000004,4257.3760000000002,4173.2250000000004,4742.4070000000002,4924.299,5522.0649999999996,"-","-","-","-","-","-","-","-","-"]
[null,"Carbón",3789.078,2994.8739999999998,4960.433,4421.4560000000001,4897.7820000000002,5678.3649999999998,5609.7790000000005,4219.5839999999998,5739.6279999999997,5873.9790000000003,5218.9030000000002,5617.076,5563.5559999999996,5645.2309999999998,3738.4450000000002,3712.4079999999999,3910.2220000000002,4538.0249999999996,5304.8670000000002,4353.2830000000004,5539.4690000000001,5598.3209999999999,5678.0159999999996,5858.4880000000003,6327.74,6108.3419999999996,6494.6809999999996,5525.4409999999998,4997.9380000000001,4557.3190000000004,5327.2039999999997,4327.6670000000004,5645.6049999999996,4913.9470000000001,5204.9589999999998,4164.6390000000001,5682.8909999999996,5854.6130000000003,5964.692,5478.326,5061.1419999999998,4476.33,4986.6840000000002,4655.6719999999996,5479.9290000000001,4277.5820000000003,4591.6459999999997,4854.8459999999995,4225.3649999999998,4846.7370000000001,5056.6319999999996,4681.1270000000004,4198.2659999999996,5255.8969999999999,5784.308,4927.45,5289.7079999999996,5601.9229999999998,5269.8909999999996,5424.4040000000005,5251.2929999999997,4321.2690000000002,4797.223,5029.1809999999996,5129.8599999999997,5276.2740000000003,6152.8059999999996,6044.9189999999999,6290.3639999999996,5756.857,5943.0479999999998,4743.4520000000002,2510.0300000000002,2683.1619999999998,4115.9930000000004,2726.12,2624.2840000000001,5087.9830000000002,6414.9660000000003,6049.6859999999997,5802.5770000000002,5620.9210000000003,5551.692,3206.2350000000001,3584.91,3649.28,5583.2529999999997,5728.4610000000002,5056.7719999999999,5149.9560000000001,5847.598,5796.5990000000002,6549.4040000000005,6527.6440000000002,4760.5590000000002,3863.799,2965.5079999999998,3350.5030000000002,5580.616,4490.3959999999997,3492.7220000000002,4274.6750000000002,5653.4690000000001,4686.1790000000001,6141.06,6363.81,6352.491,6839.2070000000003,6701.8249999999998,6263.5429999999997,6497.26,5798.0739999999996,4661.8389999999999,5593.5330000000004,6682.1890000000003,5587.4210000000003,6733.1790000000001,6191.2139999999999,5572.7190000000001,6032.4840000000004,7019.259,6669.06,6818.7849999999999,5754.5690000000004,5196.4690000000001,6218.9480000000003,6910.6909999999998,6620.63,7060.3890000000001,6958.5969999999998,6583.49,4563.0190000000002,4090.721,3609.7950000000001,3586.2440000000001,4018.7460000000001,5145.0150000000003,6173.777,6755.2950000000001,6613.848,6958.0209999999997,6965.7380000000003,6809.6779999999999,7364.473,7343.9880000000003,6758.5150000000003,7235.9110000000001,6828.009,6798.52,6408.4250000000002,6650.7269999999999,6487.0320000000002,6779.2529999999997,6302.8720000000003,6382.8720000000003,4791.8940000000002,4968.8599999999997,5506.9210000000003,5539.4939999999997,5196.9160000000002,5511.6949999999997,6515.96,7036.7960000000003,7022.5370000000003,6929.0640000000003,6840.4350000000004,5905.0259999999998,5275.0659999999998,5993.14,6214.66,6728.1949999999997,5449.0519999999997,5628.9380000000001,6237.116,6926.9189999999999,6708.5079999999998,6611.0590000000002,6564.049,6316.4960000000001,6980.2719999999999,7208.607,6450.6040000000003,6547.88,5837.5929999999998,6019.9870000000001,6112.5619999999999,6646.8130000000001,6106.7380000000003,6265.9930000000004,6511.2520000000004,6709.674,6975.4409999999998,7296.4769999999999,6138.35,5071.2610000000004,3721.83,5390.7550000000001,5908.75,6895.18,5618.6940000000004,5753.558,5107.8040000000001,4537.1400000000003,4566.1499999999996,6469.2629999999999,5200.3329999999996,5149.4830000000002,6190.7659999999996,6361.4979999999996,6126.8469999999998,6318.5919999999996,6251.6310000000003,5834.8209999999999,5675.2489999999998,5811.2539999999999,6442.7939999999999,5296.643,4883.3310000000001,3905.3939999999998,3314.4789999999998,2327.2379999999998,2203.297,3917.8270000000002,3281.4659999999999,3682.7429999999999,4366.326,4361.424,4734.7089999999998,4875.1289999999999,3218.181,3169.605,1939.8989999999999,2397.4740000000002,2620.4450000000002,3434.2080000000001,1924.57,2870.252,3275.4920000000002,2153.8879999999999,1982.3720000000001,1826.579,1480.079,920.60900000000004,686.38,886.21,1426.5709999999999,2613.0639999999999,3017.7840000000001,3168.2910000000002,2132.5169999999998,1748.231,2190.922,2206.511,2650.8130000000001,3202.9079999999999,2631.9940000000001,3192.4929999999999,2951.7069999999999,4486.268,4360.7669999999998,4991.3109999999997,4585.9279999999999,4160.808,4066.6010000000001,5513.152,5642.8620000000001,4763.4129999999996,2713.4580000000001,4052.0509999999999,5409.3810000000003,4999.9440000000004,5153.098,4088.3229999999999,4344.7129999999997,4189.8239999999996,3850.7809999999999,3072.94,2585.3139999999999,1352.106,982.72,2046.373,2661.9859999999999,5584.1480000000001,4674.7150000000001,4856.1909999999998,4309.826,2690.1469999999999,4990.308,2278.8879999999999,816.16600000000005,1156.8800000000001,"-","-","-","-","-","-","-","-","-"]
[null,"Fuel + Gas",222.529,118.258,119.42400000000001,88.981999999999999,219.44900000000001,409.10399999999998,441.476,166.42699999999999,258.04700000000003,304.98399999999998,286.87,447.56200000000001,271.31,351.84500000000003,138.10900000000001,194.316,214.56399999999999,294.32,721.04499999999996,189.965,688.08399999999995,324.815,395.76499999999999,494.387,1362.153,1871.367,1499.7049999999999,738.07899999999995,646.94899999999996,157.17599999999999,442.63099999999997,238.65899999999999,550.64400000000001,199.65,94.771000000000001,44.676000000000002,101.646,357.11,360.75599999999997,273.11500000000001,107.209,127.331,43.241999999999997,94.337000000000003,195.887,57.613999999999997,85.917000000000002,81.013999999999996,108.285,96.480999999999995,123.46,129.39699999999999,21.219000000000001,105.349,400.63900000000001,58.192999999999998,90.28,128.435,69.540000000000006,176.80799999999999,163.946,41.526000000000003,154.55099999999999,129.619,117.04300000000001,307.75900000000001,625.95600000000002,244.64,608.93100000000004,687.42100000000005,454.28199999999998,332.334,16.2,193.34,267.75,143.751,32.92,171.83699999999999,276.93,147.92699999999999,244.82,103.26900000000001,257.27100000000002,293.01299999999998,275.09300000000002,398.76100000000002,474.63900000000001,520.52300000000002,459.38299999999998,519.15800000000002,853.04399999999998,605.52200000000005,767.35,855.93499999999995,564.76900000000001,549.56799999999998,76.427999999999997,111.499,170.852,61.127000000000002,38.664999999999999,216.60599999999999,501.916,532.34699999999998,755.29,417.76,1051.8430000000001,1724.02,1578.837,1950.7550000000001,1135.2380000000001,553.81899999999996,178.12200000000001,573.88400000000001,1199.1859999999999,735.45699999999999,644.00699999999995,178.346,458.339,739.13599999999997,1183.7950000000001,533.00099999999998,1205.1869999999999,761.28499999999997,189.73,725.47900000000004,960.85599999999999,798.69600000000003,1538.047,995.375,816.02099999999996,541.82399999999996,545.66300000000001,451.19,464.08300000000003,180.447,373.22500000000002,1234.403,1444.4179999999999,1290.5409999999999,1384.777,1355.8240000000001,1406.011,2267.3580000000002,2779.8040000000001,1710.9190000000001,1499.0409999999999,1468.2919999999999,1153.146,1735.992,2002.913,960.92100000000005,1275.038,948.83299999999997,518.12800000000004,420.61,635.36,548.15,239.357,84.483999999999995,251.43899999999999,1294.7670000000001,1269.0709999999999,1150.9639999999999,1011.479,700.71299999999997,391.05700000000002,458.14499999999998,473.38200000000001,380.26499999999999,660.32,200.733,349.27499999999998,800.20600000000002,1171.5930000000001,772.99900000000002,1013.494,633.27599999999995,512.43600000000004,728.75300000000004,978.12599999999998,1173.4680000000001,1455,405.68799999999999,573.24300000000005,1227.5730000000001,1445.61,445.29199999999997,569.803,399.38200000000001,466.18,873.947,824.45600000000002,676.61900000000003,331.346,323.37299999999999,248.934,570.77700000000004,1081.67,377.37900000000002,821.21100000000001,375.56,147.86000000000001,125.937,123.176,251.72499999999999,220.935,133.88,193.94499999999999,97.442999999999998,308.202,241.53800000000001,266.75099999999998,147.08699999999999,222.27600000000001,190.017,162.48099999999999,142.333,79.287000000000006,154.84100000000001,171.916,285.65600000000001,180.16900000000001,274.74099999999999,215.14500000000001,230.345,260.29599999999999,220.792,151.703,139.85900000000001,222.31200000000001,160.33500000000001,105.803,170.80699999999999,244.04,199.65299999999999,179.578,123.298,193.488,191.45400000000001,177.86099999999999,148.387,23.989000000000001,123.434,190.971,191.79,161.52199999999999,133.65600000000001,161.911,146.35599999999999,193.815,171.084,0,0,0,0,0,0,0,0,0,0,0,0,0,0,0,0,0,0,0,0,0,0,0,0,0,0,0,0,0,0,0,0,0,0,0,0,0,0,0,"-","-","-","-","-","-","-","-","-"]
[null,"Ciclo combinado","-","-","-","-","-","-","-","-","-","-","-","-","-","-","-","-","-","-","-","-","-","-","-","-","-","-","-","-","-","-","-","-","-","-","-","-","-","-","-","-","-","-","-","-","-","-","-","-","-","-","-","-","-","-","-","-","-","-","-","-","-","-","-","-","-","-","-","-","-","-","-","-","-","-","-","-","-","-","-","-","-","-","-","-","-","-","-","-","-","-","-","-","-","-","-","-","-","-","-","-","-","-","-","-","-","-","-","-","-","-","-","-","-","-","-","-","-","-","-","-","-","-","-","-","-","-","-","-","-","-","-","-","-","-","-","-","-","-","-","-","-","-","-","-","-","-","-","-",128.82300000000001,312.71199999999999,532.25099999999998,778.88499999999999,1197.2550000000001,1187.9459999999999,633.10500000000002,537.36400000000003,449.87,866.61199999999997,780.66300000000001,402.83600000000001,824.59100000000001,1829.94,1968.5319999999999,1833.1790000000001,2069.1460000000002,1836.6959999999999,1241.325,887.18700000000001,1578.2639999999999,1984.8820000000001,2321.5509999999999,1867.0609999999999,2062.7620000000002,2370.3429999999998,2782.2530000000002,2390.2869999999998,2986.6219999999998,2914.0140000000001,2827.4810000000002,2888.1779999999999,3419.7689999999998,3436.3090000000002,3414.7840000000001,3310.9650000000001,3597.5949999999998,4740.1450000000004,5289.7759999999998,4519.1629999999996,4525.42,4163.6120000000001,4262.7939999999999,4204.3119999999999,5662.88,5591.57,4811.491,4754.9480000000003,5040.2150000000001,5590.857,6809.1540000000005,4943.3850000000002,6459.2550000000001,5167.0079999999998,4357.4189999999999,4317.3509999999997,6170.4120000000003,3902.9679999999998,3919.511,4146.9080000000004,4438.6220000000003,6301.0510000000004,6732.6450000000004,5275.4769999999999,5770.1949999999997,6240.3119999999999,7792.5389999999998,7448.7579999999998,8184.8190000000004,8180.884,6943.9809999999998,7073.8360000000002,7369.9030000000002,7776.174,9071.5889999999999,8486.4740000000002,7995.7420000000002,7376.8850000000002,6986.1549999999997,5839.5950000000003,6121.9219999999996,4563.2569999999996,5149.8190000000004,5567.91,5740.6090000000004,7824.9210000000003,8699.6,8371.5709999999999,7566.64,6717.3729999999996,5665.4160000000002,6289.6909999999998,5445.5259999999998,4875.7049999999999,4201.9930000000004,4471.9809999999998,4658.1450000000004,5628.5780000000004,6959.6390000000001,5882.9219999999996,6390.8239999999996,5422.7120000000004,5678.6009999999997,4987.6719999999996,5159.5200000000004,4746.3639999999996,4047.6080000000002,2861.36,4252.308,4955.277,4626.2929999999997,4797.3280000000004,4590.0439999999999,3812.1060000000002,3445.7040000000002,3440.0360000000001,4348.9830000000002,3969.0479999999998,3160.9290000000001,2291.681,2463.9940000000001,3177.5329999999999,3438.1060000000002,3561.9070000000002,2955.989,3306.2449999999999,3033.422,2885.3389999999999,2683.277,2016.9580000000001,1537.5,1166.104,1683.162,1419.38,2277.0819999999999,2427.9879999999998,2294.4470000000001,2616.7020000000002,2103.58,2853.5749999999998,1610.1010000000001,1323.0219999999999,1246.404,"-","-","-","-","-","-","-","-","-"]
[null,"Régimen ordinario",{"$f":"SUM(C3:C7)","v":13444.915999999999},{"$f":"SUM(D3:D7)","v":11013.163999999999},11971.336000000001,10992.112999999999,11026.468000000001,11397.391,12083.853000000001,10618.898999999999,11408.243,11528.919000000002,12158.130000000001,13435.459000000001,13863.017999999998,12684.277999999998,11932.219000000001,11471.089,11640.727999999999,11328.021000000001,12369.251,10838.814,11853.098,12133.002999999999,12479.174999999999,12922.17,14572.464,13412.533000000001,13050.116,11520.608999999999,11375.941000000001,10830.008,12470.9,10979.648000000001,11760.440999999999,12055.571,11842.416000000001,12393.511999999999,13305.764000000001,12043.400000000001,12646.856999999998,11137.398999999999,11090.035000000002,11148.107,11854.246000000001,11105.234,11536.217000000001,11847.071,12260.003999999999,12736.641999999998,13190.69,12066.399000000001,11853.571999999998,11397.128000000001,11414.334999999997,11805.402,12793.75,11494.994999999999,11746.446,11488.076999999999,11681.300000000001,12673.996000000003,13488.967000000001,11472.105000000001,12649.940999999999,11329.947000000002,11890.218999999999,{"$f":"SUM(BP3:BP7)","v":12018.282000000001},12730.928,11730.489999999998,11829.800999999999,11844.298000000001,12098.529999999999,12895.01,13865.124000000002,13181.109,12752.231,10973.633999999998,11601.259,11988.984,12726.026,11487.985999999999,11793.509,12460.777000000002,12666.875,13029.084000000001,14544.456000000002,11895.705000000002,12390.625,12661.031000000001,12847.421,12691.758999999998,13603.943000000001,12974.581000000002,13287.355000000001,13106.665999999999,13129.691000000001,14252.841,13809.812,12381.366,12931.119000000001,12271.736000000001,12223.705,12904.105,14234.351000000001,12878.661,13478.001,13138.533000000001,13559.022000000001,15003.766000000001,15134.645,13647.34,13663.987999999999,12056.531999999999,12632.361999999999,13279.201999999999,14715.75,13260.671,13897.276,13512.362999999999,14255.751,15166.206,16432.366000000002,14137.585000000001,14765.351000000001,13375.39,13828.042000000001,14682.547,15224.635999999999,14411.215,14699.207,{"$f":"SUM(EB3:EB7)","v":14357.800999999999},15172.707,15556.338,16646.540999999997,14678.324000000001,15360.292000000001,13102.185999999998,14422.909000000001,15184.801000000001,15907.275,15415.081,14857.099,15141.710999999999,15689.104000000001,17190.243999999999,17466.637999999999,14760.187,15058.794,14578.914999999999,15052.101000000002,15815.903,16562.091,15093.539000000001,15324.936000000002,15449.007,15197.264000000001,15806.843000000001,17350.913,16365.1,15816.081999999999,14153.615000000002,15026.668,16645.934999999998,17963.64,17177.019,16138.451000000001,16126.080999999998,16151.610000000002,17108.227000000003,17258.569,17120.712,17815.626,15597.123,16180.993,17465.52,18733.815999999999,17315.143,17162.887000000002,16606.096000000001,17286.75,17847.907999999999,19049.620999999999,17732.739000000001,17828.111000000001,15493.921,16219.119999999999,18045.719000000001,19041.137000000002,17081.224999999999,17769.309999999998,17005.98,18228.036999999997,19504.131000000001,21123.547999999999,{"$f":"SUM(GN3:GN7)","v":18788.957999999999},18266.688999999998,14978.418,17206.75,18686.904000000002,21475.345000000001,17517.955000000002,18870.433000000001,17232.736000000001,17356.892,19368.333999999999,20536.546999999999,17179.464,18155.685000000001,17574.245999999999,17264.844000000001,17994.616999999998,19827.099999999999,17746.519,18438.925999999999,18959.499,19387.232,20758.580000000002,20591.451000000001,19604.288,17604.923999999999,17092.472000000002,17751.085999999999,17903.435000000001,19949.396000000001,18724.093000000001,17862.510000000002,17614.682000000001,17338.138999999999,18304.056999999997,18964.111000000001,15625.64,15123.57,13826.862999999999,14327.534,16172.804000000002,18152.745999999999,17364.53,16140.277999999998,15496.090000000002,14038.088,15613.593000000001,17130.556,15221.196,15716.098,14672.252999999999,13752.204,15306.667000000001,18093.744000000002,16598.437999999998,16469.597000000002,14936.387999999999,15257.338,16014.645,17090.213000000003,14561.376,15235.12,13341.565000000001,13688.264999999999,{"$f":"SUM(IZ3:IZ7)","v":14623.121999999999},15579.744000000001,16062.056,15957.044,14417.989,14344.837,14623.237000000001,16909.616000000002,16179.456999999999,14925.591,12052.819000000001,13355.362000000001,14158.175999999999,15342.423000000001,15791.61,13731.189,14730.220000000001,13355.855,13706.744999999999,{"$f":"SUM(JS3:JS7)","v":13312.048000000001},12467.141000000001,12606.911,11767.762999999997,11223.385,11392.472000000002,15632.294,14305.369000000001,13809.275,13243.882000000001,11604.902,14318.756000000001]
[null,"Consumos generación",-518.55899999999997,-431.59899999999999,-555.26099999999997,-534.93200000000002,-565.43200000000002,-601.24300000000005,-622.649,-525.49099999999999,-567.74699999999996,-560.45500000000004,-568.26400000000001,-648.58600000000001,-623.63800000000003,-600.65899999999999,-506.82299999999998,-490.36599999999999,-510.09699999999998,-564.74900000000002,-602.77700000000004,-525.12300000000005,-586.58600000000001,-584.35900000000004,-572.62400000000002,-607.82399999999996,-700.96100000000001,-675.93799999999999,-668.23599999999999,-558.79399999999998,-573.01800000000003,-544.99400000000003,-604.41200000000003,-524.04899999999998,-582.20500000000004,-573.31700000000001,-565.28899999999999,-533.04700000000003,-600.38699999999994,-573.97299999999996,-605.50300000000004,-531.87900000000002,-531.29700000000003,-538.71,-548.29399999999998,-508.58199999999999,-559.93899999999996,-521.61900000000003,-512.95899999999995,-548.30499999999995,-505.04700000000003,-484.25400000000002,-495.10899999999998,-476.32400000000001,-469.76499999999999,-493.774,-571.19500000000005,-521.84199999999998,-536.07500000000005,-507.51799999999997,-483.23500000000001,-528.81700000000001,-535.34100000000001,-453.54599999999999,-490.09699999999998,-476.077,-515.81600000000003,-526.92399999999998,-589.54999999999995,-546.00599999999997,-549.10699999999997,-524.29499999999996,-520.43499999999995,-521.05499999999995,-394.387,-381.89600000000002,-437.084,-372.35700000000003,-388.976,-480.173,-540.35900000000004,-520.52700000000004,-522.21600000000001,-526.00800000000004,-515.28200000000004,-431.99799999999999,-460.87799999999999,-423.73500000000001,-512.20600000000002,-532.101,-543.23199999999997,-542.84,-594.70600000000002,-579.95399999999995,-593.48400000000004,-584.03599999999994,-493.07900000000001,-491.24900000000002,-439.89600000000002,-412.34100000000001,-512.06799999999998,-437.27499999999998,-396.11599999999999,-461.57400000000001,-592.49400000000003,-552.00900000000001,-603.90499999999997,-595.48299999999995,-624.62,-682.53,-676.23800000000006,-597.43299999999999,-585.52300000000002,-517.65200000000004,-516.80100000000004,-577.07799999999997,-672.81899999999996,-618.64400000000001,-642.08799999999997,-607.96100000000001,-581.75300000000004,-629.755,-696.05700000000002,-640.07500000000005,-685.9,-578.173,-577.37099999999998,-650.05700000000002,-721.28899999999999,-680.55,-682.23699999999997,-661.17499999999995,-677.14200000000005,-576.71400000000006,-557.53499999999997,-484.89299999999997,-496.62299999999999,-456.541,-592.40200000000004,-688.58699999999999,-739.57799999999997,-717.28899999999999,-684.80899999999997,-703.89700000000005,-699.18399999999997,-764.03099999999995,-773.63400000000001,-688.58299999999997,-686.52800000000002,-667.39,-664.06,-718.61800000000005,-761.28899999999999,-711.06,-703.90700000000004,-725.69299999999998,-689.745,-634.66800000000001,-642.48400000000004,-638.63199999999995,-636.77099999999996,-561.28300000000002,-611.12400000000002,-733.83100000000002,-792.44200000000001,-770.01700000000005,-726.35400000000004,-699.18899999999996,-684.98699999999997,-672.68600000000004,-690.44299999999998,-671.66499999999996,-716.69200000000001,-591.101,-651.08799999999997,-757.96900000000005,-805.83,-774.05799999999999,-748.31399999999996,-746.471,-735.19299999999998,-760.404,-806.25,-759.15300000000002,-783.29899999999998,-656.41399999999999,-695.245,-731.98500000000001,-803.65099999999995,-707.53499999999997,-762.88699999999994,-744.50900000000001,-794.68100000000004,-835.93600000000004,-861.01400000000001,-778.16600000000005,-725.02,-584.654,-671.09100000000001,-775.928,-881.29700000000003,-763.54,-784.96699999999998,-710.96699999999998,-674.80600000000004,-693.00300000000004,-785.16899999999998,-655.505,-648.63,-685.44200000000001,-685.64099999999996,-661.06399999999996,-787.17100000000005,-751.23500000000001,-768.745,-752.90599999999995,-738.48699999999997,-832.87699999999995,-791.07799999999997,-748.86099999999999,-687.13499999999999,-597.12,-641.50800000000004,-643.20699999999999,-728.39700000000005,-769.75599999999997,-668.06600000000003,-673.49699999999996,-659.97400000000005,-729.08900000000006,-743.48800000000006,-584.67999999999995,-553.89200000000005,-522.60799999999995,-532.16399999999999,-603.78099999999995,-669.9,-603.13099999999997,-594.86699999999996,-597.42700000000002,-539.64099999999996,-571.15200000000004,-548.66200000000003,-493.46,-471.786,-436.09399999999999,-423.11500000000001,-541.92600000000004,-745.80899999999997,-634.72400000000005,-645.10900000000004,-591.93799999999999,-570.16800000000001,-570.42899999999997,-570.41499999999996,-535.91600000000005,-570.98400000000004,-510.63,-524.63900000000001,-599.33799999999997,-652.52,-683.85199999999998,-710.46799999999996,-651.40099999999995,-617.92100000000005,-619.30200000000002,-731.22699999999998,-680.03099999999995,-675.97799999999995,-669.81399999999996,-576.66499999999996,-633.38800000000003,-705.05499999999995,-717.75800000000004,-633.54200000000003,-718.34100000000001,-569.62400000000002,-577.19000000000005,-516.10199999999998,-460.24299999999999,-411.93799999999999,-420.82600000000002,-408.09300000000002,-455.31400000000002,-688.15200000000004,-637.49,-641.84900000000005,-595.63,-465.93200000000002,-635.76800000000003,-464.36,-367.70600000000002,-434.95800000000003,"-","-","-","-","-","-","-","-","-"]
[null,"Resto hidráulica",105.99199999,92.305999990000004,64.729999989999996,90.829000010000001,84.022999960000007,91.299000000000007,55.459000000000003,57.632000010000006,34.01199999,69.633999989999992,110.01000001,126.70600002,179.13800000000001,122.81100000000001,215.011,190.10900000000001,195.07300000000001,144.59399999999999,99.561000000000007,80.388999999999996,78.209000000000003,93.88,141.988,164.018,125.13500000000001,89.668999999999997,114.31100000000001,191.75700000000001,193.59,203.803,181.00200000000001,118.066,117.869,215.52699999999999,233.875,297.16899999999998,208.39500000000001,120.724,171.35300000000001,192.554,247.309,207.114,151.58000000000001,102.715,108.434,243.80099999999999,228.351,251.898,342.685,275.54899999999998,261.048,218.69300000000001,253.36600000000001,170.89599999999999,113.035,101.443,106.75,171.69800000000001,238.982,221.12299999999999,329.74799999999999,321.577,299.32900000000001,168.03299999999999,176.27099999999999,142.42699999999999,114.44499999999999,86.066999999999993,110.54,88.179000000000002,129.774,256.48399999999998,431.99400000000003,394.01900000000001,364.69799999999998,371.68,349.161,242.65199999999999,197.03100000000001,174.12299999999999,161.74299999999999,181.57599999999999,235.11199999999999,440.05799999999999,440.79199999999997,368.97300000000001,267.72199999999998,216.18199999999999,261.68,278.39100000000002,254.60499999999999,204.18799999999999,190.68700000000001,154.25,310.86200000000002,480.66300000000001,492.71681900000027,339.41051800000037,327.06436500000001,403.45852500000007,412.07627199999973,315.95694499999991,207.93444699999981,197.43269499999997,167.836814,248.31532999999988,203.70192800000009,262.56925899999993,323.52239599999979,292.89981199999983,373.90223100000003,348.71718900000002,443.13831299999953,296.52359400000012,224.70694300000005,189.84542699999983,210.82529300000019,274.4117980000002,366.44797700000021,395.38163899999972,330.40558000000061,282.4367390000001,249.44621600000002,435.78321799999981,494.62790899999982,357.92745100000013,254.29291899999987,199.41030499999974,158.61218700000026,230.15518499999985,367.53720900000002,475.46501499999971,558.92030299999965,485.9960640000001,596.9482809999995,489.46396500000048,476.68399000000039,352.76099499999998,300.49062999999978,227.07167800000002,181.60083700000001,202.50831499999984,222.42956999999993,192.64800500000001,255.92034899999996,271.46624000000031,345.5155519999999,361.37205199999977,420.06244200000003,357.79012199999954,235.872343,210.05402300000023,204.41109700000004,280.620946,390.81764499999963,565.54952800000058,581.19393900000068,453.43333999999987,562.61659000000009,532.27852599999949,529.63067400000057,359.33567800000003,277.91316899999993,209.44763500000025,208.93049999999982,309.71749599999981,485.77285999999998,578.37363800000003,587.99536900000066,427.62895799999984,507.79213800000031,547.04272999999989,572.54148200000088,412.62300300000021,336.46757500000012,259.27092500000015,199.83813299999983,245.59888100000015,329.70104599999968,323.07814500000035,350.78451000000035,292.22942700000004,386.56584999999961,465.50854399999992,438.71030300000024,297.45351899999991,244.46804400000011,191.04961800000027,151.16209100000012,217.90684300000004,377.39904099999995,404.34514899999988,400.55887300000069,320.87833499999977,567.0589700000005,506.03915599999999,360.07454500000034,248.51400000000001,226.34899999999999,177.815,164.14,312.404,381.88099999999997,482.851,345.48899999999998,478.79599999999999,516.02800000000002,529.75900000000001,509.19,412.91699999999997,302.21199999999999,256.50099999999998,186.13399999999999,186.88800000000001,189.87299999999999,211.53800000000001,340.20600000000002,233.21799999999999,301.23399999999998,581.11099999999999,613.279,581.55499999999995,380.40899999999999,264.58100000000002,212.28,190.523,400.12099999999998,539.62599999999998,521.05499999999995,629.452,559.84500000000003,501.44200000000001,577.14200000000005,468.387,365.35300000000001,282.64999999999998,242.869,230.81,466.05,608.61800000000005,764.37,616.57799999999997,784.76,690.19600000000003,688.34299999999996,608.94799999999998,459.60300000000001,341.74799999999999,281.05,318.88900000000001,567.66,702.17499999999995,663.64800000000002,506.22,655.86300000000006,588.12800000000004,489.53800000000001,405.25799999999998,384.18599999999998,304.79399999999998,235.56299999999999,189.00200000000001,423.49200000000002,448.62299999999999,336.82299999999998,331.68099999999998,324.86200000000002,468.28100000000001,642.14499999999998,438.45600000000002,337.726,264.85199999999998,198.80799999999999,269.48399999999998,410.351,619.95500000000004,667.28899999999999,687.923,842.28099999999995,845.35699999999997,779.53099999999995,658.62099999999998,534.73500000000001,402.64299999999997,302.37400000000002,342.61399999999998,522.10599999999999,511.06900000000002,782.11300000000006,753.00599999999997,751.12400000000002,"-","-","-","-","-","-","-","-","-"]
[null,"Eólica",0.115,0.19899998999999999,0.18,0.189,0.17399999999999999,0.12,0.26,0.186,0.13100000000000001,0.17,0.20699999999999999,0.25599999000000001,0.192,0.14299999999999999,0.21199999999999999,0.56200000000000006,0.32200000000000001,0.2,0.184,0.21199999999999999,0.14399999999999999,0.24199999999999999,0.27100000000000002,0.18099999999999999,0.26200000000000001,0.22500000000000001,0.313,0.20699999999999999,0.19500000000000001,0.16300000000000001,0.19500000000000001,0.66600000000000004,1.2949999999999999,2.137,2.5070000000000001,9.1959999999999997,7.1150000000000002,11.385999999999999,7.3259999999999996,6.1639999999999997,5.2709999999999999,7.9740000000000002,7.391,6.9809999999999999,5.6310000000000002,7.1980000000000004,6.7279999999999998,5.6029999999999998,6.899,4.8140000000000001,8.7690000000000001,6.859,4.97,6.4619999999999997,3.859,5.3929999999999998,5.0469999999999997,6.3360000000000003,7.78,5.6719999999999997,7.87,7.6749999999999998,8.4960000000000004,11.901999999999999,9.2110000000000003,8.8979999999999997,14.465,17.63,14.853,27.623000000000001,13.795,17.439,18.829999999999998,22.030999999999999,24.646000000000001,26.102,23.157,27.099,25.434000000000001,15.643000000000001,22.706,30.321000000000002,31.616,36.543999999999997,39.627000000000002,32.179000000000002,46.04,56.365000000000002,39.409999999999997,43.759,57.268000000000001,41.052999999999997,45.835000000000001,69.47,72.793999999999997,76.084999999999994,85.726278999999991,73.041770999999997,100.15667400000001,97.154274999999998,87.936697000000009,72.687051000000011,112.78895799999999,131.01327799999996,104.74763500000003,104.14675399999999,128.51891699999999,138.738417,159.91106499999998,214.37513500000003,206.77279700000003,190.99942600000003,173.14856599999996,212.21415299999998,177.00095900000005,139.30212900000004,172.17858000000001,199.35031500000005,312.98064799999997,315.79952500000002,305.02478600000001,295.11369999999994,338.14951600000018,416.02144200000009,226.957358,365.846115,360.05244799999997,315.70721200000003,276.36600500000014,409.72117300000014,544.09382199999982,609.44247300000018,594.73167599999999,573.65477800000008,654.24861100000021,650.22456599999998,424.36108700000011,408.90728200000012,400.20572300000021,374.72081200000002,611.54289400000005,574.769948,768.828981,557.95175500000039,657.00929500000052,782.54075799999964,795.79277999999965,618.78730799999983,820.58633199999974,646.36536599999977,693.5828309999996,598.4340899999994,505.37139599999978,869.00001900000052,1056.9575050000003,1214.8690069999998,1395.1710190000006,997.62484999999981,837.86062599999968,1138.0008659999992,901.86601600000074,703.48306400000013,727.40598099999977,543.97083900000018,781.24529999999993,1086.9553520000009,1172.985179,1433.6770410000006,1685.3449229999994,1074.4477040000002,1281.2794619999981,1519.3727670000001,1019.3578530000005,1048.3327160000013,970.02610899999979,1114.316325,1147.637898,1635.2691430000013,1511.2452730000009,1747.4875960000002,1879.1933479999996,1745.3139569999989,1763.5135970000013,1926.4580810000014,1492.0681999999997,1261.4607640000008,1611.0284699999993,1640.4408529999992,1271.4945329999998,1902.7245970000004,1958.5321529999999,2405.4374059999986,1563.7009309999996,1924.8670310000009,2788.2671979999986,1955.917235000001,1670.5176799999992,1364.4480000000001,1171.7909999999999,2177.8209999999999,1465.816,2334.8020000000001,2279.5230000000001,2183.3850000000002,2149.8069999999998,2871.9189999999999,3086.2469999999998,1356.316,2605.873,1786.288,1888.6089999999999,2419.819,2028.855,1907.625,2752.3119999999999,2395.4850000000001,2651.4679999999998,2018.9480000000001,4092.55,3352.6860000000001,1737.1610000000001,2085.509,2124.2370000000001,1972.5229999999999,2129.8850000000002,2482.0129999999999,3462.6880000000001,3648.1819999999998,3503.799,3226.32,3100.5160000000001,3059.6579999999999,2698.0039999999999,2332.395,2426.1289999999999,2235.837,2466.7310000000002,3125.33,4792.63,4921.2280000000001,4292.0919999999996,4622.4350000000004,4546.5469999999996,2634.819,3619.3339999999998,2576.1970000000001,2798.1329999999998,2894.7440000000001,2301.3229999999999,3952.8310000000001,4348.0590000000002,4621.8819999999996,4018.65,4028.2460000000001,4690.99,3399.4090000000001,3165.6219999999998,2937.1970000000001,3254.7049999999999,2729.4810000000002,2322.9560000000001,3149.473,3819.8519999999999,4588.7259999999997,3645.5149999999999,5014.665,3805.5540000000001,5306.39,3707.8789999999999,3422.076,2980.203,3124.576,3937.4119999999998,3129.8209999999999,4604.8419999999996,5449.9780000000001,6291.5739999999996,5340.9960000000001,5749.1030000000001,4396.4229999999998,3930.2579999999998,3827.049,2843.6329999999998,3410.5160000000001,3213.7640000000001,3963.4490000000001,6423.973,4942.9179999999997,6536.8239999999996,5882.5550000000003,5128.1189999999997,"-","-","-","-","-","-","-","-","-"]
[null,"Solar fotovoltaica",0,0,0,0,0,0,0,0,0,0,0,0,0,0,0,0,0,0,0,0,0,0,0,0,1.01,0.77200000000000002,0.57199999999999995,1.2889999999999999,1.113,1.1639999999999999,1.3069999999999999,1.155,1.2230000000000001,0.94399999999999995,0.56999999999999995,0.93700000000000006,0.53800000000000003,0.53300000000000003,1.252,1.3029999999999999,1.05,1.069,1.2729999999999999,1.1930000000000001,0.88,0.72,1.2629999999999999,0.92600000000000005,0.97799999999999998,1.242,1.0649999999999999,1.208,1.742,1.484,1.635,1.6679999999999999,1.69,1.5209999999999999,1.004,1.1259999999999999,0.80400000000000005,1.4119999999999999,1.84,1.8540000000000001,1.931,1.8660000000000001,1.7450000000000001,1.7949999999999999,1.8120000000000001,1.635,1.8340000000000001,1.679,1.81,1.5129999999999999,1.899,1.7649999999999999,1.421,1.788,1.889,1.748,1.673,1.7450000000000001,1.774,1.738,1.6839999999999999,1.714,2.044,1.7190000000000001,1.339,1.284,1.7330000000000001,1.9750000000000001,1.901,1.716,1.7929999999999999,1.9159999999999999,1.951689,1.7885360000000001,1.425942,1.8739959999999998,1.8842269999999999,1.793625,1.9180200000000001,1.781137,1.8583879999999999,1.8552709999999999,1.816025,1.7397629999999999,1.9466280000000002,1.574211,2.0290839999999997,1.8897650000000001,1.7445100000000002,1.2875479999999999,1.8613710000000001,1.9854320000000001,1.898779,1.9204680000000001,1.5768740000000001,1.934561,1.8886969999999998,1.9045989999999999,1.9596230000000001,1.8877579999999998,1.714456,1.8940679999999999,1.8841489999999999,2.1095300000000003,1.7999609999999999,1.943646,1.7119579999999999,1.8234300000000001,1.990993,1.7526979999999999,2.0312739999999998,1.8453709999999999,2.060721,2.0440679999999998,1.954216,2.0576880000000002,1.868215,1.6947139999999998,1.8682590000000001,2.004572,0.126051,0.22952900000000001,0.27410599999999996,0.39638100000000026,0.47843600000000014,0.47939100000000001,0.5380640000000001,0.53365199999999957,0.48980900000000005,0.41930600000000023,0.31798800000000005,0.27873900000000007,0.33177200000000012,0.40585699999999975,0.56218699999999999,0.71534800000000021,0.85679699999999903,0.97693399999999941,1.1408959999999975,1.0179979999999982,0.91532600000000108,0.80906499999999926,0.5318040000000005,0.66612099999999963,0.57597900000000002,0.83336899999999914,1.1270059999999986,1.3765969999999994,1.6380649999999966,1.9365689999999964,2.0151259999999924,2.030071999999997,1.8506319999999978,1.7061280000000048,1.3758539999999999,1.3286139999999964,1.3100380000000011,1.5964899999999982,2.7521050000000016,2.9168830000000008,3.6370650000000015,4.27022700000001,4.3964089999999914,4.5427230000000041,4.2910249999999994,3.9432079999999976,3.2481789999999919,3.1839970000000024,2.5656399999999966,4.3413879999999949,5.1637430000000002,7.3147159999999678,8.7745119999999783,10.192,11.021000000000001,13.52,11.63,9.9489999999999998,8.077,9.8260000000000005,9.6859999999999999,12.005000000000001,20.550999999999998,24.491,34.18,38.843000000000004,49.655000000000001,53.862000000000002,58.231000000000002,55.534999999999997,52.622,52.915999999999997,57.420999999999999,70.549000000000007,104.43300000000001,126.235,131.75399999999999,189.70699999999999,232.23400000000001,288.11200000000002,317.11099999999999,320.166,324.32100000000003,244.02699999999999,248.703,380.17399999999998,508.66199999999998,546.45500000000004,647.31700000000001,618.52800000000002,690.86199999999997,637.125,492.28899999999999,482.28500000000003,345.4,231.20500000000001,248.57499999999999,289.95,458.21699999999998,565.84,683.24800000000005,656.76599999999996,752.89,691.53200000000004,605.38800000000003,525.85500000000002,364.05200000000002,297.46899999999999,335.96800000000002,481.24700000000001,508.38400000000001,631.45399999999995,716.11800000000005,776.89800000000002,821.81,766.36800000000005,702.33399999999995,601.93499999999995,344.35599999999999,404.81599999999997,482.68,635.51400000000001,736.94500000000005,627.60400000000004,826.18700000000001,839.13400000000001,902.62,826.452,658.33399999999995,566.62,350.38200000000001,377.38600000000002,418.75299999999999,500.80700000000002,531.45600000000002,725.22699999999998,831.59,884.67899999999997,927.46,855.68,723.58,602.25900000000001,485.01299999999998,413.04899999999998,349.99,402.50200000000001,699.28390000000002,"-","-","-","-","-","-","-","-","-"]
[null,"Solar térmica","-","-","-","-","-","-","-","-","-","-","-","-","-","-","-","-","-","-","-","-","-","-","-","-","-","-","-","-","-","-","-","-","-","-","-","-","-","-","-","-","-","-","-","-","-","-","-","-","-","-","-","-","-","-","-","-","-","-","-","-","-","-","-","-","-","-","-","-","-","-","-","-","-","-","-","-","-","-","-","-","-","-","-","-","-","-","-","-","-","-","-","-","-","-","-","-","-","-","-","-","-","-","-","-","-","-","-","-","-","-","-","-","-","-","-","-","-","-","-","-","-","-","-","-","-","-","-","-","-","-","-","-","-","-","-","-","-","-","-","-","-","-","-","-","-","-","-","-","-","-","-","-","-","-","-","-","-","-","-","-","-","-","-","-","-","-","-","-","-","-","-","-","-","-","-","-","-","-","-","-","-","-","-","-","-","-","-","-","-","-","-","-",0,0,0,0,0,0,0,0,0,0,0,0,0,0,0.43099999999999999,0.34200000000000003,0.55800000000000005,0.88300000000000001,1.256,1.1160000000000001,0.63900000000000001,1.214,0.997,0.191,1.0840000000000001,0.79700000000000004,1.4610000000000001,0.95799999999999996,0.94199999999999995,1.9630000000000001,2.0379999999999998,1.98,0.85899999999999999,0.86599999999999999,1.27,1.1599999999999999,0.69,1.236,2.323,7.2039999999999997,7.6580000000000004,6.7519999999999998,12.414,23.867999999999999,17.539000000000001,23.446000000000002,16.183,10.51,13.151999999999999,11.682,23.731999999999999,36.92,69.084000000000003,72.531999999999996,104.59,121.9,100.917,71.745000000000005,31.619,33.747,34.25,88.656999999999996,98.456999999999994,137.833,154.07300000000001,232.48400000000001,284.20800000000003,235.32900000000001,228.55799999999999,172.91200000000001,80.436999999999998,85.159000000000006,117.342,200.34200000000001,235.113,177.77699999999999,348.38200000000001,414.74900000000002,541.31700000000001,485.12700000000001,368.64299999999997,285.79500000000002,133.96199999999999,135.58500000000001,113.494,204.00899999999999,125.37,300.89400000000001,499.26799999999997,647.33000000000004,758.52300000000002,661.85599999999999,478.95499999999998,294.23399999999998,199.22399999999999,158.36199999999999,79.801000000000002,103.265,398.30599999999998,"-","-","-","-","-","-","-","-","-"]
[null,"Térmica renovable","-","-","-","-","-","-","-","-","-","-","-","-","-","-","-","-","-","-","-","-","-",0.47899999999999998,0.19500000000000001,0.18,0.22600000000000001,0.185,0.20899999999999999,0.186,0.219,2.4910000000000001,0.85499999999999998,1.6519999999999999,2.1949999999999998,3.1859999999999999,2.8519999999999999,2.2930000000000001,2.7469999999999999,4.2910000000000004,5.55,5.08,5.1909999999999998,4.069,4.4050000000000002,5.0549999999999997,4.7699999999999996,5.9989999999999997,6.5289999999999999,5.1360000000000001,6.1820000000000004,4.2009999999999996,7.7879999999999994,12.483000000000001,22.434000000000001,14.593,25.895,34.064,35.963000000000001,40.081000000000003,55.064999999999998,63.701000000000001,52.516000000000005,54.168999999999997,59.649000000000001,59.275000000000006,60.629999999999995,38.39,56.09,56.16,55.471000000000004,65.760999999999996,51.017000000000003,62.140999999999998,61.97,55.767000000000003,73.194000000000003,69.39,67.606999999999999,74.480999999999995,76.311000000000007,76.088999999999999,74.905000000000001,70.728000000000009,57.923000000000002,56.715000000000003,56.474000000000004,46.637,55.156000000000006,57.041000000000004,57.334000000000003,33.856000000000002,57.003,53.271999999999998,57.103999999999999,61.066000000000003,58.17,55.262,29.002800999999998,53.305843000000003,61.54951100000001,62.649002999999993,69.878224000000017,68.57453000000001,70.406914,67.345651000000004,60.385233999999997,67.235011999999998,69.010128999999992,69.403475,71.806641999999997,67.74066400000001,76.241169000000014,70.55664800000001,71.228352999999998,64.031021999999993,80.270443,79.088937999999999,85.153421000000009,84.480839000000003,82.713457999999989,74.942079000000007,77.705164000000011,72.094493,81.578700000000012,75.639544999999998,57.155141000000015,64.878718000000006,80.062335000000004,78.219893000000013,86.225769,91.935601000000005,96.959690999999992,98.655336000000005,114.03217000000001,103.259727,115.38466,106.780576,116.22663500000002,163.25343300000003,164.15603399999998,142.64494099999999,174.91251699999998,184.36809099999999,170.80096299999997,182.63868100000002,102.326662,103.97290799999999,114.93776699999999,113.40504600000001,116.82101699999998,106.527145,125.927582,138.27553399999999,128.41537399999999,130.56901199999999,128.796967,143.04027199999999,125.499869,125.666718,141.367661,136.22556399999999,148.43464900000001,135.67495399999999,145.85112000000001,152.32964200000001,154.93832699999999,162.073384,144.46359000000001,164.51626000000002,165.78169199999999,141.425287,163.310002,158.00111900000002,158.15428799999998,141.57013900000001,142.66767899999999,139.21697600000002,148.774135,152.85692900000001,147.72687300000001,158.60851299999999,174.85460999999998,150.82777100000001,176.75611499999999,159.635672,172.11730599999999,162.54098200000001,167.51991400000003,173.00340799999998,160.25450599999999,152.959924,165.98202600000002,171.40583599999999,172.08671999999999,164.50467899999998,179.21714800000001,172.15726300000003,184.66687200000001,201.17400000000001,194.67,180.72499999999999,181.291,197.31100000000001,176.12700000000001,178.67599999999999,195.417,170.86799999999999,196.96199999999999,184.11799999999999,197.114,193.24700000000001,203.05199999999999,202.649,191.273,224.429,204.15700000000001,212.399,218.304,215.69800000000001,223.7,221.483,218.887,220.45099999999999,223.50399999999999,218.31,211.55500000000001,229.72499999999999,225.65600000000001,224.21600000000001,243.68600000000001,231.25299999999999,252.346,275.29700000000003,250.078,229.126,236.274,235.85900000000001,264.07600000000002,325.339,249.01,251.94300000000001,250.94,226.42400000000001,245.99799999999999,252.761,274.92500000000001,268.96100000000001,268.02999999999997,278.80399999999997,262.93700000000001,279.28699999999998,269.12099999999998,293.61099999999999,357.05099999999999,328.661,349.27699999999999,351.05500000000001,328.80399999999997,335.64499999999998,357.9,355.29899999999998,375.1,383.14,375.33800000000002,387.57100000000003,393.7,372.92,398.17899999999997,371.93,360.83499999999998,406.08199999999999,421.35399999999998,400.50700000000001,373.05,413.07400000000001,400.88299999999998,433.63499999999999,435.82100000000003,414.99700000000001,452.92399999999998,420.363,437.96800000000002,392.45299999999997,428.52600000000001,417.392,397.64100000000002,404.19499999999999,413.154,443.71499999999997,422.98700000000002,329.58100000000002,343.96100000000001,"-","-","-","-","-","-","-","-","-"]
[null,"Cogeneración y resto",35.685000010000024,38.351000019999979,45.945000009999994,29.542999990000006,39.724000039999993,36.553999999999988,59.265999999999998,54.415999989999989,70.548000009999996,79.426000009999981,86.149999990000012,79.248999989999987,95.989000000000019,93.531000000000006,115.05600000000001,116.111,113.29,97.624000000000009,119.55,109.12599999999999,134.50700000000001,150.72200000000001,140.30100000000002,150.17699999999999,158.54399999999998,156.649,153.35299999999998,133.67700000000002,150.357,147.03700000000003,147.13500000000008,155.59799999999998,159.136,169.63300000000004,179.52700000000002,192.23599999999996,216.233,207.39499999999998,238.97599999999997,228.40900000000002,230.78099999999998,243.42200000000008,273.03300000000002,222.17500000000004,290.86800000000005,356.51100000000002,393.02699999999999,406.67399999999998,424.01199999999994,397.50999999999993,428.83,427.68300000000005,448.76199999999989,440.01700000000005,418.09199999999998,419.03999999999996,459.93099999999993,463.43,473.75599999999997,509.86099999999993,487.31499999999994,460.59999999999997,536.87400000000002,512.53700000000003,529.81599999999992,521.28200000000004,523.27700000000004,508.96500000000009,558.12299999999993,603.70000000000005,623.61300000000006,655.50600000000009,647.52800000000002,672.755,691.91100000000006,719.59100000000012,705.5920000000001,706.62599999999986,762.26099999999985,719.4380000000001,744.74899999999991,826.2940000000001,869.50599999999997,905.697,905.78699999999992,825.31200000000001,927.09299999999985,909.4430000000001,931.09299999999996,900.9190000000001,982.44500000000005,908.52100000000007,945.76900000000001,1076.894,1049.2929999999999,1080.356,1130.5614119999998,1053.6083319999996,1178.169508,1138.7002010000001,1141.59358,1070.268849,1167.7396610000001,1088.8362390000002,1174.696929,1305.1916329999999,1293.7680009999999,1404.6300859999999,1377.9822690000005,1317.095178,1434.1807190000002,1382.954972,1423.7102580000001,1389.789683,1433.1422839999998,1348.4750739999999,1394.1439269999998,1535.5715799999998,1508.6560429999997,1571.2621960000004,1566.1007729999992,1436.0604689999998,1553.7609449999995,1467.7180370000005,1467.5181360000004,1425.027648,1438.0621490000001,1346.5350600000002,1375.0630779999997,1449.8963950000002,1350.1663200000003,1482.3937460000004,1508.0458580000004,1419.3187329999998,1478.4091740000003,1390.3025219999997,1476.9975669999997,1416.2512219999996,1479.7483969999998,1313.1858809999999,1434.3355369999999,1553.1139320000002,1585.864227,1579.5819869999993,1753.946643,1624.3835650000003,1752.2777950000002,1751.5292130000003,1747.5227730000001,1607.2819760000004,1731.7671800000005,1586.2397010000004,1675.7063240000002,1903.9247169999992,1846.9618950000001,1850.1104539999997,1949.8964009999988,1795.4542350000002,1917.1289360000001,1863.5466960000015,1892.4928639999987,1805.7993700000002,1913.7958340000005,1744.9618859999998,1903.9135469999999,2075.8847029999993,1958.6965669999997,2023.7759399999993,2046.9260369999997,1962.1146819999997,2107.6563920000017,1979.8427870000005,1934.4913119999985,1817.9965729999983,1921.3405109999997,1769.4697020000003,1826.6772020000005,1981.9419189999987,2074.2319539999994,2106.015132,2043.0234940000005,1951.7983550000013,2095.8113329999996,2039.9988199999989,2040.2971259999995,1919.5815079999988,1935.7391630000006,1786.1623980000002,1917.1898449999997,1838.2194279999994,1867.2426009999992,1828.6396120000024,1998.0738359999998,1940.3785669999995,2060.4519410000007,1910.7046299999986,1907.4363910000006,1747.2180000000001,1731.357,1635.847,1728.153,1850.3889999999999,1883.634,1925.296,1984.567,1757.03,1865.8879999999999,1831.5619999999999,1829.89,1893.941,1990.347,1868.579,1956.135,2102.7629999999999,2100.0659999999998,2146.989,2251.9169999999999,2226.8589999999999,2271.9859999999999,2229.3420000000001,2106.663,2078.8119999999999,2217.9769999999999,2016.6590000000001,2177.9,2358.9569999999999,2314.2759999999998,2324.6280000000002,2421.9630000000002,2242.4059999999999,2406.6460000000002,2338.3670000000002,2351.1260000000002,2309.7330000000002,2396.5940000000001,2034.3920000000001,2337.3000000000002,2464.42,2571.2600000000002,2591.7269999999999,2661.2139999999999,2477.0210000000002,2616.777,2550.3539999999998,2581.357,2541.7829999999999,2613.6729999999998,2153.4079999999999,2523.7640000000001,2647.1170000000002,2659.6819999999998,2762.902,2780.759,2596.0859999999998,2880.4789999999998,2687.991,2721.65,2576.5790000000002,2636.97,2201.011,2634.4760000000001,2759.1210000000001,2749.1669999999999,2826.723,2930.7240000000002,2780.5949999999998,2916.4430000000002,2814.6729999999998,2849.5149999999999,2685.4029999999998,2782.808,2350.1129999999998,2741.203,2903.6280000000002,2845.6439999999998,2899.3670000000002,3001.223,2689.5259999999998,2882.2240000000002,2782.8870000000002,2816.0309999999999,2650.518,2662.4549999999999,2095.7069999999999,2532.7759999999998,2609.69,2602.7919999999999,2666.8670000000002,2680.3760000000002,1968.6569999999999,1917.5160000000001,"-","-","-","-","-","-","-","-","-"]
[null,"Régimen especial",141.792,130.85599999999999,110.855,120.56100000000001,123.92100000000001,127.973,114.985,112.23399999999999,104.691,149.22999999999999,196.36699999999999,206.21100000000001,275.31900000000002,216.48500000000001,330.279,306.78199999999998,308.685,242.41800000000001,219.29499999999999,189.727,212.86,245.32300000000001,282.755,314.55599999999998,285.17700000000002,247.5,268.75799999999998,327.11599999999999,345.47399999999999,354.65800000000002,330.49400000000003,277.137,281.71800000000002,391.42700000000002,419.33100000000002,501.83100000000002,435.02800000000002,344.32900000000001,424.45699999999999,433.51,489.60199999999998,463.64800000000002,437.68200000000002,338.11900000000003,410.58300000000003,614.22900000000004,635.89800000000002,670.23699999999997,780.75599999999997,683.31600000000003,707.5,666.92600000000004,731.274,633.452,562.51599999999996,561.60799999999995,609.38099999999997,683.06600000000003,776.58699999999999,801.48299999999995,878.25300000000004,845.43299999999999,906.18799999999999,753.601,777.85900000000004,712.86300000000006,710.02200000000005,670.61699999999996,740.79899999999998,786.89800000000002,820.03300000000002,993.24900000000002,1162.1320000000001,1146.085,1156.348,1188.528,1146.9380000000001,1052.646,1062.9259999999999,987.04100000000005,1005.776,1110.664,1195.931,1440.752,1444.364,1274.8150000000001,1298.0550000000001,1240.75,1290.856,1258.2090000000001,1353.0540000000001,1209.009,1241.296,1363.396,1492.912,1694.2819999999999,1739.9590000000001,1521.155,1668.366,1703.836,1713.3689999999999,1529.2809999999999,1560.788,1486.4090000000001,1509.5250000000001,1726.7439999999999,1696.8150000000001,1877.0809999999999,1935.1690000000001,1893.6849999999999,2093.1260000000002,1995.1179999999999,2112.9699999999998,1963.846,1916.982,1758.6969999999999,1864.2,2095.7350000000001,2272.375,2359.3200000000002,2281.125,2087.61,2224.895,2397.0500000000002,2247.973,2215.5740000000001,2134.3539999999998,1941.982,1898.067,2183.652,2360.4690000000001,2667.78,2777.721,2583.982,2847.0219999999999,2638.6170000000002,2496.33,2343.2170000000001,2346.5549999999998,2059.681,2404.2600000000002,2516.4549999999999,2749.7919999999999,2514.8249999999998,2769.3290000000002,2782.5929999999998,3008.7979999999998,2845.49,3105.471,2718.444,2787.6880000000001,2533.5369999999998,2514.3939999999998,3184.5340000000001,3423.8519999999999,3773.848,4052.0929999999998,3372.585,3459.5360000000001,3670.7669999999998,3473.2809999999999,3005.27,3066.107,2651.7280000000001,3049.9430000000002,3635.44,3762.45,4201.009,4486.6239999999998,3606.45,4061.165,4205.6360000000004,3686.183,3422.4589999999998,3372.5169999999998,3284.3040000000001,3324.7779999999998,4017.373,4064.2809999999999,4336.518,4449.1660000000002,4141.7659999999996,4425.3990000000003,4594.518,4146.83,3645.3069999999998,3963.152,3795.1990000000001,3504.3919999999998,4115.7539999999999,4372.4040000000005,4813.0119999999997,4136.9859999999999,4354.97,5600.1589999999997,4552.1329999999998,4131.47,3571.5459999999998,3335.1880000000001,4185.7280000000001,3551.03,4704.8549999999996,4729.2420000000002,4780.0339999999997,4684.9660000000003,5290.6180000000004,5686.107,3926.5880000000002,5176.8050000000003,4326.1189999999997,4435.1310000000003,4802.5259999999998,4421.2669999999998,4478.4539999999997,5300.027,5019.518,5520.4,4766.0690000000004,6995.3639999999996,6511.8149999999996,4808.6859999999997,5157.9970000000003,5180.3990000000003,4762.165,5049.59,5582.25,6728.3320000000003,6981.8389999999999,6939.8959999999997,6710.8410000000003,6830.3379999999997,6728.4229999999998,6531.3249999999998,5964.9210000000003,6127.6260000000002,5449.7309999999998,5820.8040000000001,6651.63,8440.5329999999994,8615.2309999999998,8230.3430000000008,8244.09,8676.0310000000009,6730.89,7916.2910000000002,6725.1869999999999,6996.9189999999999,6482.1360000000004,6075.3789999999999,7795.7240000000002,8240.1929999999993,8711.7860000000001,8190.326,8029.1170000000002,9183.4500000000007,7795.87,7575.8050000000003,7264.0609999999997,7739.7790000000005,6592.2820000000002,6498.9870000000001,7255.5829999999996,7792.6419999999998,8741.6180000000004,7906.7839999999997,9335.7170000000006,8417.0959999999995,9766.6550000000007,8734.9429999999993,8205.9,7966.0280000000002,7451.6270000000004,8277.4500000000007,7568.4219999999996,8746.0640000000003,9915.9060000000009,10928.154,9838.2579999999998,10583.358,9471.1509999999998,9294.6460000000006,9060.65,8155.3320000000003,7843.7939999999999,7649.09,8216.4410000000007,10646.262000000001,9135.98]
[null,"Generación neta",{"$f":"SUM(C8:C9,C16)","v":13068.148999999999},{"$f":"SUM(D8:D9,D16)","v":10712.420999999998},11526.93,10577.741999999998,10584.957,10924.120999999999,11576.189000000002,10205.642,10945.187000000002,11117.694000000001,11786.233000000002,12993.084000000001,13514.698999999997,12300.103999999999,11755.675000000001,11287.504999999999,11439.315999999999,11005.69,11985.769,10503.418000000001,11479.372000000001,11793.966999999999,12189.305999999999,12628.902,14156.68,12984.095000000001,12650.637999999999,11288.930999999999,11148.397000000001,10639.671999999999,12196.982,10732.736000000003,11459.954,11873.681,11696.458000000001,12362.295999999998,13140.405000000001,11813.756000000001,12465.810999999998,11039.029999999999,11048.340000000002,11073.045,11743.634000000002,10934.771000000001,11386.861000000001,11939.680999999999,12382.942999999997,12858.573999999997,13466.398999999999,12265.461000000001,12065.962999999998,11587.73,11675.843999999997,11945.08,12785.071,11534.760999999999,11819.751999999999,11663.625,11974.652,12946.662000000004,13831.879000000001,11863.992000000002,13066.031999999999,11607.471000000003,12152.261999999999,{"$f":"SUM(BP8:BP9,BP16)","v":12204.221},12851.400000000001,11855.100999999999,12021.492999999999,12106.901,12398.127999999999,13367.204,14632.869000000001,13945.297999999999,13471.494999999999,11789.804999999998,12359.221,12561.457,13248.592999999999,11954.499999999998,12277.069,13045.433000000003,13347.524000000001,14037.838000000002,15527.942000000001,12746.785000000002,13176.474,13369.68,13595.045,13407.127999999999,14362.291000000001,13603.636000000002,13935.167000000001,13886.026,14129.524000000001,15455.874,15109.875,13490.18,14087.417000000001,13538.297,13540.958000000001,13971.811999999998,15202.645,13813.061,14383.620999999999,14269.794000000002,14631.217000000001,16198.317000000001,16393.576000000001,14943.591999999999,15171.591,13533.998,14228.530999999999,14665.97,15959.913,14400.724,15119.388000000001,15000.137000000001,15946.373,16895.771000000001,18017.434000000001,15585.12,16304.346000000001,15194.267,15498.644000000002,16248.064,16637.700999999997,15672.647000000001,15915.037,{"$f":"SUM(EB8:EB9,EB16)","v":15880.278},16856.034,17647.403999999999,18866.726999999999,16777.413,17710.691000000003,15284.261999999999,16326.837000000001,16839.431,17514.252,16757.472999999998,16576.550000000003,16954.269,17739.712000000003,18941.038,19462.333000000002,16854.197,17381.063999999998,16757.014999999999,17493.512000000002,17815.728999999999,18588.489999999998,16916.016,17135.423000000003,17907.848000000002,17931.370999999999,18946.023000000001,20760.522000000001,19099.053,18638.846999999998,17263.099000000002,17888.825000000001,18917.373999999996,20237.305,19058.73,18462.04,19062.331999999999,19229.073000000004,20636.550000000003,21054.75,20055.496999999999,21160.099000000002,19211.657999999999,19216.088,20130.009999999998,21300.502999999997,19825.388999999999,19739.351000000002,19876.998000000003,20615.838,21424.022000000001,22692.537,21115.352000000003,21470.211000000003,19432.025000000001,19670.704999999998,20959.041000000001,22200.637999999999,20168.888999999999,20510.814999999999,20377.224999999999,21805.759999999995,23481.206999999999,24399.52,{"$f":"SUM(GN8:GN9,GN16)","v":22365.761999999999},23141.827999999998,18945.896999999997,20667.129000000001,21482.522000000001,23929.236000000004,20940.143,21636.495999999999,21226.624,21411.328000000001,23455.364999999998,24436.343999999997,21814.576999999997,23193.162,20815.392,21756.008000000002,21659.671999999999,23475.06,21797.809999999998,22091.448,22685.046999999999,23948.771999999997,24945.221000000001,25320.773000000001,23621.495999999999,23913.152999999998,23007.167000000001,21918.263999999996,22418.225000000002,24401.398000000001,22716.502,22244.034000000003,22523.435000000001,23406.497000000003,24556.806999999997,25160.519,21751.800999999999,21400.016,20032.678,20326.695,21533.944000000003,23610.471999999998,22211.129999999997,21366.214999999997,21550.293000000001,21938.98,23657.671999999999,24812.237000000001,22971.826000000001,23920.343000000001,20967.048999999999,21245.38,21489.928,24344.853999999999,22445.85,21899.867000000002,22140.173999999999,22927.362999999998,24156.002,24710.124000000003,22054.577000000001,23847.586000000003,20626.805,20739.431,{"$f":"SUM(IZ8:IZ9,IZ16)","v":21287.845000000001},22667.003000000001,21970.486000000001,21745.562999999998,21022.170999999998,21519.557999999997,22745.553,24085.172999999999,24835.143,22666.708999999999,21149.66,21513.64,21730.687999999998,22603.396000000001,22525.478999999999,21375.097000000002,21580.300999999999,21532.294999999998,23045.460999999999,23724.1,21845.155999999999,22778.330999999998,20818.088,20109.937999999998,19997.808000000001,23099.473999999998,21511.672999999999,20816.516,20864.692999999999,21785.232,22818.968000000001,22974.698,21562.208999999999,21680.830999999998,"-","-","-","-","-","-","-","-","-"]
[null,"Consumos en bombeo",-230.679,-122.288,-14.289,-28.145,-43.485999999999997,-13.114000000000001,-22.103999999999999,-49.978000000000002,-160.71299999999999,-155.501,-44.506999999999998,-154.46799999999999,-268.90800000000002,-218.38300000000001,-171.68600000000001,-12.201000000000001,-15.629,-41.384,-57.712000000000003,-72.09,-112.773,-80.879000000000005,-188.52699999999999,-192.56100000000001,-261.99200000000002,-144.315,-170.44,-297.59300000000002,-198.61500000000001,-246.85400000000001,-277.39299999999997,-274.77800000000002,-274.41399999999999,-292.15699999999998,-181.749,-170.405,-138.74100000000001,-112.68899999999999,-188.994,-202.54400000000001,-227.06899999999999,-134.422,-139.846,-190.28299999999999,-202.364,-190.64699999999999,-85.039000000000001,-74.921000000000006,-304.07600000000002,-125.633,-16.009,-34.588999999999999,-53.005000000000003,-40,-112.842,-29.006,-168.63399999999999,-188.04300000000001,-112.602,-160.94999999999999,-229.93299999999999,-151.828,-149.91399999999999,-139.09899999999999,-126.803,-126.251,-163.94499999999999,-157.261,-174.29900000000001,-178.249,-166.69,-317.45400000000001,-761.34500000000003,-190.41399999999999,-30.027000000000001,-33.853000000000002,-44.027999999999999,-72.870999999999995,-66.353999999999999,-12.074,-23.202999999999999,-39.189,-69.679000000000002,-179.58099999999999,-252.93600000000001,-37.277999999999999,-12.262,-21.497,-81.885999999999996,-85.456999999999994,-118.164,-176.339,-190.05099999999999,-144.696,-266.06099999999998,-374.262,-277.15499999999997,-134.83799999999999,-111.211,-214.86099999999999,-181.761,-114.55800000000001,-203.37299999999999,-319.92500000000001,-193.376,-171.72300000000001,-213.786,-451.18700000000001,-468.77199999999999,-342.76100000000002,-234.381,-215.75899999999999,-219.82599999999999,-177.636,-214.518,-260.83800000000002,-340.93099999999998,-489.76400000000001,-316.02600000000001,-385.16800000000001,-368.59199999999998,-313.25400000000002,-345.67200000000003,-513.572,-617.92600000000004,-330.21499999999997,-323.44200000000001,-246.34100000000001,-256.83199999999999,-362.529,-451.67700000000002,-776.83399999999995,-539.07299999999998,-307.35899999999998,-387.49700000000001,-200.959,-214.62100000000001,-258.66300000000001,-303.01100000000002,-291.53199999999998,-368.74900000000002,-364.09899999999999,-336.14600000000002,-559.55499999999995,-652.85199999999998,-506.24200000000002,-466.28899999999999,-443.39299999999997,-559.45699999999999,-628.45799999999997,-699.81299999999999,-572.27200000000005,-597.97400000000005,-575.56700000000001,-570.42200000000003,-683.94299999999998,-587.33500000000004,-379.733,-368.65,-218.7,-265.99099999999999,-415.71499999999997,-419.84399999999999,-472.31900000000002,-437.02499999999998,-390.30099999999999,-322.12400000000002,-400.39699999999999,-404.81700000000001,-276.12,-339.00299999999999,-328.995,-393.37799999999999,-425.60700000000003,-408.31200000000001,-386.44200000000001,-387.786,-411.48399999999998,-358.57499999999999,-484.18799999999999,-553.09,-432.93799999999999,-492.58699999999999,-450.62,-643.06799999999998,-634.52700000000004,-693.31299999999999,-446.08,-519.71799999999996,-482.77600000000001,-454.59100000000001,-553.63900000000001,-586.44100000000003,-529.91899999999998,-374.92099999999999,-305.80099999999999,-313.70299999999997,-370.08100000000002,-513.35599999999999,-400.35399999999998,-486.57299999999998,-541.52300000000002,-541.572,-384.12900000000002,-371.77600000000001,-395.87900000000002,-384.16800000000001,-293.39699999999999,-397.62200000000001,-356.25400000000002,-333.52100000000002,-371.38200000000001,-345.92500000000001,-317.00099999999998,-384.15499999999997,-481.20699999999999,-430.83600000000001,-419.30500000000001,-401.79399999999998,-219.05799999999999,-206.07300000000001,-285.255,-253.78200000000001,-190.80199999999999,-226.55600000000001,-297.14499999999998,-411.25599999999997,-460.64,-492.22699999999998,-392.03500000000003,-281.47199999999998,-255.75899999999999,-247.49799999999999,-224.59399999999999,-241.018,-245.006,-254.49299999999999,-284.12299999999999,-397.50099999999998,-478.46300000000002,-756.58600000000001,-554.72199999999998,-544.66499999999996,-303.16000000000003,-279.94900000000001,-230.155,-199.167,-231.14400000000001,-233.69499999999999,-346.11599999999999,-322.22399999999999,-456.19799999999998,-430.91899999999998,-280.66399999999999,-347.70499999999998,-297.01,-158.92500000000001,-139.95099999999999,-173.535,-181.065,-176.065,-301.62700000000001,-325.48099999999999,-402.01499999999999,-448.91,-444.12299999999999,-429.06599999999997,-565.84199999999998,-360.20400000000001,-322.06299999999999,-285.67099999999999,-365.726,-454.57900000000001,-397.036,-403.31200000000001,-546.01700000000005,-697.63800000000003,-562.65700000000004,-1052.424,-872.86199999999997,-452.79300000000001,-384.58100000000002,-256.57900000000001,-231.78200000000001,-211.57,-305.596,-348.255,-581.10900000000004,-858.01400000000001,-633.18799999999999,-589.976,"-","-","-","-","-","-","-","-","-"]
[null,"Enlace Península-Baleares","-","-","-","-","-","-","-","-","-","-","-","-","-","-","-","-","-","-","-","-","-","-","-","-","-","-","-","-","-","-","-","-","-","-","-","-","-","-","-","-","-","-","-","-","-","-","-","-","-","-","-","-","-","-","-","-","-","-","-","-","-","-","-","-","-","-","-","-","-","-","-","-","-","-","-","-","-","-","-","-","-","-","-","-","-","-","-","-","-","-","-","-","-","-","-","-","-","-","-","-","-","-","-","-","-","-","-","-","-","-","-","-","-","-","-","-","-","-","-","-","-","-","-","-","-","-","-","-","-","-","-","-","-","-","-","-","-","-","-","-","-","-","-","-","-","-","-","-","-","-","-","-","-","-","-","-","-","-","-","-","-","-","-","-","-","-","-","-","-","-","-","-","-","-","-","-","-","-","-","-","-","-","-","-","-","-","-","-","-","-","-","-","-","-","-","-","-","-","-","-","-","-","-","-","-","-","-","-","-","-","-","-","-","-","-","-","-","-","-","-","-","-","-","-","-","-","-","-","-","-","-","-","-","-","-","-","-","-","-","-","-","-","-","-","-","-","-","-","-","-","-","-","-","-","-","-","-","-","-","-","-","-",4.3890999999999999E-2,-0.52029999999999998,-2.681,-25.376000000000001,-36.695,-35.113,-27.254999999999999,-35.802999999999997,-36.378999999999998,-68.013999999999996,-74.016000000000005,-70.230999999999995,-67.436999999999998,-91.247,-108.82299999999999,-90.837999999999994,-84.296999999999997,-88.233999999999995,-83.694000000000003,-112.81100000000001,-145.596,-157.38800000000001,-113.879,-108.857,-86.135999999999996,-87.954999999999998,-98.644000000000005,-86.918999999999997,-88.563999999999993,"-","-","-","-","-","-","-","-","-"]
[null,"Saldo intercambios internacionales",-269.29700000000003,16.550999999999998,-11.987,-20.997,159.398,0.442,-28.161000000000001,-32.036000000000001,14.863,-21.733000000000001,-139.47,-87.152000000000001,-24.533000000000001,22.888999999999999,-122.07,-226.91900000000001,-191.566,-45.838999999999999,-92.111999999999995,27.849,-99.835999999999999,-14.272,56.173999999999999,33.649000000000001,-96.052000000000007,-312.209,-213.21600000000001,188.66300000000001,271.98,371.25900000000001,87.992000000000004,216.89599999999999,131.30699999999999,-16.239000000000001,8.0229999999999997,2.72,95.905000000000001,222.43799999999999,184.267,48.24,224.11500000000001,217.79499999999999,282.58,18.097999999999999,-4.7850000000000001,-0.85399999999999998,-0.36499999999999999,-20.361999999999998,-20.454999999999998,19.067,44.103000000000002,42.116,71.337999999999994,56.383000000000003,128.05099999999999,134.20599999999999,271.50099999999998,383.18400000000003,371.48200000000003,354.12900000000002,382.27800000000002,376.39499999999998,379.125,353.88600000000002,378.61599999999999,369.63499999999999,406.47899999999998,389.68700000000001,389.56900000000002,434.89600000000002,380.024,248.45500000000001,-23.15,-228.839,95.808999999999997,234.45,175.22300000000001,297.35899999999998,337.60500000000002,288.54199999999997,53.530999999999999,-123.297,-16.169,-31.698,-483.959,-204.565,-220.011,-410.142,-439.19400000000002,-268.20999999999998,-397.76100000000002,-455.005,-103.389,13.218999999999999,65.415999999999997,-169.27099999999999,339.84100000000001,345.96100000000001,404.92,388.81900000000002,355.11399999999998,244.86199999999999,284.57,320.09500000000003,-25.49,206.148,283.52199999999999,253.50200000000001,244.11699999999999,366.79399999999998,462.85599999999999,712.678,628.45799999999997,570.85799999999995,515.62199999999996,504.84,210.995,438.75,625.31500000000005,437.96199999999999,196.386,415.9,422.24900000000002,519.16999999999996,683.53800000000001,173.875,258.827,208.52799999999999,340.72800000000001,443.80599999999998,516.19799999999998,261.39,-38.209000000000003,21.672999999999998,-83.963999999999999,447.06200000000001,578.60299999999995,504.50400000000002,431.03699999999998,282.04500000000002,283.08600000000001,139.702,402.85199999999998,489.56900000000002,532.01599999999996,648.78599999999994,721.60400000000004,705.34900000000005,259.03800000000001,187.01,575.93600000000004,236.11799999999999,428.06299999999999,298.13900000000001,490.714,245.995,26.416,50.988,247.018,-36.927,134.05699999999999,409.34500000000003,237.34800000000001,123.48699999999999,160.179,55.116,-24.058,-119.06699999999999,-318.32600000000002,-299.78699999999998,-234.03200000000001,-621.22,-303.66399999999999,-321.33600000000001,-241.46199999999999,-454.68900000000002,-53.951999999999998,-330.99,-45.66,198.1,295.54899999999998,299.65800000000002,51.222999999999999,68.78,176.042,176.29,31.582000000000001,-174.63399999999999,-495.36900000000003,-662.58799999999997,-689.60500000000002,-420.322,-365.17399999999998,-583.77499999999998,-799.06,41.878,18.827999999999999,-262.10700000000003,-377.87900000000002,63.244999999999997,-310.53500000000003,-236.93299999999999,-285.29700000000003,-175.709,94.564999999999998,-235.49199999999999,-243.36199999999999,-261.05399999999997,-494.78800000000001,-223.46299999999999,-289.77800000000002,-314.01400000000001,-846.57600000000002,-1153.7719999999999,-1052.93,-729.80100000000004,-456.80399999999997,-655.58699999999999,-1199.348,-1291.615,-761.27499999999998,-1052.3420000000001,-907.81299999999999,-796.07299999999998,-935.81,-1102.0160000000001,-948.447,-932.45600000000002,-897.62800000000004,-474.27699999999999,-192.952,-548.93399999999997,-437.37599999999998,-769.16099999999994,-944.90899999999999,-817.41700000000003,-711.16800000000001,-941.36500000000001,-897.21199999999999,-454.01499999999999,-304.71300000000002,-506.19600000000003,-560.11599999999999,-729.09500000000003,-542.81500000000005,-821.22799999999995,-1000.653,-758.59900000000005,-964.25699999999995,-1295.51,-593.21,-256.28699999999998,-611.33580500000005,-358.84235899999999,-762.63600899999994,-1074.8113169999999,-233.62379999999999,-404.76718699999998,-470.93457000000001,-197.10088099999999,-548.75685799999997,-381.58426100000003,-579.51663299999996,-466.21665400000001,-525.28899999999999,-1375.7909999999999,-869.971,-1211.9179999999999,-939.84299999999996,-625.32899999999995,-629.524,-646.21,-1047.3040000000001,-1457.2080000000001,-791.40700000000004,-1080.1559999999999,-364.452,-642.39599999999996,-430.41899999999998,-411.18099999999998,-132.05500000000001,-358.69400000000002,-1060.433,-517.678,-821.875,-679.12,-892.91099999999994,-420.928,28.102,-490.541,-238.625,"-","-","-","-","-","-","-","-","-"]
[null,"Demanda transporte (b.c.)",{"$f":"SUM(C17:C20)","v":12568.172999999999},{"$f":"SUM(D17:D20)","v":10606.683999999997},11500.654,10528.599999999999,10700.868999999999,10911.448999999999,11525.924000000003,10123.628000000001,10799.337000000001,10940.460000000001,11602.256000000003,12751.464,13221.257999999998,12104.609999999999,11461.919000000002,11048.385,11232.120999999997,10918.467000000001,11835.945000000002,10459.177000000001,11266.763000000003,11698.815999999997,12056.953,12469.99,13798.636,12527.571,12266.981999999998,11180.000999999998,11221.762000000001,10764.076999999999,12007.581,10674.854000000003,11316.847,11565.285000000002,11522.732,12194.610999999997,13097.569000000001,11923.505000000001,12461.083999999997,10884.725999999999,11045.386000000002,11156.418,11886.368000000002,10762.586000000001,11179.712000000001,11748.179999999998,12297.538999999997,12763.290999999997,13141.868,12158.895,12094.056999999997,11595.257,11694.176999999998,11961.463,12800.279999999999,11639.960999999999,11922.618999999999,11858.766,12233.531999999999,13139.841000000004,13984.224,12088.559000000003,13295.242999999999,11822.258000000003,12404.074999999999,{"$f":"SUM(BP17:BP20)","v":12447.605},13093.934000000001,12087.526999999998,12236.762999999997,12363.548000000001,12611.461999999998,13298.205,13848.374000000002,13526.044999999998,13537.276999999998,11990.402,12490.415999999999,12785.945000000002,13519.843999999999,12230.967999999997,12307.397000000001,12882.947000000002,13261.676000000001,13826.559000000001,14791.047,12504.942000000001,12944.200999999999,12938.041000000001,13073.965,13053.460999999999,13846.366,12972.292000000003,13641.727000000003,13754.548999999999,13928.879000000001,14912.340999999999,15172.561,13701.303,14381.126000000002,13712.254999999999,13714.311,14102.115999999996,15283.842000000001,13813.231,14164.754999999999,14304.219000000001,14700.953000000001,16000.632000000001,16168.921,14967.624999999998,15400.066000000001,14030.916999999999,14637.163,15059.191999999999,16261.017,14644.726000000001,14989.452000000001,14949.123000000001,16255.662,16948.564999999999,17845.227999999999,15687.766,16380.923000000001,15199.865,15564.256000000003,16091.724,16573.085999999999,15634.834000000001,15998.932999999999,{"$f":"SUM(EB17:EB20)","v":15961.555},16920.555,17131.96,18289.445,16491.726999999999,17239.230000000003,15530.364999999998,16690.819000000003,17085.272000000001,17642.278000000002,16747.985999999997,16490.887000000002,16729.872000000003,17806.418000000001,18871.052,19341.497000000003,16996.740999999998,17636.378999999997,17018.970999999998,17193.093000000004,17374.280999999999,18464.613000000001,16579.861999999997,16965.512000000002,17630.420000000002,17851.663,18508.075000000001,20199.603000000003,18770.308000000001,18517.214999999997,17007.472000000002,17756.891000000003,18911.003999999997,20054.809000000001,18709.898000000001,18185.194,18727.147000000001,18882.891000000003,20117.086000000003,20331.607,19479.59,20587.064000000002,18261.442999999999,18519.045999999998,19383.066999999999,20650.728999999996,18984.258000000002,19297.613000000001,19134.524000000001,20211.602999999999,21137.934000000001,22434.995999999999,20982.072000000004,21028.847000000005,19050.185000000001,19203.679,20500.804000000004,21538.906999999999,19548.174999999999,19495.727999999999,19231.860999999997,20661.563999999995,22507.245999999999,23447.905000000002,{"$f":"SUM(GN17:GN20)","v":21252.067999999996},21967.846999999998,18681.973999999998,20372.254000000001,20850.334000000003,23038.001000000004,20603.034,20839.387999999999,20448.167999999998,20584.459000000003,22895.526999999998,24159.132999999994,21183.205999999998,22565.631999999998,20260.940999999999,20863.598000000002,21079.954999999998,22851.761000000002,21112.413999999997,20898.947,21214.273999999998,22511.686999999998,23734.213000000003,24433.133000000002,22546.603999999999,22312.010999999999,21496.493999999999,20950.915999999994,21080.628000000001,23239.803000000004,21729.627,21081.668000000001,21124.274000000001,22046.794000000002,23163.710999999999,23770.664000000001,20885.489000000001,20925.591999999997,19227.985000000001,19641.821,20540.189000000002,22424.544999999998,21148.706999999995,20400.553999999996,20324.805,20644.267,22725.194,23750.938000000002,21910.907999999999,22815.561999999998,19934.793999999998,20422.616000000002,20438.545000000002,23145.034,21456.107,20701.915000000001,20498.547999999999,22011.929,23443.517,23667.869195000003,21415.070641000002,22737.244991,19254.983683000002,20346.8822,{"$f":"SUM(IZ17:IZ20)","v":20743.126812999999},22022.533429999999,21592.320119000004,21020.741141999999,20338.959738999998,20614.604257999999,21876.801046,23108.293000000001,22989.852999999999,21330.976999999999,19336.787,20186.338,20747.492999999999,21651.822,21445.528999999999,19799.198,19655.826000000001,20270.138999999999,21328.041000000001,22553.187000000002,20549.264999999999,21211.190999999999,19445.811000000002,19441.396000000001,19141.722000000002,21636.866000000002,20604.825000000001,19669.191999999999,19771.12,20457.93,21728.975999999999,22046.142,20351.561000000002,20763.666000000001,"-","-","-","-","-","-","-","-","-"]
[]
[null,"Balance eléctrico Islas Baleares (MWh)","2006-01-01","2006-02-01","2006-03-01","2006-04-01","2006-05-01","2006-06-01","2006-07-01","2006-08-01","2006-09-01","2006-10-01","2006-11-01","2006-12-01","2007-01-01","2007-02-01","2007-03-01","2007-04-01","2007-05-01","2007-06-01","2007-07-01","2007-08-01","2007-09-01","2007-10-01","2007-11-01","2007-12-01","2008-01-01","2008-02-01","2008-03-01","2008-04-01","2008-05-01","2008-06-01","2008-07-01","2008-08-01","2008-09-01","2008-10-01","2008-11-01","2008-12-01","2009-01-01","2009-02-01","2009-03-01","2009-04-01","2009-05-01","2009-06-01","2009-07-01","2009-08-01","2009-09-01","2009-10-01","2009-11-01","2009-12-01","2010-01-01","2010-02-01","2010-03-01","2010-04-01","2010-05-01","2010-06-01","2010-07-01","2010-08-01","2010-09-01","2010-10-01","2010-11-01","2010-12-01","2011-01-01","2011-02-01","2011-03-01","2011-04-01","2011-05-01","2011-06-01","2011-07-01","2011-08-01","2011-09-01","2011-10-01","2011-11-01","2011-12-01","2012-01-01","2012-02-01","2012-03-01","2012-04-01","2012-05-01","2012-06-01","2012-07-01","2012-08-01","2012-09-01","2012-10-01","2012-11-01","2012-12-01","2013-01-01","2013-02-01","2013-03-01","2013-04-01","2013-05-01","2013-06-01","2013-07-01","2013-08-01","2013-09-01","2013-10-01","2013-11-01","2013-12-01","2014-01-01","2014-02-01","2014-03-01","2014-04-01","2014-05-01","2014-06-01","2014-07-01","2014-08-01","2014-09-01","2014-10-01","2014-11-01","2014-12-01"]
[null,"Carbón",304170,265621,302322,260126,294046,309852,317446,305396,276517,193097,218341,286674,274668,246941,238817,285416,247338,241663,303113,317574,286207,249081,219363,285139,311287,292521,288962,235587,268479,303289,321018,328762,312014,266842,236929,206264,204598,289346,250808,263553,294358,315447,324723,334483,283636,306646,276793,305337,313962,275371,308833,294283,250111,303418,318538,313415,311467,237934,210121,243320,295133,243006,146476,212658,262439,278463,319251,316333,296310,219322,183758,257355,288414,239146,245341,223999,249690,265848,297967,297787,258095,204181,177616,192516,201410,190182,205466,193764,206845,221057,271118,273187,252989,187760,185858,201378,201469,165889,173138,"-","-","-","-","-","-","-","-","-"]
[null,"Motores diesel",80652,69572,72169,66716,81076,86707,105960,103175,95127,81332,64983.999999999993,76464,81416,68906,77837,74651,87692,95983,106601,109134,100465,82705,77259,83865,84032,74080,78904,75715,89564,99409,119539,121890,101460,81122,75374,83828,87876,70154,73703,76893,78501,94380,108752,109671,88816,72989,64294,76981,82990,73176,80482,72546,85890,97218,116313,117282,101071,79481,68774,84362,85063,67683,80469,74893,86911,93147,100047,102235,85216,58367,52463,77686,83609,77777,77033,75908,87525,96927,107147,106393,83589,63612,49286,57068,61053,54895,54263,56787,69545,72253,92567,88846,68023,51819,39767,56975,60148,56565,41875,"-","-","-","-","-","-","-","-","-"]
[null,"Turbina de gas",7146,11165.434999999999,23813.138999999999,13822,15746,29484,56825,41478,33885,30210.951999999997,19245,17641.22,24481,21283,21348,17654,38054,33629,42039,39049,21742,21535,21137,18279,17810,20254,20278,12832,13605,23077,35033,38909,31960,21457,19739,22425,19469,21040,20429,12593,24996,34520,53809,53503,37806,25052,21492,21306,23742,25973,22804,17103,16001.999999999998,20565,41860,42522,27318,22834,21905,22193,17282,21177,17980,13464,17421,28649,50739,60383,48464,39771,31757,10368,12997,25034,14838,8200,12998,30318,43759,62529,39879,34866,29778,32551,31761,34154,33144,26130,33162,40610,63037,69949,59021,52285,43557,39056,29186,25184,40439,"-","-","-","-","-","-","-","-","-"]
[null,"Fuel + Gas",{"$f":"SUM(C25:C26)","v":87798},{"$f":"SUM(D25:D26)","v":80737.434999999998},95982.138999999996,80538,96822,116191,162785,144653,129012,111542.95199999999,84229,94105.22,105897,90189,99185,92305,125746,129612,148640,148183,122207,104240,98396,102144,101842,94334,99182,88547,103169,122486,154572,160799,133420,102579,95113,106253,107345,91194,94132,89486,103497,128900,162561,163174,126622,98041,85786,98287,106732,99149,103286,89649,101892,117783,158173,159804,128389,102315,90679,106555,102345,88860,98449,88357,104332,{"$f":"SUM(BP25:BP26)","v":121796},150786,162618,133680,98138,84220,88054,96606,102811,91871,84108,100523,127245,150906,168922,123468,98478,79064,89619,92814,89049,87407,82917,102707,112863,155604,158795,127044,104104,83324,96031,89334,81749,82314,"-","-","-","-","-","-","-","-","-"]
[null,"Ciclo combinado",118748,116359,74603,60750,82747,111505,179224,173356,137161,168823,83354,81754,113095,100458,137421,69351,117087,180352,193963,176738,147002,149700,140244,117667,96315,95089,101246,125308,119289,110998,185138,184514,126004,116212,115850,205373,213206,85237,138631,94121,73626,101925,181815,172825,125884,60214,31977,68764,87576,94357,73922,39133,94041,66276,167022,153809,79224,112120,103405,125400,91273,105846,211900,92199,94448,99449,124116,158687,120561,124248,100679,66424,73375,139993,57673,55578,60484,99861,116315,129949,51329,75558,45265,38215,40847,54550,41943,27800,41954,17493,39022,32741,4934,57383,38087,50182,35577,47718,49413,"-","-","-","-","-","-","-","-","-"]
[null,"Generación auxiliar",0,0,0,0,0,0,354,4848,2473,1,0,0,0,0,0,0,0,0,2834,8621,1575,0,0,0,0,0,0,0,0,0,2053,2602,1289,0,0,0,0,0,0,0,0,0,1489,3044,1045,0,0,0,0,0,0,0,0,46,2622,2930,1108,0,0,0,0,0,0,0,0,1083,2490,3647,1537,0,0,0,0,0,0,0,0,984,2564,3950,1310,1,0,0,0,0,0,0,1,625,2313,3045,917,0,0,0,0,0,0,"-","-","-","-","-","-","-","-","-"]
[null,"Régimen ordinario",{"$f":"SUM(C24,C27:C29)","v":510716},{"$f":"SUM(D24,D27:D29)","v":462717.435},472907.13899999997,401414,473615,537548,659809,628253,545163,473463.95199999999,385924,462533.22,493660,437588,475423,447072,490171,551627,648550,651116,556991,503021,458003,504950,509444,481944,489390,449442,490937,536773,662781,676677,572727,485633,447892,517890,525149,465777,483571,447160,471481,546272,670588,673526,537187,464901,394556,472388,508270,468877,486041,423065,446044,487523,646355,629958,520188,452369,404205,475275,488751,437712,456825,393214,461219,{"$f":"SUM(BP24,BP27:BP29)","v":500791},596643,641285,552088,441708,368657,411833,458395,481950,394885,363685,410697,493938,567752,600608,434202,378218,301945,320350,335071,333781,334816,304481,351507,352038,468057,467768,385884,349247,307269,347591]
[null,"Consumos generación",-27842,-24795,-27491,-25171,-27502,-28813,-33298,-33423,-30412,-23663,-22664,-26457,-29146,-25771,-26451,-28320,-27538,-29987,-36851,-36943,-32926,-29775,-26207,-30748,-31354,-29589,-31119,-27482,-30042,-31499,-36836,-37540,-33922,-30222,-26601,-27494,-28293,-27561,-29380,-28739,-30925,-32145,-36550,-37390,-32222,-30470,-27873,-31602,-32373,-28385,-31806,-29641,-30161,-31841,-38025,-38346,-34759,-28648,-24993,-28475,-32024,-28217,-24560,-28048,-30352,-32255,-37324,-42462,-36592,-29532,-25696,-28648,-31265,-29233,-28551,-27401,-30313,-30423,-35438,-35632,-29955,-25154,-21571,-24082,-25161,-23302,-24241,-23118,-25506,-25129,-32022,-31916,-28288,-25423,-23778,-25214,-23518,-21305,-14406,"-","-","-","-","-","-","-","-","-"]
[null,"Eólica",514.35,371.37400000000002,548.18799999999999,366.096,438.988,366.65,202.55,548.33199999999999,264.46800000000002,347.64699999999999,407.40800000000002,501.30500000000001,402,480,585,246,392,334,358,444,320,541,784,770,415,420,575,741,212,290,272,328,462,470,620,692,472,688,529,482,477,383,126,147,346,531,538,824,599,689,590,377,312,275,322,395,303,477,529,703,472,638,627,553,435,359,432,356,229,587,549,592,479,1092,557,570,377,358,430,261,663,421,535,751,687,674,767,552,439,391,196,340,342,476,771,480,581,629,650,"-","-","-","-","-","-","-","-","-"]
[null,"Solar fotovoltaica",43.972999999999999,50.86,83.445999999999998,87.706999999999994,102.911,110.639,126.145,120.86799999999999,111.756,105.83499999999999,84.200999999999993,72.453999999999994,95,122,165,156,211,207,226,209,180,139,119,123,134,194,416,664,955,1807,2659,4719,4821,4337,3391,4283,3838,5190,7556,7099,8802,9040,8898,8709,6680,6538,5096,3487,3845,4810,6958,8061,9047,8957,10437,10003,8360,6793,5600,4886,5358,6378,8047,9928,10914,10324,10211,11535,9702,8434,4998,5392,5976,6824,9968,10062,12287,11684,11656,12311,10200,9373,5935,6611,7273,7404,11494,11198,12629,13804,14311,12861,10747,8780,5604,6094,5801,8300,10872.681,"-","-","-","-","-","-","-","-","-"]
[null,"Térmica renovable","-","-","-","-","-","-","-","-","-","-","-","-","-","-","-","-","-","-","-","-","-","-","-","-","-","-","-","-","-","-","-","-","-","-","-","-","-","-","-","-","-","-","-","-","-","-","-","-","-","-","-","-","-","-","-","-","-","-","-","-",0,0,0,0,0,0,0,0,0,0,0,0,45,23,79,49,42,39,36,47,53,57,55,44,73,47,75,93,16,73,75,30,44,65,60,92,123,172,229,"-","-","-","-","-","-","-","-","-"]
[null,"Cogeneración y resto",13134.677,11651.766,12757.366,12126.197,9241.1010000000006,11667.710999999999,11282.305,11336.8,10957.776,11996.518,10537.391,12423.241,10231,11272,12861,12018,8170,9987,8947,9642,9504,1019,8067,12215,11005,12227,12415,11349,11758,11450,11883,11405,10678,11820,11914,12428,12679,9600,972,11178,12259,11199,11190,10723,11294,11475,11970,12503,10815,9246,11253,11204,10903,10391,11522,22957,25904,13766,17545,20738,15300,13950,13834,17844,12581,24337,27559,28922,29380,27852,22326,26863,23054,18809,21713,18602,25063,22209,29852,28907,23443,16725,16004,27592,19631,14416,18168,15890,19024,26233,24865,25589,30297,19897,17598,20007,17963,14698,19928,"-","-","-","-","-","-","-","-","-"]
[null,"Régimen especial",{"$f":"SUM(C32:C35)","v":13693},{"$f":"SUM(D32:D35)","v":12074},13389,12580,9783,12145,11611,12006,11334,12450,11029,12997,10728,11874,13611,12420,8773,10528,9531,10295,10004,1699,8970,13108,11554,12841,13406,12754,12925,13547,14814,16452,15961,16627,15925,17403,16989,15478,9057,18759,21538,20622,20214,19579,18320,18544,17604,16814,15259,14745,18801,19642,20262,19623,22281,33355,34567,21036,23674,26327,21130,20966,22508,28325,23930,{"$f":"SUM(BP32:BP35)","v":35020},38202,40813,39311,36873,27873,32847,29554,26748,32317,29283,37769,34290,41974,41526,34359,26576,22529,34998,27664,22541,30504,27733,32108,40501,39447,38820,41430,29218,24033,26673]
[null,"Generación neta",{"$f":"SUM(C30:C31,C36)","v":496567},{"$f":"SUM(D30:D31,D36)","v":449996.435},458805.13899999997,388823,455896,520880,638122,606836,526085,462250.95199999999,374289,449073.22,475242,423691,462583,431172,471406,532168,621230,624468,534069,474945,440766,487310,489644,465196,471677,434714,473820,518821,640759,655589,554766,472038,437216,507799,513845,453694,463248,437180,462094,534749,654252,655715,523285,452975,384287,457600,491156,455237,473036,413066,436145,475305,630611,624967,519996,444757,402886,473127,477857,430461,454773,393491,454797,{"$f":"SUM(BP30:BP31,BP36)","v":503556},597521,639636,554807,449049,370834,416032,456684,479465,398651,365567,418153,497805,574288,606502,438606,379640,302903,331266,337574,333020,341079,309096,358109,367410,475482,474672,399026,353042,307524,349050,327330,297850,322139,"-","-","-","-","-","-","-","-","-"]
[null,"Enlace Península-Baleares","-","-","-","-","-","-","-","-","-","-","-","-","-","-","-","-","-","-","-","-","-","-","-","-","-","-","-","-","-","-","-","-","-","-","-","-","-","-","-","-","-","-","-","-","-","-","-","-","-","-","-","-","-","-","-","-","-","-","-","-","-","-","-","-","-","-","-","-","-","-",-43.890999999999998,520.29999999999995,2681,25376,36695,35113,27255,35803,36379,68014,74016,70231,67437,91247,108823,90838,84297,88234,83694,112811,145596,157388,113879,108857,86136,87955,98644,86919,88564,"-","-","-","-","-","-","-","-","-"]
[null,"Demanda transporte (b.c.)",{"$f":"SUM(C37:C38)","v":496567},{"$f":"SUM(D37:D38)","v":449996.435},458805.13899999997,388823,455896,520880,638122,606836,526085,462250.95199999999,374289,449073.22,475242,423691,462583,431172,471406,532168,621230,624468,534069,474945,440766,487310,489644,465196,471677,434714,473820,518821,640759,655589,554766,472038,437216,507799,513845,453694,463248,437180,462094,534749,654252,655715,523285,452975,384287,457600,491156,455237,473036,413066,436145,475305,630611,624967,519996,444757,402886,473127,477857,430461,454773,393491,454797,{"$f":"SUM(BP37:BP38)","v":503556},597521,639636,554807,449049,370790.109,416552.3,459365,504841,435346,400680,445408,533608,610667,674516,512622,449871,370340,422513,446397,423858,425376,397330,441803,480221,621078,632060,512905,461899,393660,437005,425974,384769,410703,"-","-","-","-","-","-","-","-","-"]
[]
[null,"Balance eléctrico Islas Canarias (MWh)","2006-01-01","2006-02-01","2006-03-01","2006-04-01","2006-05-01","2006-06-01","2006-07-01","2006-08-01","2006-09-01","2006-10-01","2006-11-01","2006-12-01","2007-01-01","2007-02-01","2007-03-01","2007-04-01","2007-05-01","2007-06-01","2007-07-01","2007-08-01","2007-09-01","2007-10-01","2007-11-01","2007-12-01","2008-01-01","2008-02-01","2008-03-01","2008-04-01","2008-05-01","2008-06-01","2008-07-01","2008-08-01","2008-09-01","2008-10-01","2008-11-01","2008-12-01","2009-01-01","2009-02-01","2009-03-01","2009-04-01","2009-05-01","2009-06-01","2009-07-01","2009-08-01","2009-09-01","2009-10-01","2009-11-01","2009-12-01","2010-01-01","2010-02-01","2010-03-01","2010-04-01","2010-05-01","2010-06-01","2010-07-01","2010-08-01","2010-09-01","2010-10-01","2010-11-01","2010-12-01","2011-01-01","2011-02-01","2011-03-01","2011-04-01","2011-05-01","2011-06-01","2011-07-01","2011-08-01","2011-09-01","2011-10-01","2011-11-01","2011-12-01","2012-01-01","2012-02-01","2012-03-01","2012-04-01","2012-05-01","2012-06-01","2012-07-01","2012-08-01","2012-09-01","2012-10-01","2012-11-01","2012-12-01","2013-01-01","2013-02-01","2013-03-01","2013-04-01","2013-05-01","2013-06-01","2013-07-01","2013-08-01","2013-09-01","2013-10-01","2013-11-01","2013-12-01","2014-01-01","2014-02-01","2014-03-01","2014-04-01","2014-05-01","2014-06-01","2014-07-01","2014-08-01","2014-09-01","2014-10-01","2014-11-01","2014-12-01"]
[null,"Hidráulica",0,0,0,0,0,0,0,0,0,0,0,0,0,0,0,0,0,0,0,0,0,0,0,0,0,0,0,0,0,0,0,0,0,0,0,0,0,0,0,0,0,0,0,0,0,0,0,0,0,0,0,0,0,0,0,0,0,0,0,0,0,0,0,0,0,0,0,0,0,0,0,0,0,0,0,0,0,0,0,0,0,0,0,0,0,0,0,0,0,0,0,0,0,0,0,0,0,0,0,"-","-","-","-","-","-","-","-","-"]
[null,"Motores diesel",174272,156265,164925,151552,180167,187228,185807,189437,192228,189787,166965,179457,197672,161847,179690,167663,169895,176907,192692,188802,179232,181371,179943,178981,179607,179415,174164,181447,194740,180367,190033,191351,194367,186659,179072,188955,184879,170019,177344,170660,184581,186807,192022,194057,194928,203651,192935,205227,198123,176377,198441,183086,171411,174231,191432,209264,200393,211241,194996,195717,198853,179318,197991,186938,180008,189562,197865,196331,198544,188812,183072,188638,189749,186560,190125,188392,190135,173570,182699,209079,182150,185194,173638,181318,190400,175579,189469,165396,176083,170732,176365,192358,180417,188981,189700,194402,192252,175927,196807,"-","-","-","-","-","-","-","-","-"]
[null,"Turbina de gas",53871,59467,92789,62125,58784,76104,68372,69954,77816,84642,75257,59155,65312,64919,70048,64891,63040,51185,48733,57400,63877,58355,56169,48537,50180,39367,29401,33372,41220,48019,48131,43015,52153,37850,30282,31072,35701,22346,30851,11760,39585,38566,26253,30479,40861,32141,26055,17854,14041,19355,20739,14477,31852,32884,30675,25771,29279,47879,46042,40745,35548,38129,50319,31020,34679,30047,47302,45415,58658,59026,60028,55573,51650,48431,52807,44737,44793,43197,43271,51810,61751,65397,49616,42649,35145,29185,33003,37340,27175,23862,32719,33937,28664,35870,33135,30054,27123,34292,16049,"-","-","-","-","-","-","-","-","-"]
[null,"Turbina de  vapor",376112,330339,378479,323188,297962,271142,277744,290266,307097,284504,294800,288934,292676,267095,295372,319921,243071,303383,277264,326094,314312,322714,305535,329909,353284,337726,315090,295845,310123,249677,298434,297867,309850,324439,307762,315112,309340,268568,302351,274729,314566,275957,291402,306790,305797,323217,272173,288997,299749,261074,281674,256723,277433,278447,269509,289110,278937,238013,241333,269683,260204,243727,286731,248384,240941,198597,248671,236116,226369,252631,200968,230067,255418,217507,247595,223942,216365,241014,258029,254168,242047,256626,265170,246375,212962,213000,237810,225089,214340,193750,234056,233760,222696,242988,225268,240600,237022,194104,150873,"-","-","-","-","-","-","-","-","-"]
[null,"Fuel + Gas",{"$f":"SUM(C43:C45)","v":604255},{"$f":"SUM(D43:D45)","v":546071},636193,536865,536913,534474,531923,549657,577141,558933,537022,527546,555660,493861,545110,552475,476006,531475,518689,572296,557421,562440,541647,557427,583071,556508,518655,510664,546083,478063,536598,532233,556370,548948,517116,535139,529920,460933,510546,457149,538732,501330,509677,531326,541586,559009,491163,512078,511913,456806,500854,454286,480696,485562,491616,524145,508609,497133,482371,506145,494605,461174,535041,466342,455628,{"$f":"SUM(BP43:BP45)","v":418206},493838,477862,483571,500469,444068,474278,496817,452498,490527,457071,451293,457781,483999,515057,485948,507217,488424,470342,438507,417764,460282,427825,417598,388344,443140,460055,431777,467839,448103,465056,456397,404323,363729,"-","-","-","-","-","-","-","-","-"]
[null,"Ciclo combinado",131271,115143,82597,144791,160746,173692,194470,212603,206606.12,222755,210816,224006,210641,176435,206001,157568,252075,191794,237173,195891,202136,237728,233737,223487,206702,173413,226628,222789,200663,248554,227552,228951,236148,225858,226246,237804,225205,209785,227732,203237,151980,207528,239767,216804,206301,236969,246609,240516,237029,209195,235470,223193,199746,196628,225689,231363,242841,275963,261818,255809,261451,196239,193977,220456,254733,284703,229979,261274,264631,276993,299193,272455,267032,242549,236102,218961,258764,236424,240574,240874,281545,262202,236795,251872,287936,229036,251964,250876,256984,251364,270195,277212,277343,270973,252812,257719,255129,234399,307706,"-","-","-","-","-","-","-","-","-"]
[null,"Generación auxiliar",0,0,0,0,0,0,0,0,0,0,0,0,12592,12035,12167,12158,10919,9439,10686,12462,11326,11935,10056,9039,10202,9659,10861,10032,6829,6410,7670,7858,5141,4729,5487,4869,4385,3909,4661,2586,2823,3208,5305,3351,1682.5419999999999,811,899.51199999999994,170,0,0,0.48399999999999999,0,0,"",0,0,0,0,0,0,0,0,0,0,0,0,0,0,0,0,0,0,0,0,0,0,0,0,0,0,0,0,0,0,0,0,0,0,0,0,0,0,0,0,0,0,0,0,0,"-","-","-","-","-","-","-","-","-"]
[null,"Régimen ordinario",{"$f":"SUM(C42,C46:C48)","v":735526},{"$f":"SUM(D42,D46:D48)","v":661214},718790,681656,697659,708166,726393,762260,783747.12,781688,747838,751552,778893,682331,763278,722201,739000,732708,766548,780649,770883,812103,785440,789953,799975,739580,756144,743485,753575,733027,771820,769042,797659,779535,748849,777812,759510,674627,742939,662972,693535,712066,754749,751481,749569.54200000002,796789,738671.51199999999,752764,748942,666001,736324.48400000005,677479,680442,682190,717305,755508,751450,773096,744189,761954,756056,657413,729018,686798,710361,{"$f":"SUM(BP42,BP46:BP48)","v":702909},723817,739136,748202,777462,743261,746733,763849,695047,726629,676032,710057,694205,724573,755931,767493,769419,725219,722214,726443,646800,712246,678701,674582,639708,713335,737267,709120,738812,700915,722775]
[null,"Consumos generación",-42858,-40733,-40446,-39517,-40003,-37459,-40656,-42237,-39875,-41475,-40572,-41175,-43672,-38950,-42172,-40598,-38351,-39860,-41543,-44331,-41547,-42470,-42644,-43457,-45404,-42357,-43343,-43012,-41513,-40255,-44504,-43186,-43171,-43862,-42038,-43261,-42832,-36007,-40195,-38790,-39063,-37259,-40627,-40941,-40012,-41816,-38465,-41051,-42257,-38179,-41788,-39753,-39538,-39501,-41072,-43103,-42177,-40127,-38986,-40755,-40974,-34960,-40422,-38748,-40322,-38705,-40597,-40144,-39478,-40979,-37435,-39379,-41071,-37843,-40831,-37230,-39790,-37648,-39935,-41405,-41617,-41918,-38662,-28300,-40547,-34355,-36880,-36711,-35899,-34303,-36899,-36965,-35281,-36991,-35274,-37789,-37527,-33919,-29753,"-","-","-","-","-","-","-","-","-"]
[null,"Hidráulica",0,0,0,0,0,0,0,0,0,0,0,0,0,0,0,0,0,0,82,190,247,92,278,287,287,244,240,0,185,315,305,97,0,0,0,0,9,164,175,50,0,0,0,0,0,0,0,0,0,0,0,0,0,0,0,0,0,0,0,0,0,0,2,239,165,131,245,179,201,238,164,111,116,0,163,247,219,207,63,231,222,206,40,77,225,205,137,137,292,286,286,286,292,304,293,306,305,276,420,"-","-","-","-","-","-","-","-","-"]
[null,"Eólica",17431.845000000001,18906.552,22433.485000000001,28613.578000000001,35233.5,25590.253000000001,56231.544000000002,38386.534,22680.768,19552.138999999999,15309.171,25694.21,17536,22919,37045,26057,34949,31706,57951,48557,26273,19181,16085,18581,12697,16352,39237,36025,31842,39889,59648,61491,17713,33991,22016,25574,23706,17290,24349,46455,32116,20734,55995,57105,22914,12762,24732,20549,11740,14778,23015,32147,36251,38838,47304,42622,35769,14015,17956,16928,11345,24277,22847,23944,19554,37648,55422,51939,31495,25599,15790,34295,18964,33726,33682,30021,26775,44057,57535,54601,12827,17107,16923,15540,24542,28387,13294,27648,38088,48326,41483,42318,24610,24183,27764,23073,30987,34303,45473,"-","-","-","-","-","-","-","-","-"]
[null,"Solar fotovoltaica",36.402000000000001,46.195999999999998,66.179000000000002,67.328000000000003,76.62,77.052999999999997,98.995000000000005,430.70800000000003,484.04,533.36199999999997,462.50200000000001,536.16499999999996,610,833,1268,1459,1737,1692,2046,2433,2017,2022,1635,1621,2022,2658,3713,4145,4312,4894,5548,5693,6152,9825,7689,6849,8709,10847,12492,16156,16219,16256,17530,17568,12555,13377,11497,9124,10698,10306,16328,16499,19138,19607,22480,21526,17621,15830,12519,12614,15178,16843,19656,19729,20773,23349,23817,24739,20929,17684,14494,14948,15775,17812,22971,20588,24922,24995,26401,26274,22978,19036,15836,17793,20253,19458,23739,27142,27705,30692,30982,27021,24092,22163,17678,15206,18547,19879,26997.775000000001,"-","-","-","-","-","-","-","-","-"]
[null,"Térmica renovable",8687.5660000000044,11201.251999999999,21105.335999999999,20726.093999999997,19570.879999999997,20816.694,21169.460999999999,19156.758000000002,13239.191999999999,22026.499000000003,17532.326999999997,22967.625,21162,19576,5693,17196,15807,15288,19273,20695,19120,18295,18031,23147,22239,19665,20200,19685,21462,14780,144,21585,13957,17447,22889,23166,23472,22220,12230,24755,22920,23920,24575,24604,23900,22497,23578,24384,23902,18935,16313,24282,25112,19550,10072,5987,5025,5016,3979,2388,3274,5746,5969,5585,6959,1329,735,722,702,703,749,675,612,490,585,683,648,646,717,724,743,760,586,461,629,698,800,748,799,698,799,712,629,722,511,644,787,707,695,"-","-","-","-","-","-","-","-","-"]
[null,"Cogeneración y resto",2832.1869999999999,0,0,0,0,0,0,0,0,0,0,0,0,0,0,0,0,0,0,0,0,0,0,0,0,0,0,0,0,0,0,0,0,0,0,0,0,0,0,0,10,10,0,0,0,0,0,0,0,0,0,0,0,0,0,0,0,0,0,0,0,0,0,0,0,0,0,0,0,0,0,0,0,0,0,0,0,0,0,0,0,0,0,0,0,0,0,0,0,0,0,0,0,0,0,0,0,0,0,"-","-","-","-","-","-","-","-","-"]
[null,"Régimen especial",{"$f":"SUM(C51:C55)","v":28988},{"$f":"SUM(D51:D55)","v":30154},43605,49407,54881,46484,77500,57974,36404,42112,33304,49198,39308,43328,44006,44712,52493,48686,79352,71875,47657,39590,36029,43636,37245,38919,63390,59855,57801,59878,65645,88866,37822,61263,52594,55589,55896,50521,49246,87416,71265,60920,98100,99277,59369,48636,59807,54057,46340,44019,55656,72928,80501,77995,79856,70135,58415,34861,34454,31930,29797,46866,48474,49497,47451,{"$f":"SUM(BP51:BP55)","v":62457},80219,77579,53327,44224,31197,50029,35467,52028,57401,51539,52564,69905,84716,81830,36770,37109,33385,33871,45649,48748,37970,55675,66884,80002,73550,70337,49623,47372,46246,39229]
[null,"Generación neta",{"$f":"SUM(C49:C50,C56)","v":721656},{"$f":"SUM(D49:D50,D56)","v":650635},721949,691546,712537,717191,763237,777997,780276.12,782325,740570,759575,774529,686709,765112,726315,753142,741534,804357,808193,776993,809223,778825,790132,791816,736142,776191,760328,769863,752650,792961,814722,792310,796936,759405,790140,772574,689141,751990,711598,725737,735727,812222,809817,768926.54200000002,803609,760013.51199999999,765770,753025,671841,750192.48400000005,710654,721405,720684,756089,782540,767688,767830,739657,753129,744879,669319,737070,697547,717490,{"$f":"SUM(BP49:BP50,BP56)","v":726661},763439,776571,762051,780707,737023,757383,758245,709232,743199,690341,722831,726462,769354,796356,762646,764610,719942,727785,731545,661193,713336,697665,705567,685407,749986,770639,723462,749193,711887,724215,724625,659968,715268,"-","-","-","-","-","-","-","-","-"]
[null,"Demanda transporte (b.c.)",{"$f":"C57","v":721656},{"$f":"D57","v":650635},721949,691546,712537,717191,763237,777997,780276.12,782325,740570,759575,774529,686709,765112,726315,753142,741534,804357,808193,776993,809223,778825,790132,791816,736142,776191,760328,769863,752650,792961,814722,792310,796936,759405,790140,772574,689141,751990,711598,725737,735727,812222,809817,768926.54200000002,803609,760013.51199999999,765770,753025,671841,750192.48400000005,710654,721405,720684,756089,782540,767688,767830,739657,753129,744879,669319,737070,697547,717490,{"$f":"BP57","v":726661},763439,776571,762051,780707,737023,757383,758245,709232,743199,690341,722831,726462,769354,796356,762646,764610,719942,727785,731545,661193,713336,697665,705567,685407,749986,770639,723462,749193,711887,724215,724625,659968,715268,"-","-","-","-","-","-","-","-","-"]
[]
[null,"Balance eléctrico Ceuta (MWh)","2007-01-01","2007-02-01","2007-03-01","2007-04-01","2007-05-01","2007-06-01","2007-07-01","2007-08-01","2007-09-01","2007-10-01","2007-11-01","2007-12-01","2008-01-01","2008-02-01","2008-03-01","2008-04-01","2008-05-01","2008-06-01","2008-07-01","2008-08-01","2008-09-01","2008-10-01","2008-11-01","2008-12-01","2009-01-01","2009-02-01","2009-03-01","2009-04-01","2009-05-01","2009-06-01","2009-07-01","2009-08-01","2009-09-01","2009-10-01","2009-11-01","2009-12-01","2010-01-01","2010-02-01","2010-03-01","2010-04-01","2010-05-01","2010-06-01","2010-07-01","2010-08-01","2010-09-01","2010-10-01","2010-11-01","2010-12-01","2011-01-01","2011-02-01","2011-03-01","2011-04-01","2011-05-01","2011-06-01","2011-07-01","2011-08-01","2011-09-01","2011-10-01","2011-11-01","2011-12-01","2012-01-01","2012-02-01","2012-03-01","2012-04-01","2012-05-01","2012-06-01","2012-07-01","2012-08-01","2012-09-01","2012-10-01","2012-11-01","2012-12-01","2013-01-01","2013-02-01","2013-03-01","2013-04-01","2013-05-01","2013-06-01","2013-07-01","2013-08-01","2013-09-01","2013-10-01","2013-11-01","2013-12-01","2014-01-01","2014-02-01","2014-03-01","2014-04-01","2014-05-01","2014-06-01","2014-07-01","2014-08-01","2014-09-01","2014-10-01","2014-11-01","2014-12-01"]
[null,"Motores diesel",18527,16552,17212,16873,17616,17504,18778,18803,18157,18723,18225,19269,19875,18586,18099,17661,18102,18057,19554,19606,18886,18628,18978,21129,21127,18292,18762,16869,17770,18966,20534,18417,19653,19878,17660,19824,18451,18508,19175,17772,18981,19504,21261,22195,20726,20212,19535,19007,18309,16676,18014,16456,17572,19042,20412,20182,18275,19428,18353,19467,20238,19530,19216,18331,19077,19153,19484,20318,18798,19379,18974,19394,19479,16982,16964,16005,17143,17269,19498,20633,18883,18493,19000,20031,20378,18663,19729,"-","-","-","-","-","-","-","-","-"]
[null,"Turbina de gas",0,0,0,0,0,0,0,0,0,0,0,0,0,0,0,0,0,0,0,0,0,0,0,0,0,0,0,0,0,0,160,1866,0,0,1030,210,2052,556,0,148,122,0,0,0,0,0,0,3,27,32,0,0,175,32,21,1,0,4,7,8,0,144,110,10,136,25,17,40,2,58,20,0,36,42,0,33,118,9,0,0,0,0,11,11,3,0,83,"-","-","-","-","-","-","-","-","-"]
[null,"Fuel + Gas",{"$f":"SUM(C61:C62)","v":18527},{"$f":"SUM(D61:D62)","v":16552},17212,16873,17616,17504,18778,18803,18157,18723,18225,19269,19875,18586,18099,17661,18102,18057,19554,19606,18886,18628,18978,21129,21127,18292,18762,16869,17770,18966,20694,20283,19653,19878,18690,20034,20503,19064,19175,17920,19103,19504,21261,22195,20726,20212,19535,19010,18336,16708,18014,16456,17747,19074,20433,20183,18275,19432,18360,19475,20238,19674,19326,18341,19213,19178,19501,20358,18800,19437,18994,19394,19515,17024,16964,16038,17261,17278,19498,20633,18883,18493,19011,20042,20381,18663,19812,"-","-","-","-","-","-","-","-","-"]
[null,"Régimen ordinario",{"$f":"C63","v":18527},{"$f":"D63","v":16552},17212,16873,17616,17504,18778,18803,18157,18723,18225,19269,19875,18586,18099,17661,18102,18057,19554,19606,18886,18628,18978,21129,21127,18292,18762,16869,17770,18966,20694,20283,19653,19878,18690,20034,20503,19064,19175,17920,19103,19504,21261,22195,20726,20212,19535,19010,18336,16708,18014,16456,17747,19074,20433,20183,18275,19432,18360,19475,20238,19674,19326,18341,19213,19178,19501,20358,18800,19437,18994,19394,19515,17024,16964,16038,17261,17278,19498,20633,18883,18493,19011,20042]
[null,"Consumos generación",-540,-483,-502,-1195,-1250,-1279,-1357,-1392,-1345,-1444,-1378,-1430,-1524,-1405,-1362,-1348,-1389,-1395,-1478,-1484,-1480,-1460,-1507,-1658,-1650,-1473,-1549,-1433,-1524,-1655,-1819,-1709,-1705,-1694,-1569,-1669,-1625,-1582,-1731,-1539,-1663,-1740,-1867,-1974,-1815,-1777,-1696,-1666,-1582,-1461,-1584,-1482,-1620,-1717,-1785,-1727,-1587,-1707,-1602,-1662,-1718,-1637,-1697,-1667,-1713,-1689,-1745,-1801,-1676,-1748,-1636,-1652,-1610,-1468,-1551,-1466,-1559,-1514,-1632,-1680,-1558,-1549,-1525,-1569,-1575,-1447,-1171,"-","-","-","-","-","-","-","-","-"]
[null,"Generación neta",{"$f":"SUM(C64:C65)","v":17987},{"$f":"SUM(D64:D65)","v":16069},16710,15678,16366,16225,17421,17411,16812,17279,16847,17839,18351,17181,16737,16313,16713,16662,18076,18122,17406,17168,17471,19471,19477,16819,17213,15436,16246,17311,18875,18574,17948,18184,17121,18365,18878,17482,17444,16381,17440,17764,19394,20221,18911,18435,17839,17344,16754,15247,16430,14974,16127,17357,18648,18456,16688,17725,16758,17813,18520,18037,17629,16674,17500,17489,17756,18557,17124,17689,17358,17742,17905,15556,15413,14572,15702,15764,17866,18953,17325,16944,17486,18473,18806,17216,18641,"-","-","-","-","-","-","-","-","-"]
[null,"Demanda transporte (b.c.)",{"$f":"C66","v":17987},{"$f":"D66","v":16069},16710,15678,16366,16225,17421,17411,16812,17279,16847,17839,18351,17181,16737,16313,16713,16662,18076,18122,17406,17168,17471,19471,19477,16819,17213,15436,16246,17311,18875,18574,17948,18184,17121,18365,18878,17482,17444,16381,17440,17764,19394,20221,18911,18435,17839,17344,16754,15247,16430,14974,16127,17357,18648,18456,16688,17725,16758,17813,18520,18037,17629,16674,17500,17489,17756,18557,17124,17689,17358,17742,17905,15556,15413,14572,15702,15764,17866,18953,17325,16944,17486,18473,18806,17216,18641,"-","-","-","-","-","-","-","-","-"]
[]
[null,"Balance eléctrico Melilla (MWh)","2007-01-01","2007-02-01","2007-03-01","2007-04-01","2007-05-01","2007-06-01","2007-07-01","2007-08-01","2007-09-01","2007-10-01","2007-11-01","2007-12-01","2008-01-01","2008-02-01","2008-03-01","2008-04-01","2008-05-01","2008-06-01","2008-07-01","2008-08-01","2008-09-01","2008-10-01","2008-11-01","2008-12-01","2009-01-01","2009-02-01","2009-03-01","2009-04-01","2009-05-01","2009-06-01","2009-07-01","2009-08-01","2009-09-01","2009-10-01","2009-11-01","2009-12-01","2010-01-01","2010-02-01","2010-03-01","2010-04-01","2010-05-01","2010-06-01","2010-07-01","2010-08-01","2010-09-01","2010-10-01","2010-11-01","2010-12-01","2011-01-01","2011-02-01","2011-03-01","2011-04-01","2011-05-01","2011-06-01","2011-07-01","2011-08-01","2011-09-01","2011-10-01","2011-11-01","2011-12-01","2012-01-01","2012-02-01","2012-03-01","2012-04-01","2012-05-01","2012-06-01","2012-07-01","2012-08-01","2012-09-01","2012-10-01","2012-11-01","2012-12-01","2013-01-01","2013-02-01","2013-03-01","2013-04-01","2013-05-01","2013-06-01","2013-07-01","2013-08-01","2013-09-01","2013-10-01","2013-11-01","2013-12-01","2014-01-01","2014-02-01","2014-03-01","2014-04-01","2014-05-01","2014-06-01","2014-07-01","2014-08-01","2014-09-01","2014-10-01","2014-11-01","2014-12-01"]
[null,"Motores diesel",14694,13024,13918,14325,15554,16248,18463,17772,16723,16935,14995,16556,16498,15461,15261,15415,15973,17041,19212,20395,17939,16737,16380,18762,18828,16142,16501,15152,16289,17247,19978,20566,17505,18417,16429,17192,18036,16219,17497,16096,16783,17877,20156,21875,19003,17949,17924,18781,18314,16710,17498,16000,17394,18556,19991,21461,19210,18691,18039,19586,20201,19637,18799,17123,18315,19556,21399,22303,18906,18683,16741,17824,18335,16623,17002,16231,17180,16896,19401,21004,18900,18002,17795,18195,18284,16212,17756,"-","-","-","-","-","-","-","-","-"]
[null,"Turbina de gas",541,350,416,111,69,1,131,246,40,52,516,494,891,465,520,182,48,145,218,81,227,266,249,9,10,11,82,56,2,67,0,64,82,7,133,61,18,23,3,26,37,98,113,36,40,36,57,42,34,2,6,45,25,37,143,37,11,133,49,11,5,0,0,2,5,9,23,0,74,4,2,18,4,1,0,0,2,0,0,0,0,71,0,16,3,47,5,"-","-","-","-","-","-","-","-","-"]
[null,"Fuel + gas",{"$f":"SUM(C70:C71)","v":15235},{"$f":"SUM(D70:D71)","v":13374},14334,14436,15623,16249,18594,18018,16763,16987,15511,17050,17389,15926,15781,15597,16021,17186,19430,20476,18166,17003,16629,18771,18838,16153,16583,15208,16291,17314,19978,20630,17587,18424,16562,17253,18054,16242,17500,16122,16820,17975,20269,21911,19043,17985,17981,18823,18348,16712,17504,16045,17419,18593,20134,21498,19221,18824,18088,19597,20206,19637,18799,17125,18320,19565,21422,22303,18980,18687,16743,17842,18339,16624,17002,16231,17182,16896,19401,21004,18900,18073,17795,18211,18287,16259,17761,"-","-","-","-","-","-","-","-","-"]
[null,"Régimen ordinario",{"$f":"C72","v":15235},{"$f":"D72","v":13374},14334,14436,15623,16249,18594,18018,16763,16987,15511,17050,17389,15926,15781,15597,16021,17186,19430,20476,18166,17003,16629,18771,18838,16153,16583,15208,16291,17314,19978,20630,17587,18424,16562,17253,18054,16242,17500,16122,16820,17975,20269,21911,19043,17985,17981,18823,18348,16712,17504,16045,17419,18593,20134,21498,19221,18824,18088,19597,20206,19637,18799,17125,18320,19565,21422,22303,18980,18687,16743,17842,18339,16624,17002,16231,17182,16896,19401,21004,18900,18073,17795,18211]
[null,"Consumos generación",-596,-580,-618,-596,-524,-531,-680,-751,-492,-766,-828,-932,-1015,-870,-938,-932,-1004,-1021,-1131,-1174,-1073,-996,-954,-1061,-1075,-953,-1047,-979,-1067,-1068,-1171,-1190,-1067,-1054,-1008,-1044,-1085,-963,-1109,-1089,-1101,-1103,-1195,-1288,-1164,-1130,-1132,-1145,-1162,-1024,-1163,-1111,-1168,-1182,-1257,-1312,-1188,-1219,-1180,-1227,-1219,-1198,-1200,-1115,-1244,-1277,-1354,-1328,-1215,-1229,-1106,-1183,-1224,-1092,-1191,-1084,-1145,-1135,-1223,-1311,-1236,-1187,-1140,-1143,-1165,-1014,-1049,"-","-","-","-","-","-","-","-","-"]
[null,"Solar fotovoltaica",0,0,0,0,0,0,0,0,0,0,0,0,1,0,0,0,0,1,1,1,1,0,1,0,8,17,22,28,9,8,8,8,7,6,0,1,1,5,6,7,9,1,8,9,7,6,5,3,4,7,7,7,8,8,7,6,5,5,4,4,5,7,7,9,9,9,9,8,7,6,4,4,5,5,7,7,9,9,0,0,0,0,0,0,0,0,0,"-","-","-","-","-","-","-","-","-"]
[null,"Térmica no renovable",747,694,836,656,886,845,733,805,275,611,799,853,937,797,849,810,755,694,0,0,0,0,0,0,819,726,782,888,819,747,783,727,707,1,0,736,699,606,781,808,921,710,772,797,897,486,0,551,929,796,861,747,674,670,765,676,693,209,16,0,0,0,0,63,0,0,0,171,552,47,672,804,781,648,605,726,627,794,818,818,748,820,136,727,818,739,816,"-","-","-","-","-","-","-","-","-"]
[null,"Régimen especial",{"$f":"SUM(C75:C76)","v":747},{"$f":"SUM(D75:D76)","v":694},836,656,886,845,733,805,275,611,799,853,938,797,849,810,755,695,1,1,1,0,1,0,827,743,804,916,828,755,791,735,714,7,0,737,700,611,787,815,930,711,780,806,904,492,5,554,933,803,868,754,682,678,772,682,698,214,20,4,5,7,7,72,9,9,9,179,559,53,676,808,786,653,612,733,636,803,818,818,748,820,136,727,818,739,816]
[null,"Generación neta",{"$f":"SUM(C73:C74,C77)","v":15386},{"$f":"SUM(D73:D74,D77)","v":13488},14552,14496,15985,16563,18647,18072,16546,16832,15482,16971,17312,15853,15692,15475,15772,16860,18300,19303,17094,16007,15676,17710,18590,15943,16340,15145,16052,17001,19598,20175,17234,17377,15554,16946,17669,15890,17178,15848,16649,17583,19854,21429,18783,17347,16854,18232,18119,16491,17209,15688,16933,18089,19649,20868,18731,17819,16928,18374,18992,18446,17606,16082,17085,18297,20077,21154,18324,17511,16313,17467,17901,16185,16423,15880,16673,16564,18996,20511,18412,17706,16791,17795,17940,15984,17528,"-","-","-","-","-","-","-","-","-"]
[null,"Demanda transporte (b.c.)",{"$f":"C78","v":15386},{"$f":"D78","v":13488},14552,14496,15985,16563,18647,18072,16546,16832,15482,16971,17312,15853,15692,15475,15772,16860,18300,19303,17094,16007,15676,17710,18590,15943,16340,15145,16052,17001,19598,20175,17234,17377,15554,16946,17669,15890,17178,15848,16649,17583,19854,21429,18783,17347,16854,18232,18119,16491,17209,15688,16933,18089,19649,20868,18731,17819,16928,18374,18992,18446,17606,16082,17085,18297,20077,21154,18324,17511,16313,17467,17901,16185,16423,15880,16673,16564,18996,20511,18412,17706,16791,17795,17940,15984,17528,"-","-","-","-","-","-","-","-","-"]

{"sheet":"Año","index":7,"n_rows":26,"n_cols":2,"rows_kept":26,"cut":false,"hidden":true,"merged":[]}
[]
[null,1990]
[null,1991]
[null,1992]
[null,1993]
[null,1994]
[null,1995]
[null,1996]
[null,1997]
[null,1998]
[null,1999]
[null,2000]
[null,2001]
[null,2002]
[null,2003]
[null,2004]
[null,2005]
[null,2006]
[null,2007]
[null,2008]
[null,2009]
[null,2010]
[null,2011]
[null,2012]
[null,2013]
[null,2014]